PDS_VERSION_ID = PDS3
/* FILE DATA ELEMENTS */
RECORD_TYPE = UNDEFINED
/* POINTERS TO DATA OBJECTS */
^IMAGE = ("HI479_0000_BL4.TIF")
/* IDENTIFICATION DATA ELEMENTS */
DATA_SET_ID = "MEX-M-HRSC-4-REFDR-MAPPROJECT-EXT6-V4.0"
DATA_SET_NAME = "MARS EXPRESS HRSC MAP PROJECTED REFDR EXTENSION6 V4.0"
DETECTOR_ID = MEX_HRSC_BLUE
EVENT_TYPE = "MARS-TERMINATOR-CALIBRATION-Tc"
INSTRUMENT_HOST_ID = MEX
INSTRUMENT_HOST_NAME = "MARS EXPRESS"
INSTRUMENT_ID = HRSC
INSTRUMENT_NAME = "HIGH RESOLUTION STEREO CAMERA"
MISSION_NAME = "MARS EXPRESS"
MISSION_PHASE_NAME = ME_Phase_39
PROCESSING_LEVEL_ID = 4
PRODUCT_CREATION_TIME = 2023-01-29T08:20:11.000Z
PRODUCT_ID = "HI479_0000_BL4.TIF"
RELEASE_ID = 0004
REVISION_ID = 0000
/* QUALITY DATA ELEMENTS */
DATA_QUALITY_ID = 1
DATA_QUALITY_DESC = "Data calculated based on original SPICE kernels"
/* TIME DATA ELEMENTS */
SPACECRAFT_CLOCK_START_COUNT = "1/0481891605.24955"
SPACECRAFT_CLOCK_STOP_COUNT = "1/0481892109.25766"
START_TIME = 2018-08-09T10:48:46.485Z
STOP_TIME = 2018-08-09T10:53:16.495Z
/* ORBITAL DATA ELEMENTS */
ASCENDING_NODE_LONGITUDE = 227.45
MAXIMUM_RESOLUTION = 0.611
FOOTPRINT_POINT_LATITUDE = (2.11491,2.18691,1.5341,1.6069,1.63585, -0.29114,0.901365,-2.19222,-6.49219, -11.7706,-14.4337,-18.661,-21.6894, -24.407,-29.2156,-33.2453,-36.184, -39.7593,-42.7882,-46.7893,-52.4812, -55.9268,-58.3561,-60.9761,-65.051, -68.5421,-70.8799,-73.5796,-75.0685, -75.8294,-76.1194,-75.6816,-74.7398, -72.2403,-68.8422,-65.1225,-61.425, -57.0373,-54.0781,-51.6899,-47.6905, -44.6866,-41.6158,-36.4272,-37.2015, -37.2848,-36.1987,-36.756,-36.9072, -36.5678,-36.6326,-37.153,-37.5258, -36.154,-37.3892,-35.179,-37.9959, -42.6517,-47.7912,-51.7958,-55.2522, -58.5903,-62.856,-65.8934,-69.5692, -71.3563,-73.5949,-75.0653,-75.8933, -75.7248,-74.437,-71.8598,-70.1603, -67.1125,-63.9522,-61.4961,-58.956, -56.7,-51.698,-48.7016,-43.6261, -40.0384,-36.5829,-31.7903,-26.6383, -22.8408,-19.3262,-15.5528,-11.9052, -8.753,-5.72662,-1.63127,0.812974, -0.311323,1.05942,1.99787,2.00004, 1.80368,2.11491)
FOOTPRINT_POINT_LONGITUDE = (226.633,226.648,228.662,233.373, 237.015,240.362,243.705,243.846,243.473 ,243.164,243.065,242.996,243.015, 243.082,243.33,243.686,244.051,244.628, 245.262,246.341,248.53,250.4,252.017, 254.197,258.849,264.825,270.679,281.371 ,291.598,301.301,313.818,326.546, 336.576,350.087,0.00492344,6.5686, 10.9824,14.642,16.4841,17.7122,19.3593, 20.3593,21.189,22.243,26.0639,29.7903, 33.5786,42.1656,42.5455,45.7832,49.0477 ,52.1548,55.284,60.4238,64.1335,67.1828 ,68.0649,69.1057,70.7177,72.4161, 74.2824,76.6215,80.7532,84.8921,92.2445 ,97.488,107.23,118.441,134.397,146.302, 161.695,175.127,180.59,187.439,192.301, 195.148,197.484,199.185,202.049,203.345 ,204.998,205.869,206.52,207.185,207.652 ,207.851,207.943,207.939,207.85,207.709 ,207.516,207.173,210.195,212.698, 217.068,219.718,223.661,224.134, 226.633)
ORBIT_NUMBER = 18479
ORBITAL_ECCENTRICITY = 0.574
ORBITAL_INCLINATION = 86.96
ORBITAL_SEMIMAJOR_AXIS = 8817.42
PERIAPSIS_ALTITUDE = 365.91
PERIAPSIS_ARGUMENT_ANGLE = 35.17
PERIAPSIS_TIME = 2018-08-09T12:31:28.000Z
SPACECRAFT_ORIENTATION = (0.0,1.0,0.0)
^MEX_ORIENTATION_DESC = "MEX_ORIENTATION_DESC.TXT"
SPACECRAFT_POINTING_MODE = FIXED
^MEX_POINTING_DESC = "MEX_POINTING_DESC.TXT"
RIGHT_ASCENSION = -1e+32
DECLINATION = -1e+32
OFFSET_ANGLE = -1e+32
SPACECRAFT_SOLAR_DISTANCE = 2.08198e+08
TARGET_NAME = MARS
/* CAMERA DATA ELEMENTS */
DETECTOR_TEMPERATURE = 18.3705
FOCAL_PLANE_TEMPERATURE = 9.3989
INST_CMPRS_NAME = "DISCRETE COSINE TRANSFORMATION (DCT)"
INST_CMPRS_RATIO = 4.19333
INST_CMPRS_QUALITY = 0
INST_CMPRS_QUANTZ_TBL_ID = 0
INSTRUMENT_TEMPERATURE = 11.6418
LENS_TEMPERATURE = 9.6028
MACROPIXEL_SIZE = 2
MISSING_FRAMES = 0
PIXEL_SUBSAMPLING_FLAG = N
SIGNAL_CHAIN_ID = 2
/* RADIOMETRIC DATA ELEMENTS */
BANDWIDTH = 76.0
CENTER_FILTER_WAVELENGTH = 444.0
RADIANCE_OFFSET = 0.0
RADIANCE_SCALING_FACTOR = 0.0171332
REFLECTANCE_SCALING_FACTOR = 0.00076308
MEX:REFLECTANCE_OFFSET = 0.0
/* IMAGE OBJECT DEFINITIONS */
OBJECT = IMAGE
  INTERCHANGE_FORMAT = BINARY
  LINES = 8101
  LINE_SAMPLES = 2746
  SAMPLE_TYPE = UNSIGNED_INTEGER
  SAMPLE_BITS = 8
  BANDS = 1
  BAND_STORAGE_TYPE = BAND_SEQUENTIAL
  MAXIMUM = 255
  MEAN = 74.8062
  MINIMUM = 1
  STANDARD_DEVIATION = 47.8635
END_OBJECT = IMAGE
/* MAP OBJECT DEFINITIONS */
OBJECT = IMAGE_MAP_PROJECTION
  ^DATA_SET_MAP_PROJECTION_CATALOG= "DSMAP.CAT"
  A_AXIS_RADIUS = 3396.0
  B_AXIS_RADIUS = 3396.0
  C_AXIS_RADIUS = 3396.0
  CENTER_LATITUDE = -71.4221
  CENTER_LONGITUDE = 224.804
  COORDINATE_SYSTEM_NAME = PLANETOGRAPHIC
  COORDINATE_SYSTEM_TYPE = "BODY-FIXED ROTATING"
  EASTERNMOST_LONGITUDE = 360.0
  FIRST_STANDARD_PARALLEL = "N/A"
  LINE_FIRST_PIXEL = 1
  LINE_LAST_PIXEL = 8101
  LINE_PROJECTION_OFFSET = 4063.0
  MAP_PROJECTION_ROTATION = 0.0
  MAP_PROJECTION_TYPE = ORTHOGRAPHIC
  MAP_RESOLUTION = 74.08922548333329
  MAP_SCALE = 0.8
  MAXIMUM_LATITUDE = 2.18691
  MINIMUM_LATITUDE = -90.0
  POSITIVE_LONGITUDE_DIRECTION = EAST
  REFERENCE_LATITUDE = "N/A"
  REFERENCE_LONGITUDE = "N/A"
  SAMPLE_FIRST_PIXEL = 1
  SAMPLE_LAST_PIXEL = 2746
  SAMPLE_PROJECTION_OFFSET = 1335.0
  SECOND_STANDARD_PARALLEL = "N/A"
  WESTERNMOST_LONGITUDE = 0.0
END_OBJECT = IMAGE_MAP_PROJECTION
END
