PDS_VERSION_ID = PDS3
/* FILE DATA ELEMENTS */
RECORD_TYPE = UNDEFINED
/* POINTERS TO DATA OBJECTS */
^IMAGE = ("HI589_0000_IR4.TIF")
/* IDENTIFICATION DATA ELEMENTS */
DATA_SET_ID = "MEX-M-HRSC-4-REFDR-MAPPROJECT-EXT6-V4.0"
DATA_SET_NAME = "MARS EXPRESS HRSC MAP PROJECTED REFDR EXTENSION6 V4.0"
DETECTOR_ID = MEX_HRSC_IR
EVENT_TYPE = "MARS-TERMINATOR-CALIBRATION-Tc"
INSTRUMENT_HOST_ID = MEX
INSTRUMENT_HOST_NAME = "MARS EXPRESS"
INSTRUMENT_ID = HRSC
INSTRUMENT_NAME = "HIGH RESOLUTION STEREO CAMERA"
MISSION_NAME = "MARS EXPRESS"
MISSION_PHASE_NAME = ME_Phase_39
PROCESSING_LEVEL_ID = 4
PRODUCT_CREATION_TIME = 2023-01-29T14:35:52.000Z
PRODUCT_ID = "HI589_0000_IR4.TIF"
RELEASE_ID = 0005
REVISION_ID = 0000
/* QUALITY DATA ELEMENTS */
DATA_QUALITY_ID = 1
DATA_QUALITY_DESC = "Data calculated based on original SPICE kernels"
/* TIME DATA ELEMENTS */
SPACECRAFT_CLOCK_START_COUNT = "1/0484656735.25673"
SPACECRAFT_CLOCK_STOP_COUNT = "1/0484657294.06618"
START_TIME = 2018-09-10T10:52:46.578Z
STOP_TIME = 2018-09-10T10:57:41.714Z
/* ORBITAL DATA ELEMENTS */
ASCENDING_NODE_LONGITUDE = 225.4
MAXIMUM_RESOLUTION = 0.3144
FOOTPRINT_POINT_LATITUDE = (-55.9851,-55.9537,-61.6944,-57.3082, -58.6664,-58.7497,-60.8872,-63.3177, -67.0396,-70.3534,-72.8413,-77.2136, -80.2037,-82.6002,-84.4255,-85.5981, -84.7383,-82.1872,-79.3578,-76.4174, -73.7588,-71.2123,-66.6754,-61.6995, -55.474,-51.3749,-48.7376,-45.9538, -42.0407,-39.1293,-33.7491,-30.1761, -27.5389,-24.9218,-20.3174,-17.0638, -12.8792,-8.66163,-5.81073,-2.61616, 1.42121,4.04892,7.65395,10.4652,13.3005 ,15.4496,16.3088,17.3014,17.9453, 18.5776,19.178,19.4507,19.3964,19.5891, 19.7218,19.3449,17.8809,11.7693,8.52726 ,5.98262,1.98953,-1.19596,-3.91778, -9.30923,-13.0879,-16.1896,-20.783, -24.4044,-26.6874,-30.6992,-34.8036, -37.4375,-40.8193,-43.4941,-47.0953, -49.2813,-51.7374,-54.3254,-56.9944, -59.8905,-61.0892,-62.4352,-63.17, -63.5913,-63.2929,-62.8262,-62.0658, -60.9072,-59.2177,-56.5762,-54.5866, -51.4163,-47.7959,-50.0255,-50.9445, -53.3335,-54.9425,-63.0031,-55.9851)
FOOTPRINT_POINT_LONGITUDE = (353.798,353.768,359.973,346.681, 336.008,329.149,323.936,323.491,322.447 ,321.014,319.427,314.764,308.629, 299.196,283.96,244.469,213.498,191.593, 182.205,177.145,174.358,172.567,170.56, 169.387,168.746,168.633,168.652,168.737 ,168.963,169.192,169.73,170.158,170.511 ,170.892,171.638,172.227,173.05,173.931 ,174.612,175.402,176.488,177.25,178.377 ,179.326,180.357,177.068,173.831, 169.095,167.299,164.514,160.656,160.617 ,160.16,157.271,151.69,148.098,143.622, 143.72,143.675,143.599,143.402,143.173, 142.926,142.294,141.721,141.149,140.128 ,139.154,138.44,137.002,135.2,133.828, 131.78,129.857,126.73,124.433,121.393, 117.471,112.279,104.366,99.7664,92.5444 ,86.1533,76.7179,67.551,62.5465,57.222, 51.5264,45.4787,38.6867,34.7682,29.8207 ,25.3208,17.809,14.485,9.1772,1.09191, 359.98,353.798)
ORBIT_NUMBER = 18589
ORBITAL_ECCENTRICITY = 0.576
ORBITAL_INCLINATION = 86.95
ORBITAL_SEMIMAJOR_AXIS = 8841.57
PERIAPSIS_ALTITUDE = 353.99
PERIAPSIS_ARGUMENT_ANGLE = 16.13
PERIAPSIS_TIME = 2018-09-10T12:39:17.000Z
SPACECRAFT_ORIENTATION = (0.0,1.0,0.0)
^MEX_ORIENTATION_DESC = "MEX_ORIENTATION_DESC.TXT"
SPACECRAFT_POINTING_MODE = FIXED
^MEX_POINTING_DESC = "MEX_POINTING_DESC.TXT"
RIGHT_ASCENSION = -1e+32
DECLINATION = -1e+32
OFFSET_ANGLE = -1e+32
SPACECRAFT_SOLAR_DISTANCE = 2.067e+08
TARGET_NAME = MARS
/* CAMERA DATA ELEMENTS */
DETECTOR_TEMPERATURE = 18.3705
FOCAL_PLANE_TEMPERATURE = 11.234
INST_CMPRS_NAME = "DISCRETE COSINE TRANSFORMATION (DCT)"
INST_CMPRS_RATIO = 6.51392
INST_CMPRS_QUALITY = 0
INST_CMPRS_QUANTZ_TBL_ID = 0
INSTRUMENT_TEMPERATURE = 12.0496
LENS_TEMPERATURE = 11.6418
MACROPIXEL_SIZE = 1
MISSING_FRAMES = 0
PIXEL_SUBSAMPLING_FLAG = N
SIGNAL_CHAIN_ID = 3
/* RADIOMETRIC DATA ELEMENTS */
BANDWIDTH = 81.0
CENTER_FILTER_WAVELENGTH = 955.5
RADIANCE_OFFSET = 0.0
RADIANCE_SCALING_FACTOR = 0.0153118
REFLECTANCE_SCALING_FACTOR = 0.00141136
MEX:REFLECTANCE_OFFSET = 0.0
/* IMAGE OBJECT DEFINITIONS */
OBJECT = IMAGE
  INTERCHANGE_FORMAT = BINARY
  LINES = 15962
  LINE_SAMPLES = 9173
  SAMPLE_TYPE = UNSIGNED_INTEGER
  SAMPLE_BITS = 8
  BANDS = 1
  BAND_STORAGE_TYPE = BAND_SEQUENTIAL
  MAXIMUM = 255
  MEAN = 124.464
  MINIMUM = 1
  STANDARD_DEVIATION = 57.8851
END_OBJECT = IMAGE
/* MAP OBJECT DEFINITIONS */
OBJECT = IMAGE_MAP_PROJECTION
  ^DATA_SET_MAP_PROJECTION_CATALOG= "DSMAP.CAT"
  A_AXIS_RADIUS = 3396.0
  B_AXIS_RADIUS = 3396.0
  C_AXIS_RADIUS = 3396.0
  CENTER_LATITUDE = -51.1767
  CENTER_LONGITUDE = 148.277
  COORDINATE_SYSTEM_NAME = PLANETOGRAPHIC
  COORDINATE_SYSTEM_TYPE = "BODY-FIXED ROTATING"
  EASTERNMOST_LONGITUDE = 360.0
  FIRST_STANDARD_PARALLEL = "N/A"
  LINE_FIRST_PIXEL = 1
  LINE_LAST_PIXEL = 15962
  LINE_PROJECTION_OFFSET = 7936.0
  MAP_PROJECTION_ROTATION = 0.0
  MAP_PROJECTION_TYPE = ORTHOGRAPHIC
  MAP_RESOLUTION = 148.178450966667
  MAP_SCALE = 0.4
  MAXIMUM_LATITUDE = 19.7218
  MINIMUM_LATITUDE = -90.0
  POSITIVE_LONGITUDE_DIRECTION = EAST
  REFERENCE_LATITUDE = "N/A"
  REFERENCE_LONGITUDE = "N/A"
  SAMPLE_FIRST_PIXEL = 1
  SAMPLE_LAST_PIXEL = 9173
  SAMPLE_PROJECTION_OFFSET = 4668.0
  SECOND_STANDARD_PARALLEL = "N/A"
  WESTERNMOST_LONGITUDE = 0.0
END_OBJECT = IMAGE_MAP_PROJECTION
END
