PDS_VERSION_ID = PDS3
/* FILE DATA ELEMENTS */
RECORD_TYPE = UNDEFINED
/* POINTERS TO DATA OBJECTS */
^IMAGE = ("HI591_0000_RE4.TIF")
/* IDENTIFICATION DATA ELEMENTS */
DATA_SET_ID = "MEX-M-HRSC-4-REFDR-MAPPROJECT-EXT6-V4.0"
DATA_SET_NAME = "MARS EXPRESS HRSC MAP PROJECTED REFDR EXTENSION6 V4.0"
DETECTOR_ID = MEX_HRSC_RED
EVENT_TYPE = "MARS-TERMINATOR-CALIBRATION-Tc"
INSTRUMENT_HOST_ID = MEX
INSTRUMENT_HOST_NAME = "MARS EXPRESS"
INSTRUMENT_ID = HRSC
INSTRUMENT_NAME = "HIGH RESOLUTION STEREO CAMERA"
MISSION_NAME = "MARS EXPRESS"
MISSION_PHASE_NAME = ME_Phase_39
PROCESSING_LEVEL_ID = 4
PRODUCT_CREATION_TIME = 2023-01-29T14:35:52.000Z
PRODUCT_ID = "HI591_0000_RE4.TIF"
RELEASE_ID = 0005
REVISION_ID = 0000
/* QUALITY DATA ELEMENTS */
DATA_QUALITY_ID = 1
DATA_QUALITY_DESC = "Data calculated based on original SPICE kernels"
/* TIME DATA ELEMENTS */
SPACECRAFT_CLOCK_START_COUNT = "1/0484706597.24906"
SPACECRAFT_CLOCK_STOP_COUNT = "1/0484707144.15310"
START_TIME = 2018-09-11T00:48:02.611Z
STOP_TIME = 2018-09-11T00:52:53.321Z
/* ORBITAL DATA ELEMENTS */
ASCENDING_NODE_LONGITUDE = 225.37
MAXIMUM_RESOLUTION = 0.3195
FOOTPRINT_POINT_LATITUDE = (-56.5917,-56.5346,-58.1955,-59.4391, -59.2757,-59.7118,-60.4381,-63.2029, -67.6506,-71.137,-75.9061,-80.5565, -83.2463,-85.581,-84.2591,-80.1521, -76.8578,-74.5733,-72.0461,-69.1501, -64.7256,-60.6656,-57.8651,-55.3795, -52.251,-48.5952,-44.5045,-38.7744, -34.966,-32.3522,-29.147,-26.5958, -22.5486,-17.3502,-13.2689,-9.63857, -5.57907,-1.0338,1.7031,6.03852,9.55986 ,11.9537,14.7652,16.1352,17.4996, 17.9065,19.4956,19.8462,18.5811,20.6832 ,21.1063,20.8572,21.2814,21.8015, 21.2745,21.3616,17.2933,12.4278,9.35256 ,4.88698,1.81829,-0.796492,-4.6018, -7.8545,-11.6255,-14.7561,-18.3385, -20.5878,-23.6546,-28.3947,-31.1369, -34.6676,-36.7967,-41.2375,-44.7984, -47.1427,-50.7254,-52.6247,-55.7715, -57.2193,-59.7082,-60.9449,-61.7989, -62.5875,-62.9637,-62.7196,-62.0969, -60.6655,-59.2941,-56.8978,-53.8047, -51.0742,-47.8322,-49.6085,-50.9718, -52.8021,-54.2978,-55.4166,-56.5917)
FOOTPRINT_POINT_LONGITUDE = (154.404,154.353,148.748,139.896, 132.078,127.639,121.212,120.47,119.3, 117.728,113.791,105.041,92.5779,49.9856 ,4.71772,342.125,335.709,333.105, 331.152,329.657,328.274,327.591,327.366 ,327.236,327.242,327.361,327.645, 328.201,328.688,329.078,329.585,330.031 ,330.808,331.915,332.869,333.797, 334.939,336.315,337.229,338.788,340.185 ,341.217,337.653,335.07,331.785,327.621 ,326.065,323.978,320.472,318.912, 318.907,318.4,315.806,312.621,308.315, 305.047,304.532,304.314,304.114,303.736 ,303.418,303.105,302.577,302.052, 301.346,300.671,299.793,299.17,298.222, 296.504,295.33,293.608,292.421,289.495, 286.582,284.294,280.015,277.227,271.524 ,268.163,260.628,255.341,250.422, 243.453,235.392,226.073,219.528,211.007 ,205.536,198.581,192.142,187.789, 182.924,180.064,175.784,169.938,165.724 ,161.968,154.404)
ORBIT_NUMBER = 18591
ORBITAL_ECCENTRICITY = 0.576
ORBITAL_INCLINATION = 86.95
ORBITAL_SEMIMAJOR_AXIS = 8846.9
PERIAPSIS_ALTITUDE = 353.5
PERIAPSIS_ARGUMENT_ANGLE = 15.74
PERIAPSIS_TIME = 2018-09-11T02:37:12.000Z
SPACECRAFT_ORIENTATION = (0.0,1.0,0.0)
^MEX_ORIENTATION_DESC = "MEX_ORIENTATION_DESC.TXT"
SPACECRAFT_POINTING_MODE = FIXED
^MEX_POINTING_DESC = "MEX_POINTING_DESC.TXT"
RIGHT_ASCENSION = -1e+32
DECLINATION = -1e+32
OFFSET_ANGLE = -1e+32
SPACECRAFT_SOLAR_DISTANCE = 2.06693e+08
TARGET_NAME = MARS
/* CAMERA DATA ELEMENTS */
DETECTOR_TEMPERATURE = 20.0017
FOCAL_PLANE_TEMPERATURE = 11.234
INST_CMPRS_NAME = "DISCRETE COSINE TRANSFORMATION (DCT)"
INST_CMPRS_RATIO = 8.59852
INST_CMPRS_QUALITY = 0
INST_CMPRS_QUANTZ_TBL_ID = 0
INSTRUMENT_TEMPERATURE = 12.2535
LENS_TEMPERATURE = 11.0301
MACROPIXEL_SIZE = 1
MISSING_FRAMES = 0
PIXEL_SUBSAMPLING_FLAG = N
SIGNAL_CHAIN_ID = 0
/* RADIOMETRIC DATA ELEMENTS */
BANDWIDTH = 48.0
CENTER_FILTER_WAVELENGTH = 748.0
RADIANCE_OFFSET = 0.0
RADIANCE_SCALING_FACTOR = 0.0187737
REFLECTANCE_SCALING_FACTOR = 0.00183032
MEX:REFLECTANCE_OFFSET = 0.0
/* IMAGE OBJECT DEFINITIONS */
OBJECT = IMAGE
  INTERCHANGE_FORMAT = BINARY
  LINES = 16067
  LINE_SAMPLES = 10036
  SAMPLE_TYPE = UNSIGNED_INTEGER
  SAMPLE_BITS = 8
  BANDS = 1
  BAND_STORAGE_TYPE = BAND_SEQUENTIAL
  MAXIMUM = 255
  MEAN = 111.5
  MINIMUM = 1
  STANDARD_DEVIATION = 51.5016
END_OBJECT = IMAGE
/* MAP OBJECT DEFINITIONS */
OBJECT = IMAGE_MAP_PROJECTION
  ^DATA_SET_MAP_PROJECTION_CATALOG= "DSMAP.CAT"
  A_AXIS_RADIUS = 3396.0
  B_AXIS_RADIUS = 3396.0
  C_AXIS_RADIUS = 3396.0
  CENTER_LATITUDE = -47.8471
  CENTER_LONGITUDE = 305.304
  COORDINATE_SYSTEM_NAME = PLANETOGRAPHIC
  COORDINATE_SYSTEM_TYPE = "BODY-FIXED ROTATING"
  EASTERNMOST_LONGITUDE = 360.0
  FIRST_STANDARD_PARALLEL = "N/A"
  LINE_FIRST_PIXEL = 1
  LINE_LAST_PIXEL = 16067
  LINE_PROJECTION_OFFSET = 8009.0
  MAP_PROJECTION_ROTATION = 0.0
  MAP_PROJECTION_TYPE = ORTHOGRAPHIC
  MAP_RESOLUTION = 148.178450966667
  MAP_SCALE = 0.4
  MAXIMUM_LATITUDE = 21.8015
  MINIMUM_LATITUDE = -90.0
  POSITIVE_LONGITUDE_DIRECTION = EAST
  REFERENCE_LATITUDE = "N/A"
  REFERENCE_LONGITUDE = "N/A"
  SAMPLE_FIRST_PIXEL = 1
  SAMPLE_LAST_PIXEL = 10036
  SAMPLE_PROJECTION_OFFSET = 5088.0
  SECOND_STANDARD_PARALLEL = "N/A"
  WESTERNMOST_LONGITUDE = 0.0
END_OBJECT = IMAGE_MAP_PROJECTION
END
