PDS_VERSION_ID = PDS3
/* FILE DATA ELEMENTS */
RECORD_TYPE = UNDEFINED
/* POINTERS TO DATA OBJECTS */
^IMAGE = ("HI670_0000_GR4.TIF")
/* IDENTIFICATION DATA ELEMENTS */
DATA_SET_ID = "MEX-M-HRSC-4-REFDR-MAPPROJECT-EXT6-V4.0"
DATA_SET_NAME = "MARS EXPRESS HRSC MAP PROJECTED REFDR EXTENSION6 V4.0"
DETECTOR_ID = MEX_HRSC_GREEN
EVENT_TYPE = "MARS-TERMINATOR-CALIBRATION-Tc"
INSTRUMENT_HOST_ID = MEX
INSTRUMENT_HOST_NAME = "MARS EXPRESS"
INSTRUMENT_ID = HRSC
INSTRUMENT_NAME = "HIGH RESOLUTION STEREO CAMERA"
MISSION_NAME = "MARS EXPRESS"
MISSION_PHASE_NAME = ME_Phase_39
PROCESSING_LEVEL_ID = 4
PRODUCT_CREATION_TIME = 2023-01-29T14:35:52.000Z
PRODUCT_ID = "HI670_0000_GR4.TIF"
RELEASE_ID = 0005
REVISION_ID = 0000
/* QUALITY DATA ELEMENTS */
DATA_QUALITY_ID = 1
DATA_QUALITY_DESC = "Data calculated based on original SPICE kernels"
/* TIME DATA ELEMENTS */
SPACECRAFT_CLOCK_START_COUNT = "1/0486689170.23963"
SPACECRAFT_CLOCK_STOP_COUNT = "1/0486689663.20592"
START_TIME = 2018-10-03T23:28:20.703Z
STOP_TIME = 2018-10-03T23:32:19.584Z
/* ORBITAL DATA ELEMENTS */
ASCENDING_NODE_LONGITUDE = 223.89
MAXIMUM_RESOLUTION = 0.8053
FOOTPRINT_POINT_LATITUDE = (-56.0786,-56.0899,-57.288,-60.783, -64.2915,-69.2428,-72.5802,-76.1282, -75.9001,-74.4856,-70.6123,-66.8304, -63.8123,-61.4716,-58.4974,-54.1938, -50.6119,-46.6569,-43.8701,-40.8073, -37.2435,-32.9043,-30.2791,-27.1098, -24.7385,-20.4029,-17.4588,-13.7986, -11.1188,-9.07719,-5.64605,-2.63238, 0.60427,2.39924,4.82521,7.47328,9.24896 ,11.4863,13.2073,15.984,17.7028,20.021, 21.8862,24.4818,26.0456,28.6875,29.7121 ,32.9133,35.5805,39.4953,41.3788, 45.1115,47.7104,49.5801,50.5304,52.4837 ,55.7561,55.6528,53.0217,48.7109, 43.8029,39.3306,35.849,32.9082,30.3213, 27.9919,24.7292,20.6007,16.0832,13.1753 ,9.23656,5.36258,2.79814,-1.11904, -3.681,-7.34045,-10.3532,-12.2524, -15.2694,-16.9635,-18.9102,-21.556, -23.7686,-26.4167,-27.3521,-28.2667, -29.2023,-30.0466,-30.5148,-30.5672, -30.4076,-30.0958,-33.1668,-36.9661, -40.7745,-43.9889,-47.0583,-51.5229, -53.4184,-56.0786)
FOOTPRINT_POINT_LONGITUDE = (85.5916,85.4049,87.0525,87.6612, 86.1313,86.9683,91.6996,89.6964,102.857 ,116.035,134.069,144.03,149.752,153.397 ,157.369,162.201,165.66,169.09,171.327, 173.674,176.29,179.35,181.167,183.339, 184.974,187.985,190.074,192.753,194.769 ,196.348,199.115,201.654,204.562, 206.281,208.698,211.513,213.532,216.247 ,218.486,222.365,224.949,229.115, 233.093,233.976,231.047,231.9,228.858, 227.588,227.461,223.025,222.121,217.149 ,215.009,210.771,207.227,202.056, 197.804,191.208,189.27,186.409,183.431, 180.881,178.958,177.358,175.959,174.697 ,172.915,170.617,168.009,166.261, 163.778,161.179,159.353,156.366,154.265 ,150.978,148.018,145.985,142.404, 140.177,137.385,133.056,128.78,122.39, 119.564,116.349,112.246,106.939,101.17, 96.6084,92.8206,89.4186,88.9205,90.5967 ,88.1504,89.1933,87.9322,87.8654, 86.5933,85.5916)
ORBIT_NUMBER = 18670
ORBITAL_ECCENTRICITY = 0.577
ORBITAL_INCLINATION = 86.95
ORBITAL_SEMIMAJOR_AXIS = 8846.94
PERIAPSIS_ALTITUDE = 346.54
PERIAPSIS_ARGUMENT_ANGLE = 2.09
PERIAPSIS_TIME = 2018-10-04T02:16:40.000Z
SPACECRAFT_ORIENTATION = (0.0,1.0,0.0)
^MEX_ORIENTATION_DESC = "MEX_ORIENTATION_DESC.TXT"
SPACECRAFT_POINTING_MODE = FIXED
^MEX_POINTING_DESC = "MEX_POINTING_DESC.TXT"
RIGHT_ASCENSION = -1e+32
DECLINATION = -1e+32
OFFSET_ANGLE = -1e+32
SPACECRAFT_SOLAR_DISTANCE = 2.06993e+08
TARGET_NAME = MARS
/* CAMERA DATA ELEMENTS */
DETECTOR_TEMPERATURE = 19.1861
FOCAL_PLANE_TEMPERATURE = 11.234
INST_CMPRS_NAME = "DISCRETE COSINE TRANSFORMATION (DCT)"
INST_CMPRS_RATIO = 10.3969
INST_CMPRS_QUALITY = 0
INST_CMPRS_QUANTZ_TBL_ID = 0
INSTRUMENT_TEMPERATURE = 12.2535
LENS_TEMPERATURE = 11.8457
MACROPIXEL_SIZE = 2
MISSING_FRAMES = 0
PIXEL_SUBSAMPLING_FLAG = N
SIGNAL_CHAIN_ID = 2
/* RADIOMETRIC DATA ELEMENTS */
BANDWIDTH = 88.0
CENTER_FILTER_WAVELENGTH = 538.0
RADIANCE_OFFSET = 0.0
RADIANCE_SCALING_FACTOR = 0.0187513
REFLECTANCE_SCALING_FACTOR = 0.000691696
MEX:REFLECTANCE_OFFSET = 0.0
/* IMAGE OBJECT DEFINITIONS */
OBJECT = IMAGE
  INTERCHANGE_FORMAT = BINARY
  LINES = 7951
  LINE_SAMPLES = 7192
  SAMPLE_TYPE = UNSIGNED_INTEGER
  SAMPLE_BITS = 8
  BANDS = 1
  BAND_STORAGE_TYPE = BAND_SEQUENTIAL
  MAXIMUM = 255
  MEAN = 91.7062
  MINIMUM = 1
  STANDARD_DEVIATION = 71.4218
END_OBJECT = IMAGE
/* MAP OBJECT DEFINITIONS */
OBJECT = IMAGE_MAP_PROJECTION
  ^DATA_SET_MAP_PROJECTION_CATALOG= "DSMAP.CAT"
  A_AXIS_RADIUS = 3396.0
  B_AXIS_RADIUS = 3396.0
  C_AXIS_RADIUS = 3396.0
  CENTER_LATITUDE = -14.612
  CENTER_LONGITUDE = 169.404
  COORDINATE_SYSTEM_NAME = PLANETOGRAPHIC
  COORDINATE_SYSTEM_TYPE = "BODY-FIXED ROTATING"
  EASTERNMOST_LONGITUDE = 233.976
  FIRST_STANDARD_PARALLEL = "N/A"
  LINE_FIRST_PIXEL = 1
  LINE_LAST_PIXEL = 7951
  LINE_PROJECTION_OFFSET = 3971.25
  MAP_PROJECTION_ROTATION = 0.0
  MAP_PROJECTION_TYPE = ORTHOGRAPHIC
  MAP_RESOLUTION = 74.08922548333329
  MAP_SCALE = 0.8
  MAXIMUM_LATITUDE = 55.7561
  MINIMUM_LATITUDE = -76.12820000000001
  POSITIVE_LONGITUDE_DIRECTION = EAST
  REFERENCE_LATITUDE = "N/A"
  REFERENCE_LONGITUDE = "N/A"
  SAMPLE_FIRST_PIXEL = 1
  SAMPLE_LAST_PIXEL = 7192
  SAMPLE_PROJECTION_OFFSET = 3609.25
  SECOND_STANDARD_PARALLEL = "N/A"
  WESTERNMOST_LONGITUDE = 85.4049
END_OBJECT = IMAGE_MAP_PROJECTION
END
