PDS_VERSION_ID = PDS3
/* FILE DATA ELEMENTS */
RECORD_TYPE = UNDEFINED
/* POINTERS TO DATA OBJECTS */
^IMAGE = ("HI671_0000_GR4.TIF")
/* IDENTIFICATION DATA ELEMENTS */
DATA_SET_ID = "MEX-M-HRSC-4-REFDR-MAPPROJECT-EXT6-V4.0"
DATA_SET_NAME = "MARS EXPRESS HRSC MAP PROJECTED REFDR EXTENSION6 V4.0"
DETECTOR_ID = MEX_HRSC_GREEN
EVENT_TYPE = "MARS-TERMINATOR-CALIBRATION-Tc"
INSTRUMENT_HOST_ID = MEX
INSTRUMENT_HOST_NAME = "MARS EXPRESS"
INSTRUMENT_ID = HRSC
INSTRUMENT_NAME = "HIGH RESOLUTION STEREO CAMERA"
MISSION_NAME = "MARS EXPRESS"
MISSION_PHASE_NAME = ME_Phase_39
PROCESSING_LEVEL_ID = 4
PRODUCT_CREATION_TIME = 2023-01-29T14:35:52.000Z
PRODUCT_ID = "HI671_0000_GR4.TIF"
RELEASE_ID = 0005
REVISION_ID = 0000
/* QUALITY DATA ELEMENTS */
DATA_QUALITY_ID = 1
DATA_QUALITY_DESC = "Data calculated based on original SPICE kernels"
/* TIME DATA ELEMENTS */
SPACECRAFT_CLOCK_START_COUNT = "1/0486718646.23989"
SPACECRAFT_CLOCK_STOP_COUNT = "1/0486719222.19768"
START_TIME = 2018-10-04T07:39:38.596Z
STOP_TIME = 2018-10-04T07:44:51.634Z
/* ORBITAL DATA ELEMENTS */
ASCENDING_NODE_LONGITUDE = 223.88
MAXIMUM_RESOLUTION = 0.5798
FOOTPRINT_POINT_LATITUDE = (-64.3624,-64.2889,-63.81,-65.0815, -66.7696,-67.8024,-69.0977,-68.2649, -72.7212,-76.346,-81.1698,-86.1419, -88.4335,-84.2228,-80.8898,-76.0326, -71.2227,-67.8131,-64.3604,-60.4427, -57.0125,-53.3379,-50.6323,-47.9806, -44.5889,-41.2245,-36.2695,-30.9176, -27.3735,-23.1515,-18.5705,-15.3412, -10.8946,-8.03011,-4.07552,-0.780178, 2.06201,6.12299,8.90025,12.6674,17.4904 ,19.8716,19.4897,21.6432,22.3732, 23.1264,24.6468,24.8742,25.3073,25.615, 26.2582,26.5828,26.7925,27.5532,26.8607 ,26.6649,27.1567,25.3993,21.6958, 19.1605,16.2262,11.2123,8.09811,5.71798 ,2.32455,-0.517842,-3.41571,-8.90492, -13.2025,-16.5391,-19.2377,-23.886, -27.4554,-31.1378,-33.3318,-37.2271, -40.8357,-43.6334,-45.7847,-48.9709, -51.1472,-53.4132,-55.7664,-57.7391, -58.9903,-59.8458,-59.9269,-59.404, -58.518,-56.6218,-53.8889,-51.7577, -53.4607,-54.2037,-57.8704,-59.5166, -61.9544,-63.2838,-64.3624)
FOOTPRINT_POINT_LONGITUDE = (269.897,269.764,272.544,267.727, 261.434,255.26,250.217,237.284,231.07, 230.308,227.631,215.58,128.221,74.2068, 69.3217,66.7809,66.0163,65.8862,65.949, 66.1761,66.5,66.9497,67.3032,67.6664, 68.1888,68.7438,69.6312,70.6861,71.4141 ,72.3612,73.4555,74.2929,75.5107, 76.3485,77.5723,78.6649,79.6728,81.2218 ,82.3549,84.0098,86.3699,86.9417, 84.4208,83.7289,80.3753,76.9084,74.9375 ,71.8028,70.5965,70.6897,67.0107, 66.9233,66.6534,63.9498,61.4737,57.6315 ,52.4812,50.4328,50.349,50.2453,50.0911 ,49.7094,49.417,49.1472,48.7117,48.2901 ,47.8088,46.7202,45.7026,44.7784, 43.9339,42.2571,40.7383,38.8994,37.658, 35.1015,32.2402,29.5944,27.2117,23.0021 ,19.4653,14.9308,8.80441,1.5661,354.629 ,345.811,335.757,328.431,322.081, 313.667,305.739,299.256,301.761,296.387 ,292.097,285.813,281.453,276.211, 269.897)
ORBIT_NUMBER = 18671
ORBITAL_ECCENTRICITY = 0.577
ORBITAL_INCLINATION = 86.95
ORBITAL_SEMIMAJOR_AXIS = 8847.82
PERIAPSIS_ALTITUDE = 346.42
PERIAPSIS_ARGUMENT_ANGLE = 1.89
PERIAPSIS_TIME = 2018-10-04T09:15:33.000Z
SPACECRAFT_ORIENTATION = (0.0,1.0,0.0)
^MEX_ORIENTATION_DESC = "MEX_ORIENTATION_DESC.TXT"
SPACECRAFT_POINTING_MODE = FIXED
^MEX_POINTING_DESC = "MEX_POINTING_DESC.TXT"
RIGHT_ASCENSION = -1e+32
DECLINATION = -1e+32
OFFSET_ANGLE = -1e+32
SPACECRAFT_SOLAR_DISTANCE = 2.07004e+08
TARGET_NAME = MARS
/* CAMERA DATA ELEMENTS */
DETECTOR_TEMPERATURE = 18.9822
FOCAL_PLANE_TEMPERATURE = 11.8457
INST_CMPRS_NAME = "DISCRETE COSINE TRANSFORMATION (DCT)"
INST_CMPRS_RATIO = 13.6406
INST_CMPRS_QUALITY = 0
INST_CMPRS_QUANTZ_TBL_ID = 0
INSTRUMENT_TEMPERATURE = 12.4574
LENS_TEMPERATURE = 12.0496
MACROPIXEL_SIZE = 2
PIXEL_SUBSAMPLING_FLAG = N
SIGNAL_CHAIN_ID = 2
/* RADIOMETRIC DATA ELEMENTS */
BANDWIDTH = 88.0
CENTER_FILTER_WAVELENGTH = 538.0
RADIANCE_OFFSET = 0.0
RADIANCE_SCALING_FACTOR = 0.0285592
REFLECTANCE_SCALING_FACTOR = 0.00105361
MEX:REFLECTANCE_OFFSET = 0.0
/* IMAGE OBJECT DEFINITIONS */
OBJECT = IMAGE
  INTERCHANGE_FORMAT = BINARY
  LINES = 15924
  LINE_SAMPLES = 9569
  SAMPLE_TYPE = UNSIGNED_INTEGER
  SAMPLE_BITS = 8
  BANDS = 1
  BAND_STORAGE_TYPE = BAND_SEQUENTIAL
  MAXIMUM = 255
  MEAN = 84.1595
  MINIMUM = 1
  STANDARD_DEVIATION = 40.2164
END_OBJECT = IMAGE
/* MAP OBJECT DEFINITIONS */
OBJECT = IMAGE_MAP_PROJECTION
  ^DATA_SET_MAP_PROJECTION_CATALOG= "DSMAP.CAT"
  A_AXIS_RADIUS = 3396.0
  B_AXIS_RADIUS = 3396.0
  C_AXIS_RADIUS = 3396.0
  CENTER_LATITUDE = -41.0403
  CENTER_LONGITUDE = 51.6506
  COORDINATE_SYSTEM_NAME = PLANETOGRAPHIC
  COORDINATE_SYSTEM_TYPE = "BODY-FIXED ROTATING"
  EASTERNMOST_LONGITUDE = 360.0
  FIRST_STANDARD_PARALLEL = "N/A"
  LINE_FIRST_PIXEL = 1
  LINE_LAST_PIXEL = 15924
  LINE_PROJECTION_OFFSET = 7913.0
  MAP_PROJECTION_ROTATION = 0.0
  MAP_PROJECTION_TYPE = ORTHOGRAPHIC
  MAP_RESOLUTION = 148.178450966667
  MAP_SCALE = 0.4
  MAXIMUM_LATITUDE = 27.5532
  MINIMUM_LATITUDE = -90.0
  POSITIVE_LONGITUDE_DIRECTION = EAST
  REFERENCE_LATITUDE = "N/A"
  REFERENCE_LONGITUDE = "N/A"
  SAMPLE_FIRST_PIXEL = 1
  SAMPLE_LAST_PIXEL = 9569
  SAMPLE_PROJECTION_OFFSET = 4863.0
  SECOND_STANDARD_PARALLEL = "N/A"
  WESTERNMOST_LONGITUDE = 0.0
END_OBJECT = IMAGE_MAP_PROJECTION
END
