PDS_VERSION_ID = PDS3
/* FILE DATA ELEMENTS */
RECORD_TYPE = UNDEFINED
/* POINTERS TO DATA OBJECTS */
^IMAGE = ("HI720_0000_ND4.TIF")
/* IDENTIFICATION DATA ELEMENTS */
DATA_SET_ID = "MEX-M-HRSC-4-REFDR-MAPPROJECT-EXT6-V4.0"
DATA_SET_NAME = "MARS EXPRESS HRSC MAP PROJECTED REFDR EXTENSION6 V4.0"
DETECTOR_ID = MEX_HRSC_NADIR
EVENT_TYPE = "MARS-LOCAL-SYSTEMTEST-Vo-Te"
INSTRUMENT_HOST_ID = MEX
INSTRUMENT_HOST_NAME = "MARS EXPRESS"
INSTRUMENT_ID = HRSC
INSTRUMENT_NAME = "HIGH RESOLUTION STEREO CAMERA"
MISSION_NAME = "MARS EXPRESS"
MISSION_PHASE_NAME = ME_Phase_39
PROCESSING_LEVEL_ID = 4
PRODUCT_CREATION_TIME = 2023-01-29T14:35:52.000Z
PRODUCT_ID = "HI720_0000_ND4.TIF"
RELEASE_ID = 0005
REVISION_ID = 0000
/* QUALITY DATA ELEMENTS */
DATA_QUALITY_ID = 1
DATA_QUALITY_DESC = "Data calculated based on original SPICE kernels"
/* TIME DATA ELEMENTS */
SPACECRAFT_CLOCK_START_COUNT = "1/0487956111.25713"
SPACECRAFT_CLOCK_STOP_COUNT = "1/0487956305.10013"
START_TIME = 2018-10-18T15:22:55.218Z
STOP_TIME = 2018-10-18T15:25:06.219Z
/* ORBITAL DATA ELEMENTS */
ASCENDING_NODE_LONGITUDE = 222.96
MAXIMUM_RESOLUTION = 0.0136
FOOTPRINT_POINT_LATITUDE = (-13.5103,-13.5016,-13.4924,-13.4828, -13.4727,-13.462,-13.448,-13.4473, -13.4722,-13.195,-12.8249,-12.6393, -12.4542,-12.2687,-12.0833,-11.8053, -11.4373,-11.165,-10.8014,-10.4363, -10.065,-9.87745,-9.69005,-9.41081, -9.13144,-8.94517,-8.759,-8.57272, -8.38618,-8.19906,-7.91529,-7.72652, -7.53686,-7.25324,-7.06328,-6.87052, -6.6799,-6.48953,-6.29971,-6.1115, -5.92293,-5.73359,-5.54476,-5.3552, -5.1655,-4.97508,-4.69012,-4.40497, -4.21487,-4.11983,-4.11649,-4.13883, -4.14842,-4.15715,-4.1776,-4.17809, -4.17857,-4.36871,-4.55854,-4.74802, -4.93872,-5.12844,-5.3178,-5.507, -5.69648,-5.98044,-6.16925,-6.35785, -6.54654,-6.73485,-6.92274,-7.11041, -7.3918,-7.67534,-7.86437,-8.0543, -8.24358,-8.43224,-8.62007,-8.8077, -9.08819,-9.27546,-9.46168,-9.64702, -10.0161,-10.3831,-10.8399,-11.2062, -11.5766,-11.7626,-11.9487,-12.1346, -12.4132,-12.599,-12.7846,-13.063, -13.2486,-13.4341,-13.5268,-13.5103)
FOOTPRINT_POINT_LONGITUDE = (241.518,241.311,241.101,240.887, 240.668,240.446,240.16,240.146,240.206, 240.215,240.225,240.228,240.233,240.237 ,240.241,240.246,240.26,240.277,240.298 ,240.315,240.32,240.318,240.317,240.319 ,240.321,240.322,240.323,240.324, 240.325,240.325,240.319,240.317,240.312 ,240.308,240.303,240.295,240.29,240.285 ,240.282,240.28,240.278,240.275,240.273 ,240.27,240.266,240.262,240.257,240.251 ,240.247,240.246,240.246,240.688, 240.895,241.086,241.532,241.544,241.55, 241.552,241.553,241.555,241.557,241.558 ,241.56,241.561,241.563,241.565,241.566 ,241.567,241.568,241.569,241.57,241.571 ,241.571,241.573,241.575,241.577, 241.579,241.58,241.581,241.581,241.582, 241.582,241.582,241.581,241.578,241.573 ,241.564,241.558,241.554,241.553, 241.552,241.551,241.549,241.548,241.546 ,241.544,241.542,241.541,241.54, 241.518)
ORBIT_NUMBER = 18720
ORBITAL_ECCENTRICITY = 0.578
ORBITAL_INCLINATION = 86.94
ORBITAL_SEMIMAJOR_AXIS = 8861.99
PERIAPSIS_ALTITUDE = 341.93
PERIAPSIS_ARGUMENT_ANGLE = 353.38
PERIAPSIS_TIME = 2018-10-18T15:24:54.000Z
SPACECRAFT_ORIENTATION = (0.0,1.0,0.0)
^MEX_ORIENTATION_DESC = "MEX_ORIENTATION_DESC.TXT"
SPACECRAFT_POINTING_MODE = INERT
^MEX_POINTING_DESC = "MEX_POINTING_DESC.TXT"
RIGHT_ASCENSION = 80.273
DECLINATION = 29.806
OFFSET_ANGLE = -1e+32
SPACECRAFT_SOLAR_DISTANCE = 2.07763e+08
TARGET_NAME = MARS
/* CAMERA DATA ELEMENTS */
DETECTOR_TEMPERATURE = 18.5744
FOCAL_PLANE_TEMPERATURE = 10.8262
INST_CMPRS_NAME = "DISCRETE COSINE TRANSFORMATION (DCT)"
INST_CMPRS_RATIO = 6.9171
INST_CMPRS_QUALITY = 0
INST_CMPRS_QUANTZ_TBL_ID = 0
INSTRUMENT_TEMPERATURE = 13.273
LENS_TEMPERATURE = 11.0301
MACROPIXEL_SIZE = 1
MISSING_FRAMES = 0
PIXEL_SUBSAMPLING_FLAG = N
SIGNAL_CHAIN_ID = 0
/* RADIOMETRIC DATA ELEMENTS */
BANDWIDTH = 177.0
CENTER_FILTER_WAVELENGTH = 677.5
RADIANCE_OFFSET = 0.697114
RADIANCE_SCALING_FACTOR = 0.00937296
REFLECTANCE_SCALING_FACTOR = 0.000214929
MEX:REFLECTANCE_OFFSET = 0.0159854
/* IMAGE OBJECT DEFINITIONS */
OBJECT = IMAGE
  INTERCHANGE_FORMAT = BINARY
  LINES = 44632
  LINE_SAMPLES = 6392
  SAMPLE_TYPE = UNSIGNED_INTEGER
  SAMPLE_BITS = 8
  BANDS = 1
  BAND_STORAGE_TYPE = BAND_SEQUENTIAL
  MAXIMUM = 255
  MEAN = 85.503
  MINIMUM = 1
  STANDARD_DEVIATION = 43.5711
END_OBJECT = IMAGE
/* MAP OBJECT DEFINITIONS */
OBJECT = IMAGE_MAP_PROJECTION
  ^DATA_SET_MAP_PROJECTION_CATALOG= "DSMAP.CAT"
  A_AXIS_RADIUS = 3396.0
  B_AXIS_RADIUS = 3396.0
  C_AXIS_RADIUS = 3396.0
  CENTER_LATITUDE = 0.0
  CENTER_LONGITUDE = 241.0
  COORDINATE_SYSTEM_NAME = PLANETOGRAPHIC
  COORDINATE_SYSTEM_TYPE = "BODY-FIXED ROTATING"
  EASTERNMOST_LONGITUDE = 241.582
  FIRST_STANDARD_PARALLEL = "N/A"
  LINE_FIRST_PIXEL = 1
  LINE_LAST_PIXEL = 44632
  LINE_PROJECTION_OFFSET = -19524.0
  MAP_PROJECTION_ROTATION = 0.0
  MAP_PROJECTION_TYPE = SINUSOIDAL
  MAP_RESOLUTION = 4741.71043093333
  MAP_SCALE = 0.0125
  MAXIMUM_LATITUDE = -4.11649
  MINIMUM_LATITUDE = -13.5268
  POSITIVE_LONGITUDE_DIRECTION = EAST
  REFERENCE_LATITUDE = "N/A"
  REFERENCE_LONGITUDE = "N/A"
  SAMPLE_FIRST_PIXEL = 1
  SAMPLE_LAST_PIXEL = 6392
  SAMPLE_PROJECTION_OFFSET = 3666.0
  SECOND_STANDARD_PARALLEL = "N/A"
  WESTERNMOST_LONGITUDE = 240.146
END_OBJECT = IMAGE_MAP_PROJECTION
END
