PDS_VERSION_ID = PDS3
/* FILE DATA ELEMENTS */
RECORD_TYPE = UNDEFINED
/* POINTERS TO DATA OBJECTS */
^IMAGE = ("HI720_0000_P14.TIF")
/* IDENTIFICATION DATA ELEMENTS */
DATA_SET_ID = "MEX-M-HRSC-4-REFDR-MAPPROJECT-EXT6-V4.0"
DATA_SET_NAME = "MARS EXPRESS HRSC MAP PROJECTED REFDR EXTENSION6 V4.0"
DETECTOR_ID = MEX_HRSC_P1
EVENT_TYPE = "MARS-LOCAL-SYSTEMTEST-Vo-Te"
INSTRUMENT_HOST_ID = MEX
INSTRUMENT_HOST_NAME = "MARS EXPRESS"
INSTRUMENT_ID = HRSC
INSTRUMENT_NAME = "HIGH RESOLUTION STEREO CAMERA"
MISSION_NAME = "MARS EXPRESS"
MISSION_PHASE_NAME = ME_Phase_39
PROCESSING_LEVEL_ID = 4
PRODUCT_CREATION_TIME = 2023-01-29T14:35:52.000Z
PRODUCT_ID = "HI720_0000_P14.TIF"
RELEASE_ID = 0005
REVISION_ID = 0000
/* QUALITY DATA ELEMENTS */
DATA_QUALITY_ID = 1
DATA_QUALITY_DESC = "Data calculated based on original SPICE kernels"
/* TIME DATA ELEMENTS */
SPACECRAFT_CLOCK_START_COUNT = "1/0487956111.25713"
SPACECRAFT_CLOCK_STOP_COUNT = "1/0487956305.10013"
START_TIME = 2018-10-18T15:23:14.581Z
STOP_TIME = 2018-10-18T15:25:25.579Z
/* ORBITAL DATA ELEMENTS */
ASCENDING_NODE_LONGITUDE = 222.96
MAXIMUM_RESOLUTION = 0.0264
FOOTPRINT_POINT_LATITUDE = (-13.466,-13.4687,-13.4714,-13.4739, -13.4764,-13.4788,-13.482,-13.4821, -13.4686,-13.1875,-13.0001,-12.8127, -12.6254,-12.4381,-12.2509,-12.0638, -11.8766,-11.6895,-11.5018,-11.3139, -11.1259,-10.9384,-10.7511,-10.4703, -10.097,-9.72425,-9.3511,-9.07124, -8.60481,-8.23166,-7.85825,-7.67139, -7.39101,-7.20409,-7.01689,-6.82944, -6.64223,-6.45511,-6.268,-5.98728, -5.80014,-5.6129,-5.42558,-5.23821, -5.05068,-4.86315,-4.6756,-4.39415, -4.20651,-4.11275,-4.10991,-4.10446, -4.09708,-4.09342,-4.09324,-4.09365, -4.37507,-4.56272,-4.75022,-4.93768, -5.12536,-5.31273,-5.59378,-5.87477, -6.15558,-6.4363,-6.62341,-6.81042, -6.99739,-7.18434,-7.46474,-7.65178, -7.93226,-8.21269,-8.39946,-8.58618, -8.95953,-9.33278,-9.51944,-9.79958, -9.98641,-10.1734,-10.3604,-10.5478, -10.7354,-10.9228,-11.1103,-11.2981, -11.4856,-11.6727,-11.8599,-12.0471, -12.2344,-12.5152,-12.7025,-12.8899, -13.0773,-13.3584,-13.4521,-13.466)
FOOTPRINT_POINT_LONGITUDE = (241.504,241.309,241.111,240.909, 240.703,240.494,240.2,240.186,240.248, 240.256,240.262,240.268,240.274,240.279 ,240.283,240.288,240.293,240.297, 240.306,240.318,240.333,240.343,240.352 ,240.367,240.377,240.374,240.378, 240.381,240.386,240.388,240.385,240.381 ,240.376,240.374,240.369,240.363,240.36 ,240.358,240.357,240.355,240.354, 240.352,240.35,240.348,240.345,240.342, 240.339,240.335,240.332,240.331,240.331 ,240.771,241.298,241.535,241.546,241.55 ,241.552,241.553,241.555,241.556, 241.558,241.559,241.56,241.562,241.564, 241.565,241.566,241.566,241.567,241.567 ,241.567,241.568,241.57,241.573,241.574 ,241.574,241.575,241.575,241.574, 241.572,241.57,241.567,241.565,241.56, 241.556,241.553,241.55,241.546,241.544, 241.542,241.541,241.54,241.538,241.536, 241.534,241.532,241.53,241.527,241.526, 241.504)
ORBIT_NUMBER = 18720
ORBITAL_ECCENTRICITY = 0.578
ORBITAL_INCLINATION = 86.94
ORBITAL_SEMIMAJOR_AXIS = 8861.99
PERIAPSIS_ALTITUDE = 341.93
PERIAPSIS_ARGUMENT_ANGLE = 353.38
PERIAPSIS_TIME = 2018-10-18T15:24:54.000Z
SPACECRAFT_ORIENTATION = (0.0,1.0,0.0)
^MEX_ORIENTATION_DESC = "MEX_ORIENTATION_DESC.TXT"
SPACECRAFT_POINTING_MODE = INERT
^MEX_POINTING_DESC = "MEX_POINTING_DESC.TXT"
RIGHT_ASCENSION = 80.273
DECLINATION = 29.806
OFFSET_ANGLE = -1e+32
SPACECRAFT_SOLAR_DISTANCE = 2.07763e+08
TARGET_NAME = MARS
/* CAMERA DATA ELEMENTS */
DETECTOR_TEMPERATURE = 18.1666
FOCAL_PLANE_TEMPERATURE = 10.8262
INST_CMPRS_NAME = "DISCRETE COSINE TRANSFORMATION (DCT)"
INST_CMPRS_RATIO = 12.4333
INST_CMPRS_QUALITY = 0
INST_CMPRS_QUANTZ_TBL_ID = 0
INSTRUMENT_TEMPERATURE = 13.273
LENS_TEMPERATURE = 11.0301
MACROPIXEL_SIZE = 2
MISSING_FRAMES = 0
PIXEL_SUBSAMPLING_FLAG = N
SIGNAL_CHAIN_ID = 3
/* RADIOMETRIC DATA ELEMENTS */
BANDWIDTH = 174.0
CENTER_FILTER_WAVELENGTH = 675.0
RADIANCE_OFFSET = 0.860301
RADIANCE_SCALING_FACTOR = 0.0095589
REFLECTANCE_SCALING_FACTOR = 0.000221936
MEX:REFLECTANCE_OFFSET = 0.0199743
/* IMAGE OBJECT DEFINITIONS */
OBJECT = IMAGE
  INTERCHANGE_FORMAT = BINARY
  LINES = 22316
  LINE_SAMPLES = 3196
  SAMPLE_TYPE = UNSIGNED_INTEGER
  SAMPLE_BITS = 8
  BANDS = 1
  BAND_STORAGE_TYPE = BAND_SEQUENTIAL
  MAXIMUM = 255
  MEAN = 83.6242
  MINIMUM = 1
  STANDARD_DEVIATION = 45.2849
END_OBJECT = IMAGE
/* MAP OBJECT DEFINITIONS */
OBJECT = IMAGE_MAP_PROJECTION
  ^DATA_SET_MAP_PROJECTION_CATALOG= "DSMAP.CAT"
  A_AXIS_RADIUS = 3396.0
  B_AXIS_RADIUS = 3396.0
  C_AXIS_RADIUS = 3396.0
  CENTER_LATITUDE = 0.0
  CENTER_LONGITUDE = 241.0
  COORDINATE_SYSTEM_NAME = PLANETOGRAPHIC
  COORDINATE_SYSTEM_TYPE = "BODY-FIXED ROTATING"
  EASTERNMOST_LONGITUDE = 241.575
  FIRST_STANDARD_PARALLEL = "N/A"
  LINE_FIRST_PIXEL = 1
  LINE_LAST_PIXEL = 22316
  LINE_PROJECTION_OFFSET = -9762.25
  MAP_PROJECTION_ROTATION = 0.0
  MAP_PROJECTION_TYPE = SINUSOIDAL
  MAP_RESOLUTION = 2370.85521546667
  MAP_SCALE = 0.025
  MAXIMUM_LATITUDE = -4.09324
  MINIMUM_LATITUDE = -13.4821
  POSITIVE_LONGITUDE_DIRECTION = EAST
  REFERENCE_LATITUDE = "N/A"
  REFERENCE_LONGITUDE = "N/A"
  SAMPLE_FIRST_PIXEL = 1
  SAMPLE_LAST_PIXEL = 3196
  SAMPLE_PROJECTION_OFFSET = 1832.75
  SECOND_STANDARD_PARALLEL = "N/A"
  WESTERNMOST_LONGITUDE = 240.186
END_OBJECT = IMAGE_MAP_PROJECTION
END
