PDS_VERSION_ID = PDS3
/* FILE DATA ELEMENTS */
RECORD_TYPE = UNDEFINED
/* POINTERS TO DATA OBJECTS */
^IMAGE = ("HI720_0000_S24.TIF")
/* IDENTIFICATION DATA ELEMENTS */
DATA_SET_ID = "MEX-M-HRSC-4-REFDR-MAPPROJECT-EXT6-V4.0"
DATA_SET_NAME = "MARS EXPRESS HRSC MAP PROJECTED REFDR EXTENSION6 V4.0"
DETECTOR_ID = MEX_HRSC_S2
EVENT_TYPE = "MARS-LOCAL-SYSTEMTEST-Vo-Te"
INSTRUMENT_HOST_ID = MEX
INSTRUMENT_HOST_NAME = "MARS EXPRESS"
INSTRUMENT_ID = HRSC
INSTRUMENT_NAME = "HIGH RESOLUTION STEREO CAMERA"
MISSION_NAME = "MARS EXPRESS"
MISSION_PHASE_NAME = ME_Phase_39
PROCESSING_LEVEL_ID = 4
PRODUCT_CREATION_TIME = 2023-01-29T14:35:52.000Z
PRODUCT_ID = "HI720_0000_S24.TIF"
RELEASE_ID = 0005
REVISION_ID = 0000
/* QUALITY DATA ELEMENTS */
DATA_QUALITY_ID = 1
DATA_QUALITY_DESC = "Data calculated based on original SPICE kernels"
/* TIME DATA ELEMENTS */
SPACECRAFT_CLOCK_START_COUNT = "1/0487956111.25713"
SPACECRAFT_CLOCK_STOP_COUNT = "1/0487956305.10013"
START_TIME = 2018-10-18T15:22:22.705Z
STOP_TIME = 2018-10-18T15:24:32.224Z
/* ORBITAL DATA ELEMENTS */
ASCENDING_NODE_LONGITUDE = 222.96
MAXIMUM_RESOLUTION = 0.0154
FOOTPRINT_POINT_LATITUDE = (-13.5976,-13.5678,-13.5369,-13.5047, -13.4712,-13.4362,-13.3904,-13.388, -13.4756,-13.2687,-13.0605,-12.8524, -12.6435,-12.4354,-12.2254,-12.0162, -11.8062,-11.4987,-11.3098,-10.8943, -10.6435,-10.2996,-10.1187,-9.93424, -9.75377,-9.39667,-9.12849,-8.94952, -8.68139,-8.41265,-8.23328,-7.95647, -7.67678,-7.4889,-7.30151,-7.0164, -6.73033,-6.53896,-6.25694,-6.07323, -5.88856,-5.70288,-5.51745,-5.23566, -5.04751,-4.8586,-4.67167,-4.48529, -4.20246,-4.10837,-4.08915,-4.14382, -4.17516,-4.21208,-4.25632,-4.28413, -4.32121,-4.32313,-4.32432,-4.6061, -4.88567,-5.07305,-5.25919,-5.44463, -5.63141,-5.81667,-6.09441,-6.27867, -6.4626,-6.64634,-6.9208,-7.1026, -7.37503,-7.55747,-7.74343,-8.02581, -8.21242,-8.39632,-8.57893,-8.76126, -8.94134,-9.12167,-9.48081,-9.82826, -10.087,-10.4278,-10.6868,-10.9411, -11.2762,-11.7555,-11.9669,-12.1777, -12.4932,-12.7035,-12.9129,-13.1226, -13.3316,-13.5407,-13.6446,-13.5976)
FOOTPRINT_POINT_LONGITUDE = (241.548,241.329,241.106,240.879, 240.647,240.41,240.106,240.09,240.15, 240.156,240.16,240.164,240.167,240.171, 240.174,240.177,240.179,240.188,240.199 ,240.22,240.232,240.241,240.239,240.235 ,240.234,240.233,240.233,240.232, 240.232,240.231,240.23,240.224,240.217, 240.211,240.205,240.194,240.183,240.175 ,240.166,240.163,240.159,240.155,240.15 ,240.142,240.136,240.13,240.125,240.12, 240.111,240.108,240.108,240.425,240.617 ,240.847,241.114,241.293,241.536, 241.549,241.555,241.559,241.562,241.564 ,241.566,241.568,241.57,241.572,241.575 ,241.577,241.578,241.58,241.582,241.583 ,241.584,241.585,241.587,241.591, 241.593,241.595,241.596,241.597,241.598 ,241.599,241.6,241.598,241.596,241.592, 241.59,241.586,241.58,241.578,241.578, 241.577,241.576,241.575,241.574,241.573 ,241.571,241.57,241.569,241.548)
ORBIT_NUMBER = 18720
ORBITAL_ECCENTRICITY = 0.578
ORBITAL_INCLINATION = 86.94
ORBITAL_SEMIMAJOR_AXIS = 8861.99
PERIAPSIS_ALTITUDE = 341.93
PERIAPSIS_ARGUMENT_ANGLE = 353.38
PERIAPSIS_TIME = 2018-10-18T15:24:54.000Z
SPACECRAFT_ORIENTATION = (0.0,1.0,0.0)
^MEX_ORIENTATION_DESC = "MEX_ORIENTATION_DESC.TXT"
SPACECRAFT_POINTING_MODE = INERT
^MEX_POINTING_DESC = "MEX_POINTING_DESC.TXT"
RIGHT_ASCENSION = 80.273
DECLINATION = 29.806
OFFSET_ANGLE = -1e+32
SPACECRAFT_SOLAR_DISTANCE = 2.07763e+08
TARGET_NAME = MARS
/* CAMERA DATA ELEMENTS */
DETECTOR_TEMPERATURE = 19.39
FOCAL_PLANE_TEMPERATURE = 10.8262
INST_CMPRS_NAME = "DISCRETE COSINE TRANSFORMATION (DCT)"
INST_CMPRS_RATIO = 7.24577
INST_CMPRS_QUALITY = 0
INST_CMPRS_QUANTZ_TBL_ID = 0
INSTRUMENT_TEMPERATURE = 13.273
LENS_TEMPERATURE = 11.0301
MACROPIXEL_SIZE = 1
MISSING_FRAMES = 0
PIXEL_SUBSAMPLING_FLAG = N
SIGNAL_CHAIN_ID = 1
/* RADIOMETRIC DATA ELEMENTS */
BANDWIDTH = 178.0
CENTER_FILTER_WAVELENGTH = 679.0
RADIANCE_OFFSET = 0.92466
RADIANCE_SCALING_FACTOR = 0.0102191
REFLECTANCE_SCALING_FACTOR = 0.000233601
MEX:REFLECTANCE_OFFSET = 0.0211372
/* IMAGE OBJECT DEFINITIONS */
OBJECT = IMAGE
  INTERCHANGE_FORMAT = BINARY
  LINES = 44632
  LINE_SAMPLES = 6392
  SAMPLE_TYPE = UNSIGNED_INTEGER
  SAMPLE_BITS = 8
  BANDS = 1
  BAND_STORAGE_TYPE = BAND_SEQUENTIAL
  MAXIMUM = 255
  MEAN = 88.3043
  MINIMUM = 1
  STANDARD_DEVIATION = 45.16
END_OBJECT = IMAGE
/* MAP OBJECT DEFINITIONS */
OBJECT = IMAGE_MAP_PROJECTION
  ^DATA_SET_MAP_PROJECTION_CATALOG= "DSMAP.CAT"
  A_AXIS_RADIUS = 3396.0
  B_AXIS_RADIUS = 3396.0
  C_AXIS_RADIUS = 3396.0
  CENTER_LATITUDE = 0.0
  CENTER_LONGITUDE = 241.0
  COORDINATE_SYSTEM_NAME = PLANETOGRAPHIC
  COORDINATE_SYSTEM_TYPE = "BODY-FIXED ROTATING"
  EASTERNMOST_LONGITUDE = 241.6
  FIRST_STANDARD_PARALLEL = "N/A"
  LINE_FIRST_PIXEL = 1
  LINE_LAST_PIXEL = 44632
  LINE_PROJECTION_OFFSET = -19524.0
  MAP_PROJECTION_ROTATION = 0.0
  MAP_PROJECTION_TYPE = SINUSOIDAL
  MAP_RESOLUTION = 4741.71043093333
  MAP_SCALE = 0.0125
  MAXIMUM_LATITUDE = -4.08915
  MINIMUM_LATITUDE = -13.6446
  POSITIVE_LONGITUDE_DIRECTION = EAST
  REFERENCE_LATITUDE = "N/A"
  REFERENCE_LONGITUDE = "N/A"
  SAMPLE_FIRST_PIXEL = 1
  SAMPLE_LAST_PIXEL = 6392
  SAMPLE_PROJECTION_OFFSET = 3666.0
  SECOND_STANDARD_PARALLEL = "N/A"
  WESTERNMOST_LONGITUDE = 240.09
END_OBJECT = IMAGE_MAP_PROJECTION
END
