PDS_VERSION_ID = PDS3
/* FILE DATA ELEMENTS */
RECORD_TYPE = UNDEFINED
/* POINTERS TO DATA OBJECTS */
^IMAGE = ("HI726_0000_P14.TIF")
/* IDENTIFICATION DATA ELEMENTS */
DATA_SET_ID = "MEX-M-HRSC-4-REFDR-MAPPROJECT-EXT6-V4.0"
DATA_SET_NAME = "MARS EXPRESS HRSC MAP PROJECTED REFDR EXTENSION6 V4.0"
DETECTOR_ID = MEX_HRSC_P1
EVENT_TYPE = "MARS-REGIONAL-STEREO-Im-Fl"
INSTRUMENT_HOST_ID = MEX
INSTRUMENT_HOST_NAME = "MARS EXPRESS"
INSTRUMENT_ID = HRSC
INSTRUMENT_NAME = "HIGH RESOLUTION STEREO CAMERA"
MISSION_NAME = "MARS EXPRESS"
MISSION_PHASE_NAME = ME_Phase_39
PROCESSING_LEVEL_ID = 4
PRODUCT_CREATION_TIME = 2023-01-29T14:35:52.000Z
PRODUCT_ID = "HI726_0000_P14.TIF"
RELEASE_ID = 0005
REVISION_ID = 0000
/* QUALITY DATA ELEMENTS */
DATA_QUALITY_ID = 1
DATA_QUALITY_DESC = "Data calculated based on original SPICE kernels"
/* TIME DATA ELEMENTS */
SPACECRAFT_CLOCK_START_COUNT = "1/0488106701.24952"
SPACECRAFT_CLOCK_STOP_COUNT = "1/0488106920.25910"
START_TIME = 2018-10-20T09:13:17.332Z
STOP_TIME = 2018-10-20T09:15:39.938Z
/* ORBITAL DATA ELEMENTS */
ASCENDING_NODE_LONGITUDE = 222.85
MAXIMUM_RESOLUTION = 0.0304
FOOTPRINT_POINT_LATITUDE = (-31.0055,-31.0034,-31.0014,-30.9991, -30.9964,-30.9934,-30.9901,-30.9899, -31.0057,-30.5617,-30.3397,-30.0074, -29.7912,-29.5748,-29.3589,-29.1429, -28.9267,-28.7118,-28.3962,-28.1863, -27.9757,-27.7657,-27.4513,-27.2439, -27.0404,-26.7333,-26.4275,-26.2232, -26.0192,-25.815,-25.6157,-25.4171, -25.0244,-24.8261,-24.6273,-24.4256, -24.0299,-23.8318,-23.5349,-23.1391, -22.8426,-22.6448,-22.447,-22.0516, -21.7548,-21.5571,-21.2607,-20.8652, -20.7663,-20.7472,-20.7497,-20.7515, -20.7546,-20.757,-20.757,-20.7576, -20.9564,-21.1541,-21.6484,-22.0416, -22.2397,-22.5365,-22.7346,-22.9323, -23.1308,-23.4275,-23.6256,-23.8237, -24.1209,-24.319,-24.5173,-24.7155, -24.9144,-25.1124,-25.311,-25.6085, -25.807,-26.011,-26.2151,-26.5212, -26.7284,-26.9331,-27.1344,-27.339, -27.5484,-27.7585,-27.9686,-28.1791, -28.4949,-28.7054,-28.9199,-29.1369, -29.4613,-29.7849,-30.0011,-30.2214, -30.5553,-30.8896,-31.0009,-31.0055)
FOOTPRINT_POINT_LONGITUDE = (351.321,350.926,350.641,350.358, 350.077,349.797,349.52,349.503,349.496, 349.503,349.507,349.512,349.515,349.518 ,349.522,349.525,349.528,349.531, 349.535,349.537,349.54,349.543,349.546, 349.549,349.551,349.554,349.557,349.56, 349.562,349.564,349.565,349.567,349.57, 349.572,349.574,349.576,349.579,349.58, 349.582,349.585,349.587,349.588,349.589 ,349.591,349.593,349.594,349.596, 349.597,349.598,349.598,349.85,350.064, 350.497,350.979,350.993,350.998,351.006 ,351.011,351.023,351.028,351.034, 351.042,351.048,351.053,351.06,351.067, 351.073,351.079,351.088,351.093,351.099 ,351.105,351.112,351.118,351.124, 351.133,351.14,351.146,351.153,351.163, 351.174,351.181,351.184,351.192,351.199 ,351.207,351.215,351.223,351.235, 351.243,351.251,351.26,351.273,351.285, 351.294,351.303,351.317,351.332,351.337 ,351.321)
ORBIT_NUMBER = 18726
ORBITAL_ECCENTRICITY = 0.577
ORBITAL_INCLINATION = 86.94
ORBITAL_SEMIMAJOR_AXIS = 8845.2
PERIAPSIS_ALTITUDE = 342.07
PERIAPSIS_ARGUMENT_ANGLE = 352.35
PERIAPSIS_TIME = 2018-10-20T09:18:56.000Z
SPACECRAFT_ORIENTATION = (0.0,1.0,0.0)
^MEX_ORIENTATION_DESC = "MEX_ORIENTATION_DESC.TXT"
SPACECRAFT_POINTING_MODE = INERT
^MEX_POINTING_DESC = "MEX_POINTING_DESC.TXT"
RIGHT_ASCENSION = 79.5
DECLINATION = 30.601
OFFSET_ANGLE = -1e+32
SPACECRAFT_SOLAR_DISTANCE = 2.07884e+08
TARGET_NAME = MARS
/* CAMERA DATA ELEMENTS */
DETECTOR_TEMPERATURE = 18.1666
FOCAL_PLANE_TEMPERATURE = 10.2145
INST_CMPRS_NAME = "DISCRETE COSINE TRANSFORMATION (DCT)"
INST_CMPRS_RATIO = 9.99582
INST_CMPRS_QUALITY = 0
INST_CMPRS_QUANTZ_TBL_ID = 0
INSTRUMENT_TEMPERATURE = 12.0496
LENS_TEMPERATURE = 10.4184
MACROPIXEL_SIZE = 2
MISSING_FRAMES = 0
PIXEL_SUBSAMPLING_FLAG = N
SIGNAL_CHAIN_ID = 3
/* RADIOMETRIC DATA ELEMENTS */
BANDWIDTH = 174.0
CENTER_FILTER_WAVELENGTH = 675.0
RADIANCE_OFFSET = 2.4299
RADIANCE_SCALING_FACTOR = 0.00576757
REFLECTANCE_SCALING_FACTOR = 0.000134066
MEX:REFLECTANCE_OFFSET = 0.0564826
/* IMAGE OBJECT DEFINITIONS */
OBJECT = IMAGE
  INTERCHANGE_FORMAT = BINARY
  LINES = 24430
  LINE_SAMPLES = 3848
  SAMPLE_TYPE = UNSIGNED_INTEGER
  SAMPLE_BITS = 8
  BANDS = 1
  BAND_STORAGE_TYPE = BAND_SEQUENTIAL
  MAXIMUM = 255
  MEAN = 90.3492
  MINIMUM = 1
  STANDARD_DEVIATION = 34.8089
END_OBJECT = IMAGE
/* MAP OBJECT DEFINITIONS */
OBJECT = IMAGE_MAP_PROJECTION
  ^DATA_SET_MAP_PROJECTION_CATALOG= "DSMAP.CAT"
  A_AXIS_RADIUS = 3396.0
  B_AXIS_RADIUS = 3396.0
  C_AXIS_RADIUS = 3396.0
  CENTER_LATITUDE = 0.0
  CENTER_LONGITUDE = 350.0
  COORDINATE_SYSTEM_NAME = PLANETOGRAPHIC
  COORDINATE_SYSTEM_TYPE = "BODY-FIXED ROTATING"
  EASTERNMOST_LONGITUDE = 351.337
  FIRST_STANDARD_PARALLEL = "N/A"
  LINE_FIRST_PIXEL = 1
  LINE_LAST_PIXEL = 24430
  LINE_PROJECTION_OFFSET = -49147.75
  MAP_PROJECTION_ROTATION = 0.0
  MAP_PROJECTION_TYPE = SINUSOIDAL
  MAP_RESOLUTION = 2370.85521546667
  MAP_SCALE = 0.025
  MAXIMUM_LATITUDE = -20.7472
  MINIMUM_LATITUDE = -31.0057
  POSITIVE_LONGITUDE_DIRECTION = EAST
  REFERENCE_LATITUDE = "N/A"
  REFERENCE_LONGITUDE = "N/A"
  SAMPLE_FIRST_PIXEL = 1
  SAMPLE_LAST_PIXEL = 3848
  SAMPLE_PROJECTION_OFFSET = 1106.25
  SECOND_STANDARD_PARALLEL = "N/A"
  WESTERNMOST_LONGITUDE = 349.496
END_OBJECT = IMAGE_MAP_PROJECTION
END
