PDS_VERSION_ID = PDS3
/* FILE DATA ELEMENTS */
RECORD_TYPE = UNDEFINED
/* POINTERS TO DATA OBJECTS */
^IMAGE = ("HI731_0000_GR4.TIF")
/* IDENTIFICATION DATA ELEMENTS */
DATA_SET_ID = "MEX-M-HRSC-4-REFDR-MAPPROJECT-EXT6-V4.0"
DATA_SET_NAME = "MARS EXPRESS HRSC MAP PROJECTED REFDR EXTENSION6 V4.0"
DETECTOR_ID = MEX_HRSC_GREEN
EVENT_TYPE = "MARS-REGIONAL-MAPPING-Fl-Gl-Pf"
INSTRUMENT_HOST_ID = MEX
INSTRUMENT_HOST_NAME = "MARS EXPRESS"
INSTRUMENT_ID = HRSC
INSTRUMENT_NAME = "HIGH RESOLUTION STEREO CAMERA"
MISSION_NAME = "MARS EXPRESS"
MISSION_PHASE_NAME = ME_Phase_39
PROCESSING_LEVEL_ID = 4
PRODUCT_CREATION_TIME = 2023-01-29T14:35:52.000Z
PRODUCT_ID = "HI731_0000_GR4.TIF"
RELEASE_ID = 0005
REVISION_ID = 0000
/* QUALITY DATA ELEMENTS */
DATA_QUALITY_ID = 1
DATA_QUALITY_DESC = "Data calculated based on original SPICE kernels"
/* TIME DATA ELEMENTS */
SPACECRAFT_CLOCK_START_COUNT = "1/0488232325.24911"
SPACECRAFT_CLOCK_STOP_COUNT = "1/0488232564.16884"
START_TIME = 2018-10-21T20:06:49.516Z
STOP_TIME = 2018-10-21T20:09:27.437Z
/* ORBITAL DATA ELEMENTS */
ASCENDING_NODE_LONGITUDE = 222.76
MAXIMUM_RESOLUTION = 0.0656
FOOTPRINT_POINT_LATITUDE = (-36.0824,-36.0819,-36.0808,-36.0785, -36.0758,-36.0714,-36.0639,-36.0636, -36.0661,-35.6986,-35.4535,-35.2138, -34.9742,-34.7346,-34.4954,-34.2611, -34.0272,-33.7931,-33.4427,-33.2135, -32.9843,-32.7552,-32.5262,-32.3006, -32.0767,-31.8528,-31.6289,-31.405, -31.1852,-30.9664,-30.7478,-30.4198, -30.201,-29.9866,-29.7731,-29.4526, -29.239,-29.0253,-28.8136,-28.6052, -28.2924,-28.0839,-27.8753,-27.4595, -27.0526,-26.5442,-26.1367,-25.8359, -25.2398,-25.1397,-25.1058,-25.1099, -25.1118,-25.1125,-25.1129,-25.1121, -25.1121,-25.1131,-25.6101,-26.0072, -26.4158,-26.8231,-27.1282,-27.5358, -27.7447,-27.9533,-28.2664,-28.4752, -28.7883,-28.9995,-29.2133,-29.5342, -29.7482,-29.9607,-30.1743,-30.3937, -30.7224,-30.9419,-31.1606,-31.4923, -31.7164,-31.9406,-32.1648,-32.3891, -32.6167,-32.8461,-33.0756,-33.3048, -33.5348,-33.7693,-34.004,-34.2387, -34.4733,-34.8319,-35.1919,-35.432, -35.6762,-35.9215,-36.0443,-36.0824)
FOOTPRINT_POINT_LONGITUDE = (199.978,199.658,199.399,199.039, 198.739,198.36,197.86,197.84,197.826, 197.848,197.862,197.876,197.889,197.902 ,197.916,197.928,197.938,197.949, 197.966,197.978,197.99,198.0,198.01, 198.019,198.03,198.04,198.05,198.059, 198.068,198.077,198.086,198.1,198.108, 198.116,198.124,198.136,198.143,198.151 ,198.157,198.164,198.175,198.182, 198.188,198.201,198.213,198.228,198.238 ,198.246,198.261,198.262,198.263, 198.615,198.981,199.26,199.553,199.818, 199.833,199.838,199.844,199.849,199.851 ,199.857,199.861,199.866,199.869, 199.872,199.876,199.879,199.883,199.885 ,199.888,199.892,199.894,199.902, 199.906,199.908,199.912,199.913,199.918 ,199.92,199.924,199.927,199.93,199.934, 199.937,199.941,199.944,199.946,199.949 ,199.952,199.955,199.958,199.962, 199.967,199.973,199.976,199.98,199.983, 199.986,199.978)
ORBIT_NUMBER = 18731
ORBITAL_ECCENTRICITY = 0.577
ORBITAL_INCLINATION = 86.95
ORBITAL_SEMIMAJOR_AXIS = 8843.9
PERIAPSIS_ALTITUDE = 341.46
PERIAPSIS_ARGUMENT_ANGLE = 351.51
PERIAPSIS_TIME = 2018-10-21T20:13:58.000Z
SPACECRAFT_ORIENTATION = (0.0,1.0,0.0)
^MEX_ORIENTATION_DESC = "MEX_ORIENTATION_DESC.TXT"
SPACECRAFT_POINTING_MODE = INERT
^MEX_POINTING_DESC = "MEX_POINTING_DESC.TXT"
RIGHT_ASCENSION = 78.848
DECLINATION = 31.251
OFFSET_ANGLE = -1e+32
SPACECRAFT_SOLAR_DISTANCE = 2.0799e+08
TARGET_NAME = MARS
/* CAMERA DATA ELEMENTS */
DETECTOR_TEMPERATURE = 18.5744
FOCAL_PLANE_TEMPERATURE = 10.6223
INST_CMPRS_NAME = "DISCRETE COSINE TRANSFORMATION (DCT)"
INST_CMPRS_RATIO = 11.7551
INST_CMPRS_QUALITY = 0
INST_CMPRS_QUANTZ_TBL_ID = 0
INSTRUMENT_TEMPERATURE = 11.6418
LENS_TEMPERATURE = 10.6223
MACROPIXEL_SIZE = 4
MISSING_FRAMES = 0
PIXEL_SUBSAMPLING_FLAG = N
SIGNAL_CHAIN_ID = 2
/* RADIOMETRIC DATA ELEMENTS */
BANDWIDTH = 88.0
CENTER_FILTER_WAVELENGTH = 538.0
RADIANCE_OFFSET = 1.12607
RADIANCE_SCALING_FACTOR = 0.00247624
REFLECTANCE_SCALING_FACTOR = 9.22282e-05
MEX:REFLECTANCE_OFFSET = 0.0419408
/* IMAGE OBJECT DEFINITIONS */
OBJECT = IMAGE
  INTERCHANGE_FORMAT = BINARY
  LINES = 12999
  LINE_SAMPLES = 2102
  SAMPLE_TYPE = UNSIGNED_INTEGER
  SAMPLE_BITS = 8
  BANDS = 1
  BAND_STORAGE_TYPE = BAND_SEQUENTIAL
  MAXIMUM = 255
  MEAN = 108.485
  MINIMUM = 1
  STANDARD_DEVIATION = 34.722
END_OBJECT = IMAGE
/* MAP OBJECT DEFINITIONS */
OBJECT = IMAGE_MAP_PROJECTION
  ^DATA_SET_MAP_PROJECTION_CATALOG= "DSMAP.CAT"
  A_AXIS_RADIUS = 3396.0
  B_AXIS_RADIUS = 3396.0
  C_AXIS_RADIUS = 3396.0
  CENTER_LATITUDE = 0.0
  CENTER_LONGITUDE = 199.0
  COORDINATE_SYSTEM_NAME = PLANETOGRAPHIC
  COORDINATE_SYSTEM_TYPE = "BODY-FIXED ROTATING"
  EASTERNMOST_LONGITUDE = 199.986
  FIRST_STANDARD_PARALLEL = "N/A"
  LINE_FIRST_PIXEL = 1
  LINE_LAST_PIXEL = 12999
  LINE_PROJECTION_OFFSET = -29774.375
  MAP_PROJECTION_ROTATION = 0.0
  MAP_PROJECTION_TYPE = SINUSOIDAL
  MAP_RESOLUTION = 1185.42760773333
  MAP_SCALE = 0.05
  MAXIMUM_LATITUDE = -25.1058
  MINIMUM_LATITUDE = -36.0824
  POSITIVE_LONGITUDE_DIRECTION = EAST
  REFERENCE_LATITUDE = "N/A"
  REFERENCE_LONGITUDE = "N/A"
  SAMPLE_FIRST_PIXEL = 1
  SAMPLE_LAST_PIXEL = 2102
  SAMPLE_PROJECTION_OFFSET = 1150.625
  SECOND_STANDARD_PARALLEL = "N/A"
  WESTERNMOST_LONGITUDE = 197.826
END_OBJECT = IMAGE_MAP_PROJECTION
END
