PDS_VERSION_ID = PDS3
/* FILE DATA ELEMENTS */
RECORD_TYPE = UNDEFINED
/* POINTERS TO DATA OBJECTS */
^IMAGE = ("HI731_0000_IR4.TIF")
/* IDENTIFICATION DATA ELEMENTS */
DATA_SET_ID = "MEX-M-HRSC-4-REFDR-MAPPROJECT-EXT6-V4.0"
DATA_SET_NAME = "MARS EXPRESS HRSC MAP PROJECTED REFDR EXTENSION6 V4.0"
DETECTOR_ID = MEX_HRSC_IR
EVENT_TYPE = "MARS-REGIONAL-MAPPING-Fl-Gl-Pf"
INSTRUMENT_HOST_ID = MEX
INSTRUMENT_HOST_NAME = "MARS EXPRESS"
INSTRUMENT_ID = HRSC
INSTRUMENT_NAME = "HIGH RESOLUTION STEREO CAMERA"
MISSION_NAME = "MARS EXPRESS"
MISSION_PHASE_NAME = ME_Phase_39
PROCESSING_LEVEL_ID = 4
PRODUCT_CREATION_TIME = 2023-01-29T14:35:52.000Z
PRODUCT_ID = "HI731_0000_IR4.TIF"
RELEASE_ID = 0005
REVISION_ID = 0000
/* QUALITY DATA ELEMENTS */
DATA_QUALITY_ID = 1
DATA_QUALITY_DESC = "Data calculated based on original SPICE kernels"
/* TIME DATA ELEMENTS */
SPACECRAFT_CLOCK_START_COUNT = "1/0488232325.24911"
SPACECRAFT_CLOCK_STOP_COUNT = "1/0488232564.16884"
START_TIME = 2018-10-21T20:07:16.452Z
STOP_TIME = 2018-10-21T20:09:48.693Z
/* ORBITAL DATA ELEMENTS */
ASCENDING_NODE_LONGITUDE = 222.76
MAXIMUM_RESOLUTION = 0.0641
FOOTPRINT_POINT_LATITUDE = (-36.0427,-36.0419,-36.0395,-36.0367, -36.0339,-36.0273,-36.0271,-36.0441, -35.6791,-35.4357,-35.1955,-34.9588, -34.603,-34.3659,-34.1329,-33.9066, -33.6761,-33.4454,-33.2144,-32.9835, -32.7596,-32.5354,-32.3132,-32.088, -31.7525,-31.4241,-31.205,-30.9862, -30.6578,-30.4411,-30.2282,-29.9084, -29.6953,-29.4826,-29.2702,-29.0587, -28.748,-28.5407,-28.3336,-28.1265, -27.9194,-27.7125,-27.205,-26.8021, -26.4004,-25.9968,-25.6009,-25.2096, -25.1122,-25.1088,-25.11,-25.1124, -25.1135,-25.1143,-25.1143,-25.1154, -25.7032,-26.1026,-26.5036,-26.9069, -27.1089,-27.3108,-27.5124,-27.7176, -27.925,-28.1323,-28.4431,-28.6503, -28.9607,-29.276,-29.4885,-29.7008, -29.9197,-30.1342,-30.3456,-30.5616, -30.778,-30.9924,-31.2158,-31.4314, -31.651,-31.985,-32.2082,-32.4334, -32.6582,-32.8844,-33.1077,-33.4523, -33.6823,-33.9131,-34.144,-34.378, -34.6144,-34.8518,-35.0886,-35.3267, -35.569,-35.9327,-36.0547,-36.0427)
FOOTPRINT_POINT_LONGITUDE = (199.953,199.665,199.185,198.801, 198.494,197.917,197.898,197.884,197.905 ,197.919,197.933,197.946,197.965, 197.977,197.989,197.998,198.009,198.02, 198.031,198.044,198.054,198.063,198.072 ,198.082,198.097,198.111,198.12,198.129 ,198.142,198.15,198.158,198.17,198.178, 198.185,198.193,198.2,198.21,198.217, 198.223,198.23,198.237,198.243,198.258, 198.269,198.279,198.291,198.301,198.31, 198.312,198.312,198.559,198.945,199.193 ,199.773,199.787,199.792,199.799, 199.805,199.809,199.815,199.818,199.821 ,199.824,199.827,199.83,199.833,199.838 ,199.841,199.845,199.85,199.852,199.855 ,199.863,199.867,199.869,199.874, 199.876,199.876,199.883,199.884,199.888 ,199.895,199.897,199.901,199.905, 199.909,199.912,199.917,199.92,199.924, 199.928,199.932,199.936,199.94,199.944, 199.949,199.953,199.959,199.961, 199.953)
ORBIT_NUMBER = 18731
ORBITAL_ECCENTRICITY = 0.577
ORBITAL_INCLINATION = 86.95
ORBITAL_SEMIMAJOR_AXIS = 8843.9
PERIAPSIS_ALTITUDE = 341.46
PERIAPSIS_ARGUMENT_ANGLE = 351.51
PERIAPSIS_TIME = 2018-10-21T20:13:58.000Z
SPACECRAFT_ORIENTATION = (0.0,1.0,0.0)
^MEX_ORIENTATION_DESC = "MEX_ORIENTATION_DESC.TXT"
SPACECRAFT_POINTING_MODE = INERT
^MEX_POINTING_DESC = "MEX_POINTING_DESC.TXT"
RIGHT_ASCENSION = 78.848
DECLINATION = 31.251
OFFSET_ANGLE = -1e+32
SPACECRAFT_SOLAR_DISTANCE = 2.0799e+08
TARGET_NAME = MARS
/* CAMERA DATA ELEMENTS */
DETECTOR_TEMPERATURE = 18.1666
FOCAL_PLANE_TEMPERATURE = 10.6223
INST_CMPRS_NAME = "DISCRETE COSINE TRANSFORMATION (DCT)"
INST_CMPRS_RATIO = 10.7873
INST_CMPRS_QUALITY = 0
INST_CMPRS_QUANTZ_TBL_ID = 0
INSTRUMENT_TEMPERATURE = 11.6418
LENS_TEMPERATURE = 10.6223
MACROPIXEL_SIZE = 4
MISSING_FRAMES = 0
PIXEL_SUBSAMPLING_FLAG = N
SIGNAL_CHAIN_ID = 2
/* RADIOMETRIC DATA ELEMENTS */
BANDWIDTH = 81.0
CENTER_FILTER_WAVELENGTH = 955.5
RADIANCE_OFFSET = 0.611383
RADIANCE_SCALING_FACTOR = 0.00236232
REFLECTANCE_SCALING_FACTOR = 0.00022047
MEX:REFLECTANCE_OFFSET = 0.057059
/* IMAGE OBJECT DEFINITIONS */
OBJECT = IMAGE
  INTERCHANGE_FORMAT = BINARY
  LINES = 12999
  LINE_SAMPLES = 2102
  SAMPLE_TYPE = UNSIGNED_INTEGER
  SAMPLE_BITS = 8
  BANDS = 1
  BAND_STORAGE_TYPE = BAND_SEQUENTIAL
  MAXIMUM = 255
  MEAN = 89.5586
  MINIMUM = 1
  STANDARD_DEVIATION = 43.913
END_OBJECT = IMAGE
/* MAP OBJECT DEFINITIONS */
OBJECT = IMAGE_MAP_PROJECTION
  ^DATA_SET_MAP_PROJECTION_CATALOG= "DSMAP.CAT"
  A_AXIS_RADIUS = 3396.0
  B_AXIS_RADIUS = 3396.0
  C_AXIS_RADIUS = 3396.0
  CENTER_LATITUDE = 0.0
  CENTER_LONGITUDE = 199.0
  COORDINATE_SYSTEM_NAME = PLANETOGRAPHIC
  COORDINATE_SYSTEM_TYPE = "BODY-FIXED ROTATING"
  EASTERNMOST_LONGITUDE = 199.961
  FIRST_STANDARD_PARALLEL = "N/A"
  LINE_FIRST_PIXEL = 1
  LINE_LAST_PIXEL = 12999
  LINE_PROJECTION_OFFSET = -29774.375
  MAP_PROJECTION_ROTATION = 0.0
  MAP_PROJECTION_TYPE = SINUSOIDAL
  MAP_RESOLUTION = 1185.42760773333
  MAP_SCALE = 0.05
  MAXIMUM_LATITUDE = -25.1088
  MINIMUM_LATITUDE = -36.0547
  POSITIVE_LONGITUDE_DIRECTION = EAST
  REFERENCE_LATITUDE = "N/A"
  REFERENCE_LONGITUDE = "N/A"
  SAMPLE_FIRST_PIXEL = 1
  SAMPLE_LAST_PIXEL = 2102
  SAMPLE_PROJECTION_OFFSET = 1150.625
  SECOND_STANDARD_PARALLEL = "N/A"
  WESTERNMOST_LONGITUDE = 197.884
END_OBJECT = IMAGE_MAP_PROJECTION
END
