PDS_VERSION_ID = PDS3
/* FILE DATA ELEMENTS */
RECORD_TYPE = UNDEFINED
/* POINTERS TO DATA OBJECTS */
^IMAGE = ("HI731_0000_ND4.TIF")
/* IDENTIFICATION DATA ELEMENTS */
DATA_SET_ID = "MEX-M-HRSC-4-REFDR-MAPPROJECT-EXT6-V4.0"
DATA_SET_NAME = "MARS EXPRESS HRSC MAP PROJECTED REFDR EXTENSION6 V4.0"
DETECTOR_ID = MEX_HRSC_NADIR
EVENT_TYPE = "MARS-REGIONAL-MAPPING-Fl-Gl-Pf"
INSTRUMENT_HOST_ID = MEX
INSTRUMENT_HOST_NAME = "MARS EXPRESS"
INSTRUMENT_ID = HRSC
INSTRUMENT_NAME = "HIGH RESOLUTION STEREO CAMERA"
MISSION_NAME = "MARS EXPRESS"
MISSION_PHASE_NAME = ME_Phase_39
PROCESSING_LEVEL_ID = 4
PRODUCT_CREATION_TIME = 2023-01-29T14:35:52.000Z
PRODUCT_ID = "HI731_0000_ND4.TIF"
RELEASE_ID = 0005
REVISION_ID = 0000
/* QUALITY DATA ELEMENTS */
DATA_QUALITY_ID = 1
DATA_QUALITY_DESC = "Data calculated based on original SPICE kernels"
/* TIME DATA ELEMENTS */
SPACECRAFT_CLOCK_START_COUNT = "1/0488232325.24911"
SPACECRAFT_CLOCK_STOP_COUNT = "1/0488232564.16884"
START_TIME = 2018-10-21T20:06:42.366Z
STOP_TIME = 2018-10-21T20:09:21.358Z
/* ORBITAL DATA ELEMENTS */
ASCENDING_NODE_LONGITUDE = 222.76
MAXIMUM_RESOLUTION = 0.0167
FOOTPRINT_POINT_LATITUDE = (-36.0814,-36.0797,-36.0769,-36.0737, -36.0678,-36.0636,-36.0633,-36.0631, -35.6956,-35.4534,-35.2111,-34.9688, -34.7317,-34.4946,-34.2576,-34.0205, -33.7881,-33.556,-33.3239,-33.0922, -32.8639,-32.6367,-32.4089,-32.1816, -31.9559,-31.7342,-31.5122,-31.2902, -31.0682,-30.8476,-30.6308,-30.414, -30.197,-29.9802,-29.6561,-29.4441, -29.232,-29.0199,-28.8074,-28.5952, -28.3852,-28.1781,-27.9711,-27.7638, -27.4529,-27.2457,-26.8374,-26.5346, -26.1293,-25.6227,-25.2257,-25.1264, -25.1158,-25.1211,-25.1223,-25.1225, -25.121,-25.121,-25.1211,-25.5164, -25.8185,-26.2249,-26.6309,-27.035, -27.4483,-27.7597,-28.1741,-28.3814, -28.5916,-28.9107,-29.2293,-29.4418, -29.7604,-29.975,-30.1923,-30.5179, -30.7363,-30.9563,-31.1772,-31.4008, -31.6229,-31.9558,-32.1825,-32.4098, -32.6372,-32.8643,-33.0933,-33.3259, -33.5584,-33.7909,-34.0233,-34.379, -34.6165,-34.854,-35.0939,-35.3366, -35.5793,-35.9445,-36.0684,-36.0814)
FOOTPRINT_POINT_LONGITUDE = (199.984,199.276,198.869,198.548, 198.097,197.84,197.818,197.799,197.821, 197.836,197.85,197.863,197.876,197.889, 197.902,197.913,197.923,197.935,197.947 ,197.959,197.97,197.981,197.989,197.999 ,198.01,198.02,198.03,198.04,198.049, 198.058,198.067,198.076,198.084,198.093 ,198.105,198.112,198.12,198.127,198.134 ,198.141,198.149,198.155,198.162, 198.168,198.178,198.184,198.196,198.205 ,198.216,198.229,198.238,198.24,198.24, 198.716,199.192,199.445,199.827,199.842 ,199.85,199.855,199.858,199.862,199.866 ,199.872,199.877,199.88,199.886,199.889 ,199.891,199.895,199.899,199.901, 199.906,199.913,199.916,199.921,199.922 ,199.922,199.927,199.928,199.931, 199.937,199.939,199.942,199.946,199.949 ,199.951,199.954,199.957,199.959, 199.963,199.968,199.971,199.975,199.978 ,199.982,199.985,199.99,199.992, 199.984)
ORBIT_NUMBER = 18731
ORBITAL_ECCENTRICITY = 0.577
ORBITAL_INCLINATION = 86.95
ORBITAL_SEMIMAJOR_AXIS = 8843.9
PERIAPSIS_ALTITUDE = 341.46
PERIAPSIS_ARGUMENT_ANGLE = 351.51
PERIAPSIS_TIME = 2018-10-21T20:13:58.000Z
SPACECRAFT_ORIENTATION = (0.0,1.0,0.0)
^MEX_ORIENTATION_DESC = "MEX_ORIENTATION_DESC.TXT"
SPACECRAFT_POINTING_MODE = INERT
^MEX_POINTING_DESC = "MEX_POINTING_DESC.TXT"
RIGHT_ASCENSION = 78.848
DECLINATION = 31.251
OFFSET_ANGLE = -1e+32
SPACECRAFT_SOLAR_DISTANCE = 2.0799e+08
TARGET_NAME = MARS
/* CAMERA DATA ELEMENTS */
DETECTOR_TEMPERATURE = 18.5744
FOCAL_PLANE_TEMPERATURE = 10.6223
INST_CMPRS_NAME = "DISCRETE COSINE TRANSFORMATION (DCT)"
INST_CMPRS_RATIO = 6.51273
INST_CMPRS_QUALITY = 0
INST_CMPRS_QUANTZ_TBL_ID = 0
INSTRUMENT_TEMPERATURE = 11.6418
LENS_TEMPERATURE = 10.6223
MACROPIXEL_SIZE = 1
MISSING_FRAMES = 0
PIXEL_SUBSAMPLING_FLAG = N
SIGNAL_CHAIN_ID = 0
/* RADIOMETRIC DATA ELEMENTS */
BANDWIDTH = 177.0
CENTER_FILTER_WAVELENGTH = 677.5
RADIANCE_OFFSET = 2.50986
RADIANCE_SCALING_FACTOR = 0.00847555
REFLECTANCE_SCALING_FACTOR = 0.000194776
MEX:REFLECTANCE_OFFSET = 0.0576788
/* IMAGE OBJECT DEFINITIONS */
OBJECT = IMAGE
  INTERCHANGE_FORMAT = BINARY
  LINES = 51995
  LINE_SAMPLES = 8408
  SAMPLE_TYPE = UNSIGNED_INTEGER
  SAMPLE_BITS = 8
  BANDS = 1
  BAND_STORAGE_TYPE = BAND_SEQUENTIAL
  MAXIMUM = 255
  MEAN = 95.1272
  MINIMUM = 1
  STANDARD_DEVIATION = 39.4357
END_OBJECT = IMAGE
/* MAP OBJECT DEFINITIONS */
OBJECT = IMAGE_MAP_PROJECTION
  ^DATA_SET_MAP_PROJECTION_CATALOG= "DSMAP.CAT"
  A_AXIS_RADIUS = 3396.0
  B_AXIS_RADIUS = 3396.0
  C_AXIS_RADIUS = 3396.0
  CENTER_LATITUDE = 0.0
  CENTER_LONGITUDE = 199.0
  COORDINATE_SYSTEM_NAME = PLANETOGRAPHIC
  COORDINATE_SYSTEM_TYPE = "BODY-FIXED ROTATING"
  EASTERNMOST_LONGITUDE = 199.992
  FIRST_STANDARD_PARALLEL = "N/A"
  LINE_FIRST_PIXEL = 1
  LINE_LAST_PIXEL = 51995
  LINE_PROJECTION_OFFSET = -119096.0
  MAP_PROJECTION_ROTATION = 0.0
  MAP_PROJECTION_TYPE = SINUSOIDAL
  MAP_RESOLUTION = 4741.71043093333
  MAP_SCALE = 0.0125
  MAXIMUM_LATITUDE = -25.1158
  MINIMUM_LATITUDE = -36.0814
  POSITIVE_LONGITUDE_DIRECTION = EAST
  REFERENCE_LATITUDE = "N/A"
  REFERENCE_LONGITUDE = "N/A"
  SAMPLE_FIRST_PIXEL = 1
  SAMPLE_LAST_PIXEL = 8408
  SAMPLE_PROJECTION_OFFSET = 4604.0
  SECOND_STANDARD_PARALLEL = "N/A"
  WESTERNMOST_LONGITUDE = 197.799
END_OBJECT = IMAGE_MAP_PROJECTION
END
