PDS_VERSION_ID = PDS3
/* FILE DATA ELEMENTS */
RECORD_TYPE = UNDEFINED
/* POINTERS TO DATA OBJECTS */
^IMAGE = ("HI731_0000_P24.TIF")
/* IDENTIFICATION DATA ELEMENTS */
DATA_SET_ID = "MEX-M-HRSC-4-REFDR-MAPPROJECT-EXT6-V4.0"
DATA_SET_NAME = "MARS EXPRESS HRSC MAP PROJECTED REFDR EXTENSION6 V4.0"
DETECTOR_ID = MEX_HRSC_P2
EVENT_TYPE = "MARS-REGIONAL-MAPPING-Fl-Gl-Pf"
INSTRUMENT_HOST_ID = MEX
INSTRUMENT_HOST_NAME = "MARS EXPRESS"
INSTRUMENT_ID = HRSC
INSTRUMENT_NAME = "HIGH RESOLUTION STEREO CAMERA"
MISSION_NAME = "MARS EXPRESS"
MISSION_PHASE_NAME = ME_Phase_39
PROCESSING_LEVEL_ID = 4
PRODUCT_CREATION_TIME = 2023-01-29T14:35:52.000Z
PRODUCT_ID = "HI731_0000_P24.TIF"
RELEASE_ID = 0005
REVISION_ID = 0000
/* QUALITY DATA ELEMENTS */
DATA_QUALITY_ID = 1
DATA_QUALITY_DESC = "Data calculated based on original SPICE kernels"
/* TIME DATA ELEMENTS */
SPACECRAFT_CLOCK_START_COUNT = "1/0488232325.24911"
SPACECRAFT_CLOCK_STOP_COUNT = "1/0488232564.16884"
START_TIME = 2018-10-21T20:06:12.773Z
STOP_TIME = 2018-10-21T20:08:56.250Z
/* ORBITAL DATA ELEMENTS */
ASCENDING_NODE_LONGITUDE = 222.76
MAXIMUM_RESOLUTION = 0.0365
FOOTPRINT_POINT_LATITUDE = (-36.1184,-36.1176,-36.1158,-36.1124, -36.1086,-36.1027,-36.0965,-36.096, -36.0809,-35.7142,-35.4718,-35.2319, -34.991,-34.7506,-34.5148,-34.2789, -34.0399,-33.8035,-33.5712,-33.3404, -33.1113,-32.7683,-32.5393,-32.1938, -31.9715,-31.7515,-31.5283,-31.3056, -31.0847,-30.8666,-30.5392,-30.321, -30.1043,-29.8908,-29.6765,-29.4623, -29.248,-29.0349,-28.8246,-28.6146, -28.3001,-28.0901,-27.8817,-27.676, -27.3678,-26.9565,-26.7507,-26.3452, -25.8437,-25.5419,-25.2383,-25.1379, -25.1295,-25.1377,-25.1391,-25.1391, -25.1397,-25.1353,-25.1351,-25.1356, -25.534,-26.0388,-26.4486,-26.853, -27.2636,-27.4697,-27.6759,-27.8809, -28.1946,-28.5099,-28.8259,-29.0366, -29.2499,-29.4652,-29.9903,-30.3164, -30.5326,-30.7571,-30.981,-31.1932, -31.4231,-31.6452,-31.8679,-32.0915, -32.3173,-32.545,-32.8855,-33.2341, -33.4668,-33.7001,-33.9323,-34.1687, -34.4059,-34.7614,-35.1223,-35.3631, -35.7278,-35.9741,-36.0965,-36.1184)
FOOTPRINT_POINT_LONGITUDE = (200.004,199.348,199.064,198.714,198.43 ,198.08,197.773,197.751,197.735,197.758 ,197.773,197.787,197.801,197.814, 197.827,197.84,197.851,197.862,197.874, 197.886,197.899,197.915,197.925,197.938 ,197.949,197.96,197.97,197.98,197.989, 197.998,198.012,198.02,198.029,198.037, 198.045,198.053,198.061,198.068,198.075 ,198.083,198.093,198.1,198.107,198.113, 198.123,198.135,198.141,198.152,198.166 ,198.174,198.18,198.182,198.182,198.614 ,198.929,199.178,199.51,199.876,199.893 ,199.899,199.903,199.908,199.909, 199.914,199.918,199.92,199.922,199.924, 199.928,199.931,199.934,199.936,199.938 ,199.94,199.95,199.953,199.957,199.957, 199.957,199.962,199.962,199.965,199.967 ,199.97,199.972,199.975,199.979,199.981 ,199.983,199.985,199.988,199.991, 199.993,199.997,200.001,200.004,200.008 ,200.01,200.012,200.004)
ORBIT_NUMBER = 18731
ORBITAL_ECCENTRICITY = 0.577
ORBITAL_INCLINATION = 86.95
ORBITAL_SEMIMAJOR_AXIS = 8843.9
PERIAPSIS_ALTITUDE = 341.46
PERIAPSIS_ARGUMENT_ANGLE = 351.51
PERIAPSIS_TIME = 2018-10-21T20:13:58.000Z
SPACECRAFT_ORIENTATION = (0.0,1.0,0.0)
^MEX_ORIENTATION_DESC = "MEX_ORIENTATION_DESC.TXT"
SPACECRAFT_POINTING_MODE = INERT
^MEX_POINTING_DESC = "MEX_POINTING_DESC.TXT"
RIGHT_ASCENSION = 78.848
DECLINATION = 31.251
OFFSET_ANGLE = -1e+32
SPACECRAFT_SOLAR_DISTANCE = 2.0799e+08
TARGET_NAME = MARS
/* CAMERA DATA ELEMENTS */
DETECTOR_TEMPERATURE = 19.5939
FOCAL_PLANE_TEMPERATURE = 10.6223
INST_CMPRS_NAME = "DISCRETE COSINE TRANSFORMATION (DCT)"
INST_CMPRS_RATIO = 8.03366
INST_CMPRS_QUALITY = 0
INST_CMPRS_QUANTZ_TBL_ID = 0
INSTRUMENT_TEMPERATURE = 11.6418
LENS_TEMPERATURE = 10.6223
MACROPIXEL_SIZE = 2
MISSING_FRAMES = 0
PIXEL_SUBSAMPLING_FLAG = N
SIGNAL_CHAIN_ID = 3
/* RADIOMETRIC DATA ELEMENTS */
BANDWIDTH = 177.0
CENTER_FILTER_WAVELENGTH = 676.5
RADIANCE_OFFSET = 2.82868
RADIANCE_SCALING_FACTOR = 0.00803667
REFLECTANCE_SCALING_FACTOR = 0.000184339
MEX:REFLECTANCE_OFFSET = 0.064882
/* IMAGE OBJECT DEFINITIONS */
OBJECT = IMAGE
  INTERCHANGE_FORMAT = BINARY
  LINES = 25998
  LINE_SAMPLES = 4204
  SAMPLE_TYPE = UNSIGNED_INTEGER
  SAMPLE_BITS = 8
  BANDS = 1
  BAND_STORAGE_TYPE = BAND_SEQUENTIAL
  MAXIMUM = 255
  MEAN = 90.6764
  MINIMUM = 1
  STANDARD_DEVIATION = 36.6962
END_OBJECT = IMAGE
/* MAP OBJECT DEFINITIONS */
OBJECT = IMAGE_MAP_PROJECTION
  ^DATA_SET_MAP_PROJECTION_CATALOG= "DSMAP.CAT"
  A_AXIS_RADIUS = 3396.0
  B_AXIS_RADIUS = 3396.0
  C_AXIS_RADIUS = 3396.0
  CENTER_LATITUDE = 0.0
  CENTER_LONGITUDE = 199.0
  COORDINATE_SYSTEM_NAME = PLANETOGRAPHIC
  COORDINATE_SYSTEM_TYPE = "BODY-FIXED ROTATING"
  EASTERNMOST_LONGITUDE = 200.012
  FIRST_STANDARD_PARALLEL = "N/A"
  LINE_FIRST_PIXEL = 1
  LINE_LAST_PIXEL = 25998
  LINE_PROJECTION_OFFSET = -59548.25
  MAP_PROJECTION_ROTATION = 0.0
  MAP_PROJECTION_TYPE = SINUSOIDAL
  MAP_RESOLUTION = 2370.85521546667
  MAP_SCALE = 0.025
  MAXIMUM_LATITUDE = -25.1295
  MINIMUM_LATITUDE = -36.1184
  POSITIVE_LONGITUDE_DIRECTION = EAST
  REFERENCE_LATITUDE = "N/A"
  REFERENCE_LONGITUDE = "N/A"
  SAMPLE_FIRST_PIXEL = 1
  SAMPLE_LAST_PIXEL = 4204
  SAMPLE_PROJECTION_OFFSET = 2301.75
  SECOND_STANDARD_PARALLEL = "N/A"
  WESTERNMOST_LONGITUDE = 197.735
END_OBJECT = IMAGE_MAP_PROJECTION
END
