PDS_VERSION_ID = PDS3
/* FILE DATA ELEMENTS */
RECORD_TYPE = UNDEFINED
/* POINTERS TO DATA OBJECTS */
^IMAGE = ("HI733_0000_ND4.TIF")
/* IDENTIFICATION DATA ELEMENTS */
DATA_SET_ID = "MEX-M-HRSC-4-REFDR-MAPPROJECT-EXT6-V4.0"
DATA_SET_NAME = "MARS EXPRESS HRSC MAP PROJECTED REFDR EXTENSION6 V4.0"
DETECTOR_ID = MEX_HRSC_NADIR
EVENT_TYPE = "MARS-REGIONAL-MAPPING-Im-Fl"
INSTRUMENT_HOST_ID = MEX
INSTRUMENT_HOST_NAME = "MARS EXPRESS"
INSTRUMENT_ID = HRSC
INSTRUMENT_NAME = "HIGH RESOLUTION STEREO CAMERA"
MISSION_NAME = "MARS EXPRESS"
MISSION_PHASE_NAME = ME_Phase_39
PROCESSING_LEVEL_ID = 4
PRODUCT_CREATION_TIME = 2023-01-29T14:35:52.000Z
PRODUCT_ID = "HI733_0000_ND4.TIF"
RELEASE_ID = 0005
REVISION_ID = 0000
/* QUALITY DATA ELEMENTS */
DATA_QUALITY_ID = 1
DATA_QUALITY_DESC = "Data calculated based on original SPICE kernels"
/* TIME DATA ELEMENTS */
SPACECRAFT_CLOCK_START_COUNT = "1/0488282775.25720"
SPACECRAFT_CLOCK_STOP_COUNT = "1/0488282986.39571"
START_TIME = 2018-10-22T10:07:21.991Z
STOP_TIME = 2018-10-22T10:09:47.980Z
/* ORBITAL DATA ELEMENTS */
ASCENDING_NODE_LONGITUDE = 222.72
MAXIMUM_RESOLUTION = 0.0146
FOOTPRINT_POINT_LATITUDE = (-26.56,-26.5611,-26.5609,-26.5603, -26.5577,-26.5576,-26.5571,-26.1433, -25.7335,-25.3235,-24.9136,-24.7085, -24.4009,-24.1957,-23.8882,-23.5806, -23.3755,-23.1704,-22.8626,-22.6575, -22.4523,-22.2471,-22.0419,-21.7339, -21.4259,-21.2206,-21.0152,-20.8098, -20.5017,-20.2962,-20.0906,-19.8851, -19.6795,-19.4739,-19.2686,-19.0628, -18.7529,-18.5455,-18.3394,-18.1335, -17.9274,-17.517,-17.2073,-17.0008, -16.7944,-16.5881,-16.3813,-16.2781, -16.2574,-16.2577,-16.257,-16.2562, -16.2539,-16.2537,-16.254,-16.4601, -16.6667,-16.8734,-17.0798,-17.2862, -17.4928,-17.6999,-17.9064,-18.1124, -18.319,-18.6283,-18.8345,-19.0401, -19.3485,-19.5541,-19.7598,-19.9656, -20.3757,-20.5821,-20.8911,-21.0963, -21.3018,-21.5073,-21.8155,-22.1235, -22.3289,-22.6369,-22.8422,-23.0475, -23.2528,-23.458,-23.6633,-23.8684, -24.0735,-24.2787,-24.4842,-24.6894, -24.9972,-25.2023,-25.6124,-25.8176, -26.0226,-26.4334,-26.5387,-26.56)
FOOTPRINT_POINT_LONGITUDE = (355.505,354.987,354.689,354.453, 353.935,353.92,353.905,353.917,353.929, 353.939,353.951,353.955,353.963,353.967 ,353.975,353.982,353.986,353.991, 353.997,354.002,354.006,354.01,354.014, 354.02,354.025,354.029,354.033,354.036, 354.041,354.045,354.048,354.051,354.054 ,354.057,354.06,354.063,354.066,354.067 ,354.07,354.072,354.075,354.081,354.084 ,354.086,354.087,354.089,354.091, 354.092,354.092,354.379,354.745,354.967 ,355.399,355.412,355.418,355.42,355.422 ,355.423,355.424,355.426,355.427, 355.428,355.429,355.431,355.432,355.434 ,355.436,355.438,355.441,355.443, 355.445,355.446,355.451,355.452,355.454 ,355.457,355.459,355.461,355.463, 355.466,355.468,355.471,355.473,355.475 ,355.477,355.48,355.482,355.484,355.486 ,355.488,355.489,355.491,355.494, 355.497,355.501,355.503,355.505,355.51, 355.511,355.505)
ORBIT_NUMBER = 18733
ORBITAL_ECCENTRICITY = 0.577
ORBITAL_INCLINATION = 86.94
ORBITAL_SEMIMAJOR_AXIS = 8845.41
PERIAPSIS_ALTITUDE = 341.51
PERIAPSIS_ARGUMENT_ANGLE = 351.15
PERIAPSIS_TIME = 2018-10-22T10:11:58.000Z
SPACECRAFT_ORIENTATION = (0.0,1.0,0.0)
^MEX_ORIENTATION_DESC = "MEX_ORIENTATION_DESC.TXT"
SPACECRAFT_POINTING_MODE = INERT
^MEX_POINTING_DESC = "MEX_POINTING_DESC.TXT"
RIGHT_ASCENSION = 78.592
DECLINATION = 31.506
OFFSET_ANGLE = -1e+32
SPACECRAFT_SOLAR_DISTANCE = 2.08033e+08
TARGET_NAME = MARS
/* CAMERA DATA ELEMENTS */
DETECTOR_TEMPERATURE = 18.9822
FOCAL_PLANE_TEMPERATURE = 10.0106
INST_CMPRS_NAME = "DISCRETE COSINE TRANSFORMATION (DCT)"
INST_CMPRS_RATIO = 6.44064
INST_CMPRS_QUALITY = 0
INST_CMPRS_QUANTZ_TBL_ID = 0
INSTRUMENT_TEMPERATURE = 12.2535
LENS_TEMPERATURE = 10.6223
MACROPIXEL_SIZE = 1
MISSING_FRAMES = 0
PIXEL_SUBSAMPLING_FLAG = N
SIGNAL_CHAIN_ID = 0
/* RADIOMETRIC DATA ELEMENTS */
BANDWIDTH = 177.0
CENTER_FILTER_WAVELENGTH = 677.5
RADIANCE_OFFSET = 2.13944
RADIANCE_SCALING_FACTOR = 0.00669072
REFLECTANCE_SCALING_FACTOR = 0.000153824
MEX:REFLECTANCE_OFFSET = 0.0491869
/* IMAGE OBJECT DEFINITIONS */
OBJECT = IMAGE
  INTERCHANGE_FORMAT = BINARY
  LINES = 48876
  LINE_SAMPLES = 6813
  SAMPLE_TYPE = UNSIGNED_INTEGER
  SAMPLE_BITS = 8
  BANDS = 1
  BAND_STORAGE_TYPE = BAND_SEQUENTIAL
  MAXIMUM = 255
  MEAN = 122.418
  MINIMUM = 1
  STANDARD_DEVIATION = 38.1768
END_OBJECT = IMAGE
/* MAP OBJECT DEFINITIONS */
OBJECT = IMAGE_MAP_PROJECTION
  ^DATA_SET_MAP_PROJECTION_CATALOG= "DSMAP.CAT"
  A_AXIS_RADIUS = 3396.0
  B_AXIS_RADIUS = 3396.0
  C_AXIS_RADIUS = 3396.0
  CENTER_LATITUDE = 0.0
  CENTER_LONGITUDE = 355.0
  COORDINATE_SYSTEM_NAME = PLANETOGRAPHIC
  COORDINATE_SYSTEM_TYPE = "BODY-FIXED ROTATING"
  EASTERNMOST_LONGITUDE = 355.511
  FIRST_STANDARD_PARALLEL = "N/A"
  LINE_FIRST_PIXEL = 1
  LINE_LAST_PIXEL = 48876
  LINE_PROJECTION_OFFSET = -77070.0
  MAP_PROJECTION_ROTATION = 0.0
  MAP_PROJECTION_TYPE = SINUSOIDAL
  MAP_RESOLUTION = 4741.71043093333
  MAP_SCALE = 0.0125
  MAXIMUM_LATITUDE = -16.2537
  MINIMUM_LATITUDE = -26.5611
  POSITIVE_LONGITUDE_DIRECTION = EAST
  REFERENCE_LATITUDE = "N/A"
  REFERENCE_LONGITUDE = "N/A"
  SAMPLE_FIRST_PIXEL = 1
  SAMPLE_LAST_PIXEL = 6813
  SAMPLE_PROJECTION_OFFSET = 4644.0
  SECOND_STANDARD_PARALLEL = "N/A"
  WESTERNMOST_LONGITUDE = 353.905
END_OBJECT = IMAGE_MAP_PROJECTION
END
