PDS_VERSION_ID = PDS3
/* FILE DATA ELEMENTS */
RECORD_TYPE = UNDEFINED
/* POINTERS TO DATA OBJECTS */
^IMAGE = ("HI733_0000_P24.TIF")
/* IDENTIFICATION DATA ELEMENTS */
DATA_SET_ID = "MEX-M-HRSC-4-REFDR-MAPPROJECT-EXT6-V4.0"
DATA_SET_NAME = "MARS EXPRESS HRSC MAP PROJECTED REFDR EXTENSION6 V4.0"
DETECTOR_ID = MEX_HRSC_P2
EVENT_TYPE = "MARS-REGIONAL-MAPPING-Im-Fl"
INSTRUMENT_HOST_ID = MEX
INSTRUMENT_HOST_NAME = "MARS EXPRESS"
INSTRUMENT_ID = HRSC
INSTRUMENT_NAME = "HIGH RESOLUTION STEREO CAMERA"
MISSION_NAME = "MARS EXPRESS"
MISSION_PHASE_NAME = ME_Phase_39
PROCESSING_LEVEL_ID = 4
PRODUCT_CREATION_TIME = 2023-01-29T14:35:52.000Z
PRODUCT_ID = "HI733_0000_P24.TIF"
RELEASE_ID = 0005
REVISION_ID = 0000
/* QUALITY DATA ELEMENTS */
DATA_QUALITY_ID = 1
DATA_QUALITY_DESC = "Data calculated based on original SPICE kernels"
/* TIME DATA ELEMENTS */
SPACECRAFT_CLOCK_START_COUNT = "1/0488282775.25720"
SPACECRAFT_CLOCK_STOP_COUNT = "1/0488282986.39571"
START_TIME = 2018-10-22T10:06:59.122Z
STOP_TIME = 2018-10-22T10:09:26.977Z
/* ORBITAL DATA ELEMENTS */
ASCENDING_NODE_LONGITUDE = 222.72
MAXIMUM_RESOLUTION = 0.0314
FOOTPRINT_POINT_LATITUDE = (-26.5729,-26.5742,-26.5746,-26.5731, -26.5691,-26.5689,-26.5555,-26.3427, -26.1317,-25.8207,-25.5084,-25.3003, -25.093,-24.5791,-24.172,-23.868, -23.5635,-23.1572,-22.852,-22.5467, -22.3432,-22.0378,-21.8337,-21.5276, -21.3234,-21.0169,-20.8125,-20.6082, -20.4036,-20.1989,-19.9941,-19.6867, -19.4818,-19.277,-19.0714,-18.762, -18.5505,-18.3442,-18.1388,-17.9329, -17.7284,-17.5242,-17.2146,-17.0073, -16.7984,-16.5915,-16.3836,-16.28, -16.2634,-16.264,-16.2642,-16.2632, -16.2604,-16.2583,-16.2581,-16.2586, -16.4651,-16.6726,-16.8801,-17.0874, -17.2944,-17.6056,-17.8147,-18.02, -18.3317,-18.6413,-18.8478,-19.0533, -19.3602,-19.5652,-19.7701,-19.9755, -20.3823,-20.5891,-20.8984,-21.1016, -21.4082,-21.6126,-21.817,-22.021, -22.3271,-22.5305,-22.7348,-22.9384, -23.1419,-23.4472,-23.6507,-24.0563, -24.3623,-24.5661,-24.7694,-24.9761, -25.1843,-25.4961,-25.808,-26.0158, -26.2243,-26.4376,-26.5442,-26.5729)
FOOTPRINT_POINT_LONGITUDE = (355.511,355.211,354.911,354.39,353.9, 353.884,353.872,353.878,353.885,353.893 ,353.901,353.907,353.912,353.925, 353.934,353.941,353.948,353.957,353.963 ,353.969,353.973,353.979,353.983, 353.989,353.992,353.997,354.001,354.004 ,354.007,354.01,354.014,354.018,354.021 ,354.024,354.026,354.03,354.031,354.033 ,354.036,354.038,354.041,354.043, 354.046,354.048,354.05,354.051,354.053, 354.054,354.054,354.269,354.539,354.754 ,355.186,355.429,355.442,355.447, 355.449,355.45,355.451,355.452,355.453, 355.454,355.454,355.456,355.457,355.459 ,355.46,355.461,355.464,355.465,355.467 ,355.468,355.472,355.473,355.474, 355.476,355.478,355.48,355.481,355.483, 355.485,355.487,355.488,355.49,355.491, 355.494,355.495,355.499,355.501,355.502 ,355.503,355.505,355.506,355.509, 355.512,355.513,355.515,355.517,355.518 ,355.511)
ORBIT_NUMBER = 18733
ORBITAL_ECCENTRICITY = 0.577
ORBITAL_INCLINATION = 86.94
ORBITAL_SEMIMAJOR_AXIS = 8845.41
PERIAPSIS_ALTITUDE = 341.51
PERIAPSIS_ARGUMENT_ANGLE = 351.15
PERIAPSIS_TIME = 2018-10-22T10:11:58.000Z
SPACECRAFT_ORIENTATION = (0.0,1.0,0.0)
^MEX_ORIENTATION_DESC = "MEX_ORIENTATION_DESC.TXT"
SPACECRAFT_POINTING_MODE = INERT
^MEX_POINTING_DESC = "MEX_POINTING_DESC.TXT"
RIGHT_ASCENSION = 78.592
DECLINATION = 31.506
OFFSET_ANGLE = -1e+32
SPACECRAFT_SOLAR_DISTANCE = 2.08033e+08
TARGET_NAME = MARS
/* CAMERA DATA ELEMENTS */
DETECTOR_TEMPERATURE = 19.5939
FOCAL_PLANE_TEMPERATURE = 10.0106
INST_CMPRS_NAME = "DISCRETE COSINE TRANSFORMATION (DCT)"
INST_CMPRS_RATIO = 6.66428
INST_CMPRS_QUALITY = 0
INST_CMPRS_QUANTZ_TBL_ID = 0
INSTRUMENT_TEMPERATURE = 12.2535
LENS_TEMPERATURE = 10.6223
MACROPIXEL_SIZE = 2
MISSING_FRAMES = 0
PIXEL_SUBSAMPLING_FLAG = N
SIGNAL_CHAIN_ID = 3
/* RADIOMETRIC DATA ELEMENTS */
BANDWIDTH = 177.0
CENTER_FILTER_WAVELENGTH = 676.5
RADIANCE_OFFSET = 2.50467
RADIANCE_SCALING_FACTOR = 0.00622659
REFLECTANCE_SCALING_FACTOR = 0.00014288
MEX:REFLECTANCE_OFFSET = 0.0574741
/* IMAGE OBJECT DEFINITIONS */
OBJECT = IMAGE
  INTERCHANGE_FORMAT = BINARY
  LINES = 24438
  LINE_SAMPLES = 3407
  SAMPLE_TYPE = UNSIGNED_INTEGER
  SAMPLE_BITS = 8
  BANDS = 1
  BAND_STORAGE_TYPE = BAND_SEQUENTIAL
  MAXIMUM = 255
  MEAN = 119.944
  MINIMUM = 1
  STANDARD_DEVIATION = 38.4996
END_OBJECT = IMAGE
/* MAP OBJECT DEFINITIONS */
OBJECT = IMAGE_MAP_PROJECTION
  ^DATA_SET_MAP_PROJECTION_CATALOG= "DSMAP.CAT"
  A_AXIS_RADIUS = 3396.0
  B_AXIS_RADIUS = 3396.0
  C_AXIS_RADIUS = 3396.0
  CENTER_LATITUDE = 0.0
  CENTER_LONGITUDE = 355.0
  COORDINATE_SYSTEM_NAME = PLANETOGRAPHIC
  COORDINATE_SYSTEM_TYPE = "BODY-FIXED ROTATING"
  EASTERNMOST_LONGITUDE = 355.518
  FIRST_STANDARD_PARALLEL = "N/A"
  LINE_FIRST_PIXEL = 1
  LINE_LAST_PIXEL = 24438
  LINE_PROJECTION_OFFSET = -38535.25
  MAP_PROJECTION_ROTATION = 0.0
  MAP_PROJECTION_TYPE = SINUSOIDAL
  MAP_RESOLUTION = 2370.85521546667
  MAP_SCALE = 0.025
  MAXIMUM_LATITUDE = -16.2581
  MINIMUM_LATITUDE = -26.5746
  POSITIVE_LONGITUDE_DIRECTION = EAST
  REFERENCE_LATITUDE = "N/A"
  REFERENCE_LONGITUDE = "N/A"
  SAMPLE_FIRST_PIXEL = 1
  SAMPLE_LAST_PIXEL = 3407
  SAMPLE_PROJECTION_OFFSET = 2321.75
  SECOND_STANDARD_PARALLEL = "N/A"
  WESTERNMOST_LONGITUDE = 353.872
END_OBJECT = IMAGE_MAP_PROJECTION
END
