PDS_VERSION_ID = PDS3
/* FILE DATA ELEMENTS */
RECORD_TYPE = UNDEFINED
/* POINTERS TO DATA OBJECTS */
^IMAGE = ("HI733_0000_RE4.TIF")
/* IDENTIFICATION DATA ELEMENTS */
DATA_SET_ID = "MEX-M-HRSC-4-REFDR-MAPPROJECT-EXT6-V4.0"
DATA_SET_NAME = "MARS EXPRESS HRSC MAP PROJECTED REFDR EXTENSION6 V4.0"
DETECTOR_ID = MEX_HRSC_RED
EVENT_TYPE = "MARS-REGIONAL-MAPPING-Im-Fl"
INSTRUMENT_HOST_ID = MEX
INSTRUMENT_HOST_NAME = "MARS EXPRESS"
INSTRUMENT_ID = HRSC
INSTRUMENT_NAME = "HIGH RESOLUTION STEREO CAMERA"
MISSION_NAME = "MARS EXPRESS"
MISSION_PHASE_NAME = ME_Phase_39
PROCESSING_LEVEL_ID = 4
PRODUCT_CREATION_TIME = 2023-01-29T14:35:52.000Z
PRODUCT_ID = "HI733_0000_RE4.TIF"
RELEASE_ID = 0005
REVISION_ID = 0000
/* QUALITY DATA ELEMENTS */
DATA_QUALITY_ID = 1
DATA_QUALITY_DESC = "Data calculated based on original SPICE kernels"
/* TIME DATA ELEMENTS */
SPACECRAFT_CLOCK_START_COUNT = "1/0488282775.25720"
SPACECRAFT_CLOCK_STOP_COUNT = "1/0488282986.39571"
START_TIME = 2018-10-22T10:06:53.194Z
STOP_TIME = 2018-10-22T10:09:21.282Z
/* ORBITAL DATA ELEMENTS */
ASCENDING_NODE_LONGITUDE = 222.72
MAXIMUM_RESOLUTION = 0.0645
FOOTPRINT_POINT_LATITUDE = (-26.5666,-26.5677,-26.5681,-26.5677, -26.5664,-26.5645,-26.5615,-26.5613, -26.5442,-26.3323,-26.1206,-25.9093, -25.6988,-25.4913,-25.2842,-25.0778, -24.8706,-24.6627,-24.3518,-23.8468, -23.5433,-23.2396,-22.8342,-22.5299, -22.327,-22.0225,-21.8189,-21.5136, -21.3099,-21.1061,-20.9023,-20.6984, -20.4944,-20.2902,-20.0857,-19.7792, -19.5744,-19.3703,-19.1651,-18.9592, -18.7507,-18.5409,-18.3352,-18.1299, -17.9239,-17.5178,-17.2071,-16.9993, -16.7902,-16.5834,-16.3754,-16.2717, -16.2605,-16.2613,-16.2614,-16.2579, -16.2554,-16.2552,-16.256,-16.4631, -16.6706,-16.8782,-17.0855,-17.2925, -17.4996,-17.7091,-17.9161,-18.2256, -18.433,-18.6392,-18.8459,-19.0515, -19.2543,-19.4591,-19.7666,-19.9715, -20.3778,-20.5845,-20.8931,-21.2994, -21.605,-21.809,-22.0125,-22.3177, -22.7242,-22.9272,-23.1301,-23.6372, -24.0412,-24.4488,-24.6566,-24.9689, -25.1762,-25.3831,-25.59,-25.7974, -26.0098,-26.4345,-26.5405,-26.5666)
FOOTPRINT_POINT_LONGITUDE = (355.511,355.221,354.978,354.703, 354.429,354.185,353.895,353.88,353.869, 353.875,353.881,353.887,353.893,353.898 ,353.903,353.909,353.914,353.919, 353.926,353.937,353.944,353.951,353.959 ,353.965,353.969,353.975,353.979, 353.984,353.987,353.991,353.994,353.998 ,354.001,354.004,354.007,354.011, 354.014,354.017,354.02,354.022,354.024, 354.025,354.027,354.03,354.032,354.038, 354.041,354.042,354.044,354.045,354.047 ,354.048,354.048,354.296,354.689, 355.187,355.436,355.449,355.454,355.455 ,355.456,355.456,355.457,355.458, 355.459,355.459,355.46,355.462,355.463, 355.464,355.464,355.466,355.468,355.469 ,355.471,355.472,355.476,355.476, 355.477,355.481,355.483,355.484,355.485 ,355.488,355.49,355.492,355.493,355.497 ,355.5,355.502,355.504,355.506,355.507, 355.509,355.51,355.512,355.514,355.517, 355.518,355.511)
ORBIT_NUMBER = 18733
ORBITAL_ECCENTRICITY = 0.577
ORBITAL_INCLINATION = 86.94
ORBITAL_SEMIMAJOR_AXIS = 8845.41
PERIAPSIS_ALTITUDE = 341.51
PERIAPSIS_ARGUMENT_ANGLE = 351.15
PERIAPSIS_TIME = 2018-10-22T10:11:58.000Z
SPACECRAFT_ORIENTATION = (0.0,1.0,0.0)
^MEX_ORIENTATION_DESC = "MEX_ORIENTATION_DESC.TXT"
SPACECRAFT_POINTING_MODE = INERT
^MEX_POINTING_DESC = "MEX_POINTING_DESC.TXT"
RIGHT_ASCENSION = 78.592
DECLINATION = 31.506
OFFSET_ANGLE = -1e+32
SPACECRAFT_SOLAR_DISTANCE = 2.08033e+08
TARGET_NAME = MARS
/* CAMERA DATA ELEMENTS */
DETECTOR_TEMPERATURE = 19.5939
FOCAL_PLANE_TEMPERATURE = 10.0106
INST_CMPRS_NAME = "DISCRETE COSINE TRANSFORMATION (DCT)"
INST_CMPRS_RATIO = 16.6137
INST_CMPRS_QUALITY = 0
INST_CMPRS_QUANTZ_TBL_ID = 0
INSTRUMENT_TEMPERATURE = 12.2535
LENS_TEMPERATURE = 10.6223
MACROPIXEL_SIZE = 4
MISSING_FRAMES = 0
PIXEL_SUBSAMPLING_FLAG = N
SIGNAL_CHAIN_ID = 2
/* RADIOMETRIC DATA ELEMENTS */
BANDWIDTH = 48.0
CENTER_FILTER_WAVELENGTH = 748.0
RADIANCE_OFFSET = 0.674235
RADIANCE_SCALING_FACTOR = 0.00178251
REFLECTANCE_SCALING_FACTOR = 0.000176045
MEX:REFLECTANCE_OFFSET = 0.066589
/* IMAGE OBJECT DEFINITIONS */
OBJECT = IMAGE
  INTERCHANGE_FORMAT = BINARY
  LINES = 12219
  LINE_SAMPLES = 1704
  SAMPLE_TYPE = UNSIGNED_INTEGER
  SAMPLE_BITS = 8
  BANDS = 1
  BAND_STORAGE_TYPE = BAND_SEQUENTIAL
  MAXIMUM = 255
  MEAN = 121.188
  MINIMUM = 1
  STANDARD_DEVIATION = 39.4257
END_OBJECT = IMAGE
/* MAP OBJECT DEFINITIONS */
OBJECT = IMAGE_MAP_PROJECTION
  ^DATA_SET_MAP_PROJECTION_CATALOG= "DSMAP.CAT"
  A_AXIS_RADIUS = 3396.0
  B_AXIS_RADIUS = 3396.0
  C_AXIS_RADIUS = 3396.0
  CENTER_LATITUDE = 0.0
  CENTER_LONGITUDE = 355.0
  COORDINATE_SYSTEM_NAME = PLANETOGRAPHIC
  COORDINATE_SYSTEM_TYPE = "BODY-FIXED ROTATING"
  EASTERNMOST_LONGITUDE = 355.518
  FIRST_STANDARD_PARALLEL = "N/A"
  LINE_FIRST_PIXEL = 1
  LINE_LAST_PIXEL = 12219
  LINE_PROJECTION_OFFSET = -19267.875
  MAP_PROJECTION_ROTATION = 0.0
  MAP_PROJECTION_TYPE = SINUSOIDAL
  MAP_RESOLUTION = 1185.42760773333
  MAP_SCALE = 0.05
  MAXIMUM_LATITUDE = -16.2552
  MINIMUM_LATITUDE = -26.5681
  POSITIVE_LONGITUDE_DIRECTION = EAST
  REFERENCE_LATITUDE = "N/A"
  REFERENCE_LONGITUDE = "N/A"
  SAMPLE_FIRST_PIXEL = 1
  SAMPLE_LAST_PIXEL = 1704
  SAMPLE_PROJECTION_OFFSET = 1160.625
  SECOND_STANDARD_PARALLEL = "N/A"
  WESTERNMOST_LONGITUDE = 353.869
END_OBJECT = IMAGE_MAP_PROJECTION
END
