PDS_VERSION_ID = PDS3
/* FILE DATA ELEMENTS */
RECORD_TYPE = UNDEFINED
/* POINTERS TO DATA OBJECTS */
^IMAGE = ("HI733_0000_S24.TIF")
/* IDENTIFICATION DATA ELEMENTS */
DATA_SET_ID = "MEX-M-HRSC-4-REFDR-MAPPROJECT-EXT6-V4.0"
DATA_SET_NAME = "MARS EXPRESS HRSC MAP PROJECTED REFDR EXTENSION6 V4.0"
DETECTOR_ID = MEX_HRSC_S2
EVENT_TYPE = "MARS-REGIONAL-MAPPING-Im-Fl"
INSTRUMENT_HOST_ID = MEX
INSTRUMENT_HOST_NAME = "MARS EXPRESS"
INSTRUMENT_ID = HRSC
INSTRUMENT_NAME = "HIGH RESOLUTION STEREO CAMERA"
MISSION_NAME = "MARS EXPRESS"
MISSION_PHASE_NAME = ME_Phase_39
PROCESSING_LEVEL_ID = 4
PRODUCT_CREATION_TIME = 2023-01-29T14:35:52.000Z
PRODUCT_ID = "HI733_0000_S24.TIF"
RELEASE_ID = 0005
REVISION_ID = 0000
/* QUALITY DATA ELEMENTS */
DATA_QUALITY_ID = 1
DATA_QUALITY_DESC = "Data calculated based on original SPICE kernels"
/* TIME DATA ELEMENTS */
SPACECRAFT_CLOCK_START_COUNT = "1/0488282775.25720"
SPACECRAFT_CLOCK_STOP_COUNT = "1/0488282986.39571"
START_TIME = 2018-10-22T10:06:46.742Z
STOP_TIME = 2018-10-22T10:09:15.357Z
/* ORBITAL DATA ELEMENTS */
ASCENDING_NODE_LONGITUDE = 222.72
MAXIMUM_RESOLUTION = 0.0332
FOOTPRINT_POINT_LATITUDE = (-26.5916,-26.593,-26.5931,-26.5923, -26.5906,-26.5856,-26.5853,-26.5655, -26.3545,-26.1438,-25.8278,-25.6168, -25.2993,-25.0937,-24.8874,-24.6804, -24.4717,-24.2643,-24.058,-23.8554, -23.5529,-23.1492,-22.6436,-22.2387, -22.036,-21.7315,-21.5286,-21.3254, -21.1219,-20.9183,-20.7149,-20.5112, -20.3075,-20.1033,-19.7972,-19.4905, -19.2866,-19.0813,-18.7693,-18.5594, -18.3532,-18.1485,-17.9421,-17.537, -17.3305,-17.1226,-16.915,-16.7055, -16.3942,-16.2904,-16.2647,-16.2657, -16.2661,-16.2652,-16.2638,-16.2592, -16.259,-16.2595,-16.4668,-16.6744, -16.9859,-17.193,-17.4002,-17.6093, -17.8178,-18.0228,-18.2303,-18.4379, -18.6443,-18.8508,-19.056,-19.4635, -19.7701,-20.077,-20.38,-20.6908, -20.8952,-21.3004,-21.5038,-21.7074, -21.9109,-22.1137,-22.3167,-22.621, -23.1271,-23.5317,-23.935,-24.1394, -24.3473,-24.6605,-24.8682,-25.0749, -25.2809,-25.4904,-25.7021,-25.9136, -26.1252,-26.4425,-26.5479,-26.5916)
FOOTPRINT_POINT_LONGITUDE = (355.514,355.147,354.891,354.62,354.364 ,353.885,353.869,353.856,353.862, 353.868,353.877,353.883,353.891,353.896 ,353.902,353.906,353.911,353.915,353.92 ,353.925,353.932,353.94,353.951,353.958 ,353.962,353.968,353.971,353.975, 353.978,353.981,353.985,353.988,353.991 ,353.994,353.998,354.003,354.006, 354.008,354.011,354.012,354.014,354.017 ,354.019,354.025,354.027,354.028,354.03 ,354.031,354.033,354.034,354.034, 354.283,354.545,354.766,354.987,355.443 ,355.457,355.462,355.463,355.464, 355.465,355.466,355.467,355.467,355.467 ,355.469,355.469,355.47,355.471,355.472 ,355.473,355.476,355.477,355.479, 355.482,355.482,355.483,355.486,355.488 ,355.489,355.49,355.491,355.493,355.495 ,355.498,355.501,355.503,355.505, 355.506,355.507,355.508,355.51,355.511, 355.513,355.514,355.516,355.517,355.519 ,355.52,355.514)
ORBIT_NUMBER = 18733
ORBITAL_ECCENTRICITY = 0.577
ORBITAL_INCLINATION = 86.94
ORBITAL_SEMIMAJOR_AXIS = 8845.41
PERIAPSIS_ALTITUDE = 341.51
PERIAPSIS_ARGUMENT_ANGLE = 351.15
PERIAPSIS_TIME = 2018-10-22T10:11:58.000Z
SPACECRAFT_ORIENTATION = (0.0,1.0,0.0)
^MEX_ORIENTATION_DESC = "MEX_ORIENTATION_DESC.TXT"
SPACECRAFT_POINTING_MODE = INERT
^MEX_POINTING_DESC = "MEX_POINTING_DESC.TXT"
RIGHT_ASCENSION = 78.592
DECLINATION = 31.506
OFFSET_ANGLE = -1e+32
SPACECRAFT_SOLAR_DISTANCE = 2.08033e+08
TARGET_NAME = MARS
/* CAMERA DATA ELEMENTS */
DETECTOR_TEMPERATURE = 19.5939
FOCAL_PLANE_TEMPERATURE = 10.0106
INST_CMPRS_NAME = "DISCRETE COSINE TRANSFORMATION (DCT)"
INST_CMPRS_RATIO = 11.3289
INST_CMPRS_QUALITY = 0
INST_CMPRS_QUANTZ_TBL_ID = 0
INSTRUMENT_TEMPERATURE = 12.2535
LENS_TEMPERATURE = 10.6223
MACROPIXEL_SIZE = 2
MISSING_FRAMES = 0
PIXEL_SUBSAMPLING_FLAG = N
SIGNAL_CHAIN_ID = 1
/* RADIOMETRIC DATA ELEMENTS */
BANDWIDTH = 178.0
CENTER_FILTER_WAVELENGTH = 679.0
RADIANCE_OFFSET = 2.66093
RADIANCE_SCALING_FACTOR = 0.00649526
REFLECTANCE_SCALING_FACTOR = 0.000148864
MEX:REFLECTANCE_OFFSET = 0.0609855
/* IMAGE OBJECT DEFINITIONS */
OBJECT = IMAGE
  INTERCHANGE_FORMAT = BINARY
  LINES = 24438
  LINE_SAMPLES = 3407
  SAMPLE_TYPE = UNSIGNED_INTEGER
  SAMPLE_BITS = 8
  BANDS = 1
  BAND_STORAGE_TYPE = BAND_SEQUENTIAL
  MAXIMUM = 255
  MEAN = 126.768
  MINIMUM = 1
  STANDARD_DEVIATION = 38.9171
END_OBJECT = IMAGE
/* MAP OBJECT DEFINITIONS */
OBJECT = IMAGE_MAP_PROJECTION
  ^DATA_SET_MAP_PROJECTION_CATALOG= "DSMAP.CAT"
  A_AXIS_RADIUS = 3396.0
  B_AXIS_RADIUS = 3396.0
  C_AXIS_RADIUS = 3396.0
  CENTER_LATITUDE = 0.0
  CENTER_LONGITUDE = 355.0
  COORDINATE_SYSTEM_NAME = PLANETOGRAPHIC
  COORDINATE_SYSTEM_TYPE = "BODY-FIXED ROTATING"
  EASTERNMOST_LONGITUDE = 355.52
  FIRST_STANDARD_PARALLEL = "N/A"
  LINE_FIRST_PIXEL = 1
  LINE_LAST_PIXEL = 24438
  LINE_PROJECTION_OFFSET = -38535.25
  MAP_PROJECTION_ROTATION = 0.0
  MAP_PROJECTION_TYPE = SINUSOIDAL
  MAP_RESOLUTION = 2370.85521546667
  MAP_SCALE = 0.025
  MAXIMUM_LATITUDE = -16.259
  MINIMUM_LATITUDE = -26.5931
  POSITIVE_LONGITUDE_DIRECTION = EAST
  REFERENCE_LATITUDE = "N/A"
  REFERENCE_LONGITUDE = "N/A"
  SAMPLE_FIRST_PIXEL = 1
  SAMPLE_LAST_PIXEL = 3407
  SAMPLE_PROJECTION_OFFSET = 2321.75
  SECOND_STANDARD_PARALLEL = "N/A"
  WESTERNMOST_LONGITUDE = 353.856
END_OBJECT = IMAGE_MAP_PROJECTION
END
