PDS_VERSION_ID = PDS3
/* FILE DATA ELEMENTS */
RECORD_TYPE = UNDEFINED
/* POINTERS TO DATA OBJECTS */
^IMAGE = ("HI734_0000_S14.TIF")
/* IDENTIFICATION DATA ELEMENTS */
DATA_SET_ID = "MEX-M-HRSC-4-REFDR-MAPPROJECT-EXT6-V4.0"
DATA_SET_NAME = "MARS EXPRESS HRSC MAP PROJECTED REFDR EXTENSION6 V4.0"
DETECTOR_ID = MEX_HRSC_S1
EVENT_TYPE = "MARS-REGIONAL-STEREO-Te"
INSTRUMENT_HOST_ID = MEX
INSTRUMENT_HOST_NAME = "MARS EXPRESS"
INSTRUMENT_ID = HRSC
INSTRUMENT_NAME = "HIGH RESOLUTION STEREO CAMERA"
MISSION_NAME = "MARS EXPRESS"
MISSION_PHASE_NAME = ME_Phase_39
PROCESSING_LEVEL_ID = 4
PRODUCT_CREATION_TIME = 2023-01-29T14:35:52.000Z
PRODUCT_ID = "HI734_0000_S14.TIF"
RELEASE_ID = 0005
REVISION_ID = 0000
/* QUALITY DATA ELEMENTS */
DATA_QUALITY_ID = 1
DATA_QUALITY_DESC = "Data calculated based on original SPICE kernels"
/* TIME DATA ELEMENTS */
SPACECRAFT_CLOCK_START_COUNT = "1/0488307869.24931"
SPACECRAFT_CLOCK_STOP_COUNT = "1/0488308074.42424"
START_TIME = 2018-10-22T17:06:12.990Z
STOP_TIME = 2018-10-22T17:08:23.970Z
/* ORBITAL DATA ELEMENTS */
ASCENDING_NODE_LONGITUDE = 222.7
MAXIMUM_RESOLUTION = 0.0147
FOOTPRINT_POINT_LATITUDE = (-30.1483,-30.1422,-30.137,-30.1318, -30.1263,-30.1208,-30.1151,-30.1147, -30.1045,-29.8068,-29.6032,-29.3961, -29.1957,-28.9955,-28.6987,-28.503, -28.3077,-28.1127,-27.9183,-27.7234, -27.528,-27.3322,-27.1363,-26.9426, -26.6492,-26.4537,-26.2594,-26.0632, -25.7701,-25.5771,-25.382,-25.188, -24.9925,-24.8002,-24.606,-24.4133, -24.219,-24.0254,-23.7354,-23.4465, -23.2538,-23.0594,-22.769,-22.2913, -21.908,-21.5257,-21.3309,-20.9499, -20.5493,-20.4691,-20.4658,-20.4774, -20.4846,-20.4895,-20.4899,-20.4903, -20.8118,-21.2579,-21.4501,-21.6426, -21.8351,-22.0275,-22.2203,-22.413, -22.6057,-22.7985,-22.9916,-23.1847, -23.3775,-23.5706,-23.7639,-23.9568, -24.1501,-24.3435,-24.5371,-24.7307, -25.0211,-25.2146,-25.4081,-25.6008, -25.9878,-26.2808,-26.4761,-26.7706, -26.9673,-27.262,-27.5566,-27.7517, -28.0446,-28.3379,-28.5332,-28.7275, -28.9235,-29.1264,-29.4298,-29.6288, -29.8285,-30.0314,-30.133,-30.1483)
FOOTPRINT_POINT_LONGITUDE = (254.07,253.727,253.454,253.183,252.915 ,252.647,252.381,252.364,252.357, 252.362,252.366,252.37,252.373,252.376, 252.381,252.384,252.387,252.39,252.392, 252.395,252.398,252.401,252.403,252.406 ,252.41,252.412,252.415,252.417,252.421 ,252.423,252.425,252.427,252.429, 252.431,252.433,252.435,252.437,252.439 ,252.441,252.444,252.446,252.447,252.45 ,252.453,252.456,252.458,252.46,252.462 ,252.464,252.465,252.465,253.114, 253.489,253.751,253.764,253.77,253.778, 253.79,253.795,253.8,253.805,253.81, 253.815,253.82,253.825,253.831,253.836, 253.841,253.846,253.852,253.857,253.862 ,253.868,253.873,253.879,253.884, 253.893,253.898,253.904,253.909,253.92, 253.93,253.936,253.947,253.954,253.965, 253.976,253.982,253.992,254.002,254.008 ,254.014,254.021,254.029,254.04,254.046 ,254.052,254.06,254.064,254.07)
ORBIT_NUMBER = 18734
ORBITAL_ECCENTRICITY = 0.578
ORBITAL_INCLINATION = 86.94
ORBITAL_SEMIMAJOR_AXIS = 8861.02
PERIAPSIS_ALTITUDE = 340.73
PERIAPSIS_ARGUMENT_ANGLE = 350.98
PERIAPSIS_TIME = 2018-10-22T17:11:00.000Z
SPACECRAFT_ORIENTATION = (0.0,1.0,0.0)
^MEX_ORIENTATION_DESC = "MEX_ORIENTATION_DESC.TXT"
SPACECRAFT_POINTING_MODE = INERT
^MEX_POINTING_DESC = "MEX_POINTING_DESC.TXT"
RIGHT_ASCENSION = 78.433
DECLINATION = 31.66
OFFSET_ANGLE = -1e+32
SPACECRAFT_SOLAR_DISTANCE = 2.08055e+08
TARGET_NAME = MARS
/* CAMERA DATA ELEMENTS */
DETECTOR_TEMPERATURE = 18.3705
FOCAL_PLANE_TEMPERATURE = 11.0301
INST_CMPRS_NAME = "DISCRETE COSINE TRANSFORMATION (DCT)"
INST_CMPRS_RATIO = 8.58107
INST_CMPRS_QUALITY = 0
INST_CMPRS_QUANTZ_TBL_ID = 0
INSTRUMENT_TEMPERATURE = 12.6613
LENS_TEMPERATURE = 11.234
MACROPIXEL_SIZE = 1
MISSING_FRAMES = 0
PIXEL_SUBSAMPLING_FLAG = N
SIGNAL_CHAIN_ID = 2
/* RADIOMETRIC DATA ELEMENTS */
BANDWIDTH = 180.0
CENTER_FILTER_WAVELENGTH = 677.0
RADIANCE_OFFSET = 2.21906
RADIANCE_SCALING_FACTOR = 0.0109545
REFLECTANCE_SCALING_FACTOR = 0.000247396
MEX:REFLECTANCE_OFFSET = 0.0501151
/* IMAGE OBJECT DEFINITIONS */
OBJECT = IMAGE
  INTERCHANGE_FORMAT = BINARY
  LINES = 45843
  LINE_SAMPLES = 7182
  SAMPLE_TYPE = UNSIGNED_INTEGER
  SAMPLE_BITS = 8
  BANDS = 1
  BAND_STORAGE_TYPE = BAND_SEQUENTIAL
  MAXIMUM = 255
  MEAN = 78.3631
  MINIMUM = 1
  STANDARD_DEVIATION = 29.2002
END_OBJECT = IMAGE
/* MAP OBJECT DEFINITIONS */
OBJECT = IMAGE_MAP_PROJECTION
  ^DATA_SET_MAP_PROJECTION_CATALOG= "DSMAP.CAT"
  A_AXIS_RADIUS = 3396.0
  B_AXIS_RADIUS = 3396.0
  C_AXIS_RADIUS = 3396.0
  CENTER_LATITUDE = 0.0
  CENTER_LONGITUDE = 253.0
  COORDINATE_SYSTEM_NAME = PLANETOGRAPHIC
  COORDINATE_SYSTEM_TYPE = "BODY-FIXED ROTATING"
  EASTERNMOST_LONGITUDE = 254.07
  FIRST_STANDARD_PARALLEL = "N/A"
  LINE_FIRST_PIXEL = 1
  LINE_LAST_PIXEL = 45843
  LINE_PROJECTION_OFFSET = -97279.0
  MAP_PROJECTION_ROTATION = 0.0
  MAP_PROJECTION_TYPE = SINUSOIDAL
  MAP_RESOLUTION = 4741.71043093333
  MAP_SCALE = 0.0125
  MAXIMUM_LATITUDE = -20.4658
  MINIMUM_LATITUDE = -30.1483
  POSITIVE_LONGITUDE_DIRECTION = EAST
  REFERENCE_LATITUDE = "N/A"
  REFERENCE_LONGITUDE = "N/A"
  SAMPLE_FIRST_PIXEL = 1
  SAMPLE_LAST_PIXEL = 7182
  SAMPLE_PROJECTION_OFFSET = 2814.0
  SECOND_STANDARD_PARALLEL = "N/A"
  WESTERNMOST_LONGITUDE = 252.357
END_OBJECT = IMAGE_MAP_PROJECTION
END
