PDS_VERSION_ID = PDS3
/* FILE DATA ELEMENTS */
RECORD_TYPE = UNDEFINED
/* POINTERS TO DATA OBJECTS */
^IMAGE = ("HI740_0000_IR4.TIF")
/* IDENTIFICATION DATA ELEMENTS */
DATA_SET_ID = "MEX-M-HRSC-4-REFDR-MAPPROJECT-EXT6-V4.0"
DATA_SET_NAME = "MARS EXPRESS HRSC MAP PROJECTED REFDR EXTENSION6 V4.0"
DETECTOR_ID = MEX_HRSC_IR
EVENT_TYPE = "MARS-REGIONAL-MAPPING-Im-Fl"
INSTRUMENT_HOST_ID = MEX
INSTRUMENT_HOST_NAME = "MARS EXPRESS"
INSTRUMENT_ID = HRSC
INSTRUMENT_NAME = "HIGH RESOLUTION STEREO CAMERA"
MISSION_NAME = "MARS EXPRESS"
MISSION_PHASE_NAME = ME_Phase_39
PROCESSING_LEVEL_ID = 4
PRODUCT_CREATION_TIME = 2023-01-29T14:35:52.000Z
PRODUCT_ID = "HI740_0000_IR4.TIF"
RELEASE_ID = 0005
REVISION_ID = 0000
/* QUALITY DATA ELEMENTS */
DATA_QUALITY_ID = 1
DATA_QUALITY_DESC = "Data calculated based on original SPICE kernels"
/* TIME DATA ELEMENTS */
SPACECRAFT_CLOCK_START_COUNT = "1/0488458750.23972"
SPACECRAFT_CLOCK_STOP_COUNT = "1/0488458947.57699"
START_TIME = 2018-10-24T11:00:44.473Z
STOP_TIME = 2018-10-24T11:02:52.902Z
/* ORBITAL DATA ELEMENTS */
ASCENDING_NODE_LONGITUDE = 222.59
MAXIMUM_RESOLUTION = 0.0538
FOOTPRINT_POINT_LATITUDE = (-28.0354,-28.0354,-28.0352,-28.0348, -28.0335,-28.0316,-28.0315,-28.0413, -27.7625,-27.5759,-27.3895,-27.2028, -27.0162,-26.8295,-26.6431,-26.4568, -26.1772,-25.8979,-25.7117,-25.5254, -25.3401,-25.1547,-24.9702,-24.7852, -24.5996,-24.3214,-24.1358,-23.9506, -23.6729,-23.4877,-23.3017,-23.1146, -22.9285,-22.7435,-22.5593,-22.3749, -22.0987,-21.7302,-21.3622,-21.1778, -20.8093,-20.5331,-20.2584,-20.0736, -19.8898,-19.7057,-19.5217,-19.1541, -18.8781,-18.7861,-18.7474,-18.7481, -18.7481,-18.7475,-18.7475,-18.7486, -18.9326,-19.2088,-19.4841,-19.7603, -20.1281,-20.312,-20.4962,-20.6804, -20.8645,-21.1404,-21.3247,-21.6009, -21.785,-21.9695,-22.1545,-22.3418, -22.5267,-22.7116,-22.8968,-23.0819, -23.267,-23.4521,-23.73,-23.9153, -24.1005,-24.3788,-24.657,-24.8426, -25.0284,-25.2141,-25.4002,-25.6792, -25.8652,-26.0512,-26.2358,-26.4212, -26.6072,-26.8864,-27.0739,-27.3545, -27.6348,-27.9148,-28.0082,-28.0354)
FOOTPRINT_POINT_LONGITUDE = (360.594,360.375,360.143,359.91,359.489 ,359.053,359.038,359.03,359.038,359.044 ,359.049,359.055,359.061,359.066, 359.072,359.077,359.085,359.093,359.098 ,359.103,359.108,359.112,359.116,359.12 ,359.125,359.131,359.136,359.14,359.146 ,359.15,359.154,359.159,359.164,359.168 ,359.171,359.174,359.179,359.185, 359.191,359.194,359.2,359.204,359.207, 359.21,359.212,359.215,359.217,359.222, 359.225,359.227,359.227,359.605,360.031 ,360.481,360.493,360.497,360.498, 360.501,360.503,360.505,360.509,360.51, 360.512,360.514,360.515,360.517,360.519 ,360.522,360.523,360.525,360.527, 360.531,360.533,360.535,360.538,360.54, 360.542,360.544,360.547,360.549,360.551 ,360.555,360.558,360.56,360.562,360.564 ,360.567,360.57,360.572,360.575,360.576 ,360.578,360.58,360.583,360.586,360.59, 360.594,360.597,360.599,360.594)
ORBIT_NUMBER = 18740
ORBITAL_ECCENTRICITY = 0.578
ORBITAL_INCLINATION = 86.94
ORBITAL_SEMIMAJOR_AXIS = 8845.47
PERIAPSIS_ALTITUDE = 340.96
PERIAPSIS_ARGUMENT_ANGLE = 349.95
PERIAPSIS_TIME = 2018-10-24T11:04:57.000Z
SPACECRAFT_ORIENTATION = (0.0,1.0,0.0)
^MEX_ORIENTATION_DESC = "MEX_ORIENTATION_DESC.TXT"
SPACECRAFT_POINTING_MODE = INERT
^MEX_POINTING_DESC = "MEX_POINTING_DESC.TXT"
RIGHT_ASCENSION = 77.651
DECLINATION = 32.424
OFFSET_ANGLE = -1e+32
SPACECRAFT_SOLAR_DISTANCE = 2.08191e+08
TARGET_NAME = MARS
/* CAMERA DATA ELEMENTS */
DETECTOR_TEMPERATURE = 18.1666
FOCAL_PLANE_TEMPERATURE = 10.8262
INST_CMPRS_NAME = "DISCRETE COSINE TRANSFORMATION (DCT)"
INST_CMPRS_RATIO = 6.64804
INST_CMPRS_QUALITY = 0
INST_CMPRS_QUANTZ_TBL_ID = 0
INSTRUMENT_TEMPERATURE = 12.2535
LENS_TEMPERATURE = 10.4184
MACROPIXEL_SIZE = 4
MISSING_FRAMES = 0
PIXEL_SUBSAMPLING_FLAG = N
SIGNAL_CHAIN_ID = 2
/* RADIOMETRIC DATA ELEMENTS */
BANDWIDTH = 81.0
CENTER_FILTER_WAVELENGTH = 955.5
RADIANCE_OFFSET = 0.625966
RADIANCE_SCALING_FACTOR = 0.00184829
REFLECTANCE_SCALING_FACTOR = 0.000172831
MEX:REFLECTANCE_OFFSET = 0.058533
/* IMAGE OBJECT DEFINITIONS */
OBJECT = IMAGE
  INTERCHANGE_FORMAT = BINARY
  LINES = 11041
  LINE_SAMPLES = 1707
  SAMPLE_TYPE = UNSIGNED_INTEGER
  SAMPLE_BITS = 8
  BANDS = 1
  BAND_STORAGE_TYPE = BAND_SEQUENTIAL
  MAXIMUM = 255
  MEAN = 96.4727
  MINIMUM = 1
  STANDARD_DEVIATION = 28.6307
END_OBJECT = IMAGE
/* MAP OBJECT DEFINITIONS */
OBJECT = IMAGE_MAP_PROJECTION
  ^DATA_SET_MAP_PROJECTION_CATALOG= "DSMAP.CAT"
  A_AXIS_RADIUS = 3396.0
  B_AXIS_RADIUS = 3396.0
  C_AXIS_RADIUS = 3396.0
  CENTER_LATITUDE = 0.0
  CENTER_LONGITUDE = 360.0
  COORDINATE_SYSTEM_NAME = PLANETOGRAPHIC
  COORDINATE_SYSTEM_TYPE = "BODY-FIXED ROTATING"
  EASTERNMOST_LONGITUDE = 0.599
  FIRST_STANDARD_PARALLEL = "N/A"
  LINE_FIRST_PIXEL = 1
  LINE_LAST_PIXEL = 11041
  LINE_PROJECTION_OFFSET = -22233.875
  MAP_PROJECTION_ROTATION = 0.0
  MAP_PROJECTION_TYPE = SINUSOIDAL
  MAP_RESOLUTION = 1185.42760773333
  MAP_SCALE = 0.05
  MAXIMUM_LATITUDE = -18.7474
  MINIMUM_LATITUDE = -28.0413
  POSITIVE_LONGITUDE_DIRECTION = EAST
  REFERENCE_LATITUDE = "N/A"
  REFERENCE_LONGITUDE = "N/A"
  SAMPLE_FIRST_PIXEL = 1
  SAMPLE_LAST_PIXEL = 1707
  SAMPLE_PROJECTION_OFFSET = 1065.125
  SECOND_STANDARD_PARALLEL = "N/A"
  WESTERNMOST_LONGITUDE = -0.97
END_OBJECT = IMAGE_MAP_PROJECTION
END
