PDS_VERSION_ID = PDS3
/* FILE DATA ELEMENTS */
RECORD_TYPE = UNDEFINED
/* POINTERS TO DATA OBJECTS */
^IMAGE = ("HI740_0000_S14.TIF")
/* IDENTIFICATION DATA ELEMENTS */
DATA_SET_ID = "MEX-M-HRSC-4-REFDR-MAPPROJECT-EXT6-V4.0"
DATA_SET_NAME = "MARS EXPRESS HRSC MAP PROJECTED REFDR EXTENSION6 V4.0"
DETECTOR_ID = MEX_HRSC_S1
EVENT_TYPE = "MARS-REGIONAL-MAPPING-Im-Fl"
INSTRUMENT_HOST_ID = MEX
INSTRUMENT_HOST_NAME = "MARS EXPRESS"
INSTRUMENT_ID = HRSC
INSTRUMENT_NAME = "HIGH RESOLUTION STEREO CAMERA"
MISSION_NAME = "MARS EXPRESS"
MISSION_PHASE_NAME = ME_Phase_39
PROCESSING_LEVEL_ID = 4
PRODUCT_CREATION_TIME = 2023-01-29T14:35:52.000Z
PRODUCT_ID = "HI740_0000_S14.TIF"
RELEASE_ID = 0005
REVISION_ID = 0000
/* QUALITY DATA ELEMENTS */
DATA_QUALITY_ID = 1
DATA_QUALITY_DESC = "Data calculated based on original SPICE kernels"
/* TIME DATA ELEMENTS */
SPACECRAFT_CLOCK_START_COUNT = "1/0488458750.23972"
SPACECRAFT_CLOCK_STOP_COUNT = "1/0488458947.57699"
START_TIME = 2018-10-24T11:00:49.592Z
STOP_TIME = 2018-10-24T11:02:57.208Z
/* ORBITAL DATA ELEMENTS */
ASCENDING_NODE_LONGITUDE = 222.59
MAXIMUM_RESOLUTION = 0.027
FOOTPRINT_POINT_LATITUDE = (-28.0455,-28.0454,-28.045,-28.0445, -28.0438,-28.0417,-28.0416,-28.0542, -27.7749,-27.588,-27.4011,-27.1206, -26.9334,-26.7465,-26.5598,-26.3729, -26.0929,-25.9063,-25.7209,-25.5333, -25.3484,-25.1624,-24.9781,-24.793, -24.6073,-24.4216,-24.236,-23.9578, -23.7727,-23.5875,-23.4021,-23.2144, -23.0274,-22.8419,-22.6571,-22.4731, -22.1977,-22.013,-21.8285,-21.4612, -21.1856,-21.001,-20.6337,-20.2687, -19.8997,-19.6243,-19.1658,-18.8903, -18.7984,-18.7608,-18.7615,-18.7614, -18.7614,-18.7615,-18.7612,-18.7612, -18.7617,-19.129,-19.4954,-19.6794, -20.0463,-20.3217,-20.5056,-20.7814, -21.0567,-21.2406,-21.5166,-21.7923, -21.9768,-22.1632,-22.3496,-22.5345, -22.7193,-22.9046,-23.0897,-23.2748, -23.4599,-23.6451,-23.8305,-24.0158, -24.2012,-24.387,-24.6653,-24.851, -25.037,-25.2228,-25.4091,-25.6886, -25.8748,-26.0609,-26.2454,-26.4312, -26.6174,-26.8969,-27.085,-27.3664, -27.6475,-27.928,-28.0216,-28.0455)
FOOTPRINT_POINT_LONGITUDE = (360.591,360.29,360.05,359.81,359.57, 359.059,359.044,359.034,359.042,359.048 ,359.054,359.062,359.068,359.074, 359.079,359.085,359.092,359.098,359.102 ,359.108,359.112,359.117,359.121, 359.125,359.13,359.134,359.138,359.145, 359.149,359.153,359.157,359.162,359.167 ,359.171,359.174,359.178,359.182, 359.186,359.189,359.195,359.199,359.202 ,359.208,359.212,359.218,359.221, 359.227,359.231,359.232,359.232,359.536 ,359.755,360.047,360.254,360.473, 360.485,360.49,360.493,360.496,360.498, 360.501,360.504,360.505,360.508,360.51, 360.512,360.515,360.517,360.519,360.522 ,360.525,360.528,360.53,360.532,360.534 ,360.536,360.539,360.541,360.543, 360.545,360.547,360.55,360.553,360.555, 360.558,360.56,360.562,360.566,360.568, 360.571,360.572,360.574,360.576,360.58, 360.583,360.587,360.591,360.594,360.596 ,360.591)
ORBIT_NUMBER = 18740
ORBITAL_ECCENTRICITY = 0.578
ORBITAL_INCLINATION = 86.94
ORBITAL_SEMIMAJOR_AXIS = 8845.47
PERIAPSIS_ALTITUDE = 340.96
PERIAPSIS_ARGUMENT_ANGLE = 349.95
PERIAPSIS_TIME = 2018-10-24T11:04:57.000Z
SPACECRAFT_ORIENTATION = (0.0,1.0,0.0)
^MEX_ORIENTATION_DESC = "MEX_ORIENTATION_DESC.TXT"
SPACECRAFT_POINTING_MODE = INERT
^MEX_POINTING_DESC = "MEX_POINTING_DESC.TXT"
RIGHT_ASCENSION = 77.651
DECLINATION = 32.424
OFFSET_ANGLE = -1e+32
SPACECRAFT_SOLAR_DISTANCE = 2.08191e+08
TARGET_NAME = MARS
/* CAMERA DATA ELEMENTS */
DETECTOR_TEMPERATURE = 18.1666
FOCAL_PLANE_TEMPERATURE = 10.8262
INST_CMPRS_NAME = "DISCRETE COSINE TRANSFORMATION (DCT)"
INST_CMPRS_RATIO = 9.64064
INST_CMPRS_QUALITY = 0
INST_CMPRS_QUANTZ_TBL_ID = 0
INSTRUMENT_TEMPERATURE = 12.2535
LENS_TEMPERATURE = 10.4184
MACROPIXEL_SIZE = 2
MISSING_FRAMES = 0
PIXEL_SUBSAMPLING_FLAG = N
SIGNAL_CHAIN_ID = 1
/* RADIOMETRIC DATA ELEMENTS */
BANDWIDTH = 180.0
CENTER_FILTER_WAVELENGTH = 677.0
RADIANCE_OFFSET = 2.97209
RADIANCE_SCALING_FACTOR = 0.00718921
REFLECTANCE_SCALING_FACTOR = 0.000162572
MEX:REFLECTANCE_OFFSET = 0.0672087
/* IMAGE OBJECT DEFINITIONS */
OBJECT = IMAGE
  INTERCHANGE_FORMAT = BINARY
  LINES = 22082
  LINE_SAMPLES = 3413
  SAMPLE_TYPE = UNSIGNED_INTEGER
  SAMPLE_BITS = 8
  BANDS = 1
  BAND_STORAGE_TYPE = BAND_SEQUENTIAL
  MAXIMUM = 255
  MEAN = 100.599
  MINIMUM = 1
  STANDARD_DEVIATION = 30.5955
END_OBJECT = IMAGE
/* MAP OBJECT DEFINITIONS */
OBJECT = IMAGE_MAP_PROJECTION
  ^DATA_SET_MAP_PROJECTION_CATALOG= "DSMAP.CAT"
  A_AXIS_RADIUS = 3396.0
  B_AXIS_RADIUS = 3396.0
  C_AXIS_RADIUS = 3396.0
  CENTER_LATITUDE = 0.0
  CENTER_LONGITUDE = 360.0
  COORDINATE_SYSTEM_NAME = PLANETOGRAPHIC
  COORDINATE_SYSTEM_TYPE = "BODY-FIXED ROTATING"
  EASTERNMOST_LONGITUDE = 0.596
  FIRST_STANDARD_PARALLEL = "N/A"
  LINE_FIRST_PIXEL = 1
  LINE_LAST_PIXEL = 22082
  LINE_PROJECTION_OFFSET = -44467.25
  MAP_PROJECTION_ROTATION = 0.0
  MAP_PROJECTION_TYPE = SINUSOIDAL
  MAP_RESOLUTION = 2370.85521546667
  MAP_SCALE = 0.025
  MAXIMUM_LATITUDE = -18.7608
  MINIMUM_LATITUDE = -28.0542
  POSITIVE_LONGITUDE_DIRECTION = EAST
  REFERENCE_LATITUDE = "N/A"
  REFERENCE_LONGITUDE = "N/A"
  SAMPLE_FIRST_PIXEL = 1
  SAMPLE_LAST_PIXEL = 3413
  SAMPLE_PROJECTION_OFFSET = 2130.75
  SECOND_STANDARD_PARALLEL = "N/A"
  WESTERNMOST_LONGITUDE = -0.966
END_OBJECT = IMAGE_MAP_PROJECTION
END
