PDS_VERSION_ID = PDS3
/* FILE DATA ELEMENTS */
RECORD_TYPE = UNDEFINED
/* POINTERS TO DATA OBJECTS */
^IMAGE = ("HI746_0000_BL4.TIF")
/* IDENTIFICATION DATA ELEMENTS */
DATA_SET_ID = "MEX-M-HRSC-4-REFDR-MAPPROJECT-EXT6-V4.0"
DATA_SET_NAME = "MARS EXPRESS HRSC MAP PROJECTED REFDR EXTENSION6 V4.0"
DETECTOR_ID = MEX_HRSC_BLUE
EVENT_TYPE = "MARS-REGIONAL-MAPPING-Vo-Im"
INSTRUMENT_HOST_ID = MEX
INSTRUMENT_HOST_NAME = "MARS EXPRESS"
INSTRUMENT_ID = HRSC
INSTRUMENT_NAME = "HIGH RESOLUTION STEREO CAMERA"
MISSION_NAME = "MARS EXPRESS"
MISSION_PHASE_NAME = ME_Phase_39
PROCESSING_LEVEL_ID = 4
PRODUCT_CREATION_TIME = 2023-01-29T14:35:52.000Z
PRODUCT_ID = "HI746_0000_BL4.TIF"
RELEASE_ID = 0005
REVISION_ID = 0000
/* QUALITY DATA ELEMENTS */
DATA_QUALITY_ID = 1
DATA_QUALITY_DESC = "Data calculated based on original SPICE kernels"
/* TIME DATA ELEMENTS */
SPACECRAFT_CLOCK_START_COUNT = "1/0488609747.25673"
SPACECRAFT_CLOCK_STOP_COUNT = "1/0488609978.49590"
START_TIME = 2018-10-26T04:56:43.129Z
STOP_TIME = 2018-10-26T04:59:36.131Z
/* ORBITAL DATA ELEMENTS */
ASCENDING_NODE_LONGITUDE = 222.47
MAXIMUM_RESOLUTION = 0.0551
FOOTPRINT_POINT_LATITUDE = (-19.0018,-19.0038,-19.0051,-19.0052, -19.0052,-19.0039,-18.6367,-18.0249, -17.7799,-17.5351,-17.2902,-17.0452, -16.8,-16.555,-16.3099,-16.0647,-15.697 ,-15.3292,-15.0839,-14.8385,-14.5929, -14.3476,-14.0998,-13.7308,-13.2415, -12.9952,-12.6258,-12.3797,-12.1338, -11.8861,-11.5173,-11.2706,-11.0239, -10.6539,-10.4083,-10.1611,-9.79023, -9.54262,-9.2936,-9.04458,-8.7963, -8.54867,-8.3009,-8.0528,-7.80454, -7.55604,-7.30638,-7.05756,-6.8084, -6.68384,-6.6091,-6.6077,-6.60584, -6.60396,-6.60082,-6.60063,-6.60155, -6.85066,-7.22399,-7.47286,-7.72161, -8.09458,-8.34356,-8.59165,-8.83991, -9.08726,-9.33494,-9.58268,-9.83026, -10.0778,-10.325,-10.6958,-10.943, -11.3137,-11.6837,-12.0537,-12.4221, -12.7929,-13.1621,-13.5312,-13.7773, -14.0234,-14.3921,-14.638,-14.8834, -15.1291,-15.3744,-15.7423,-16.1104, -16.3556,-16.7234,-16.9686,-17.2136, -17.4588,-17.7038,-18.0711,-18.561, -18.8059,-18.9283,-19.0018)
FOOTPRINT_POINT_LONGITUDE = (107.699,107.312,106.876,106.416, 106.404,106.4,106.404,106.411,106.414, 106.416,106.418,106.421,106.423,106.425 ,106.427,106.429,106.431,106.434, 106.435,106.437,106.438,106.439,106.439 ,106.44,106.444,106.444,106.445,106.445 ,106.446,106.446,106.446,106.446, 106.446,106.447,106.447,106.447,106.446 ,106.446,106.444,106.443,106.442, 106.442,106.441,106.44,106.439,106.438, 106.437,106.435,106.434,106.433,106.433 ,106.707,107.051,107.315,107.648,107.66 ,107.664,107.663,107.663,107.663, 107.662,107.662,107.662,107.662,107.662 ,107.662,107.663,107.663,107.663, 107.663,107.664,107.664,107.665,107.665 ,107.666,107.667,107.669,107.669, 107.671,107.672,107.673,107.673,107.675 ,107.676,107.677,107.678,107.679, 107.681,107.683,107.684,107.686,107.687 ,107.689,107.69,107.691,107.694,107.696 ,107.698,107.699,107.699)
ORBIT_NUMBER = 18746
ORBITAL_ECCENTRICITY = 0.578
ORBITAL_INCLINATION = 86.94
ORBITAL_SEMIMAJOR_AXIS = 8849.82
PERIAPSIS_ALTITUDE = 339.81
PERIAPSIS_ARGUMENT_ANGLE = 348.91
PERIAPSIS_TIME = 2018-10-26T04:58:49.000Z
SPACECRAFT_ORIENTATION = (0.0,1.0,0.0)
^MEX_ORIENTATION_DESC = "MEX_ORIENTATION_DESC.TXT"
SPACECRAFT_POINTING_MODE = INERT
^MEX_POINTING_DESC = "MEX_POINTING_DESC.TXT"
RIGHT_ASCENSION = 76.821
DECLINATION = 33.207
OFFSET_ANGLE = -1e+32
SPACECRAFT_SOLAR_DISTANCE = 2.08332e+08
TARGET_NAME = MARS
/* CAMERA DATA ELEMENTS */
DETECTOR_TEMPERATURE = 18.9822
FOCAL_PLANE_TEMPERATURE = 11.234
INST_CMPRS_NAME = "DISCRETE COSINE TRANSFORMATION (DCT)"
INST_CMPRS_RATIO = 4.09023
INST_CMPRS_QUALITY = 0
INST_CMPRS_QUANTZ_TBL_ID = 0
INSTRUMENT_TEMPERATURE = 12.8652
LENS_TEMPERATURE = 11.6418
MACROPIXEL_SIZE = 4
MISSING_FRAMES = 0
PIXEL_SUBSAMPLING_FLAG = N
SIGNAL_CHAIN_ID = 2
/* RADIOMETRIC DATA ELEMENTS */
BANDWIDTH = 76.0
CENTER_FILTER_WAVELENGTH = 444.0
RADIANCE_OFFSET = 0.384372
RADIANCE_SCALING_FACTOR = 0.00123161
REFLECTANCE_SCALING_FACTOR = 5.49214e-05
MEX:REFLECTANCE_OFFSET = 0.0171404
/* IMAGE OBJECT DEFINITIONS */
OBJECT = IMAGE
  INTERCHANGE_FORMAT = BINARY
  LINES = 14703
  LINE_SAMPLES = 1462
  SAMPLE_TYPE = UNSIGNED_INTEGER
  SAMPLE_BITS = 8
  BANDS = 1
  BAND_STORAGE_TYPE = BAND_SEQUENTIAL
  MAXIMUM = 254
  MEAN = 131.783
  MINIMUM = 2
  STANDARD_DEVIATION = 37.68
END_OBJECT = IMAGE
/* MAP OBJECT DEFINITIONS */
OBJECT = IMAGE_MAP_PROJECTION
  ^DATA_SET_MAP_PROJECTION_CATALOG= "DSMAP.CAT"
  A_AXIS_RADIUS = 3396.0
  B_AXIS_RADIUS = 3396.0
  C_AXIS_RADIUS = 3396.0
  CENTER_LATITUDE = 0.0
  CENTER_LONGITUDE = 107.0
  COORDINATE_SYSTEM_NAME = PLANETOGRAPHIC
  COORDINATE_SYSTEM_TYPE = "BODY-FIXED ROTATING"
  EASTERNMOST_LONGITUDE = 107.699
  FIRST_STANDARD_PARALLEL = "N/A"
  LINE_FIRST_PIXEL = 1
  LINE_LAST_PIXEL = 14703
  LINE_PROJECTION_OFFSET = -7828.875
  MAP_PROJECTION_ROTATION = 0.0
  MAP_PROJECTION_TYPE = SINUSOIDAL
  MAP_RESOLUTION = 1185.42760773333
  MAP_SCALE = 0.05
  MAXIMUM_LATITUDE = -6.60063
  MINIMUM_LATITUDE = -19.0052
  POSITIVE_LONGITUDE_DIRECTION = EAST
  REFERENCE_LATITUDE = "N/A"
  REFERENCE_LONGITUDE = "N/A"
  SAMPLE_FIRST_PIXEL = 1
  SAMPLE_LAST_PIXEL = 1462
  SAMPLE_PROJECTION_OFFSET = 676.875
  SECOND_STANDARD_PARALLEL = "N/A"
  WESTERNMOST_LONGITUDE = 106.4
END_OBJECT = IMAGE_MAP_PROJECTION
END
