PDS_VERSION_ID = PDS3
/* FILE DATA ELEMENTS */
RECORD_TYPE = UNDEFINED
/* POINTERS TO DATA OBJECTS */
^IMAGE = ("HI746_0000_IR4.TIF")
/* IDENTIFICATION DATA ELEMENTS */
DATA_SET_ID = "MEX-M-HRSC-4-REFDR-MAPPROJECT-EXT6-V4.0"
DATA_SET_NAME = "MARS EXPRESS HRSC MAP PROJECTED REFDR EXTENSION6 V4.0"
DETECTOR_ID = MEX_HRSC_IR
EVENT_TYPE = "MARS-REGIONAL-MAPPING-Vo-Im"
INSTRUMENT_HOST_ID = MEX
INSTRUMENT_HOST_NAME = "MARS EXPRESS"
INSTRUMENT_ID = HRSC
INSTRUMENT_NAME = "HIGH RESOLUTION STEREO CAMERA"
MISSION_NAME = "MARS EXPRESS"
MISSION_PHASE_NAME = ME_Phase_39
PROCESSING_LEVEL_ID = 4
PRODUCT_CREATION_TIME = 2023-01-29T14:35:52.000Z
PRODUCT_ID = "HI746_0000_IR4.TIF"
RELEASE_ID = 0005
REVISION_ID = 0000
/* QUALITY DATA ELEMENTS */
DATA_QUALITY_ID = 1
DATA_QUALITY_DESC = "Data calculated based on original SPICE kernels"
/* TIME DATA ELEMENTS */
SPACECRAFT_CLOCK_START_COUNT = "1/0488609747.25673"
SPACECRAFT_CLOCK_STOP_COUNT = "1/0488609978.49590"
START_TIME = 2018-10-26T04:57:11.595Z
STOP_TIME = 2018-10-26T05:00:03.962Z
/* ORBITAL DATA ELEMENTS */
ASCENDING_NODE_LONGITUDE = 222.47
MAXIMUM_RESOLUTION = 0.0547
FOOTPRINT_POINT_LATITUDE = (-18.9856,-18.9871,-18.9878,-18.9886, -18.989,-18.9891,-18.9895,-18.6147, -18.3646,-18.1147,-17.7401,-17.4905, -17.2412,-16.992,-16.7435,-16.4943, -16.121,-15.7483,-15.4997,-15.2506, -15.0024,-14.7544,-14.3823,-14.013, -13.7658,-13.5149,-13.1443,-12.7736, -12.4028,-12.1554,-11.785,-11.415, -11.1683,-10.9216,-10.5511,-10.3042, -10.0581,-9.81172,-9.44267,-9.1971, -8.95125,-8.70509,-8.33588,-8.08983, -7.84383,-7.59788,-7.35224,-7.1064, -6.73772,-6.61482,-6.58646,-6.58552, -6.58397,-6.58231,-6.58225,-6.58318, -6.95188,-7.1978,-7.56665,-7.81257, -8.0585,-8.42735,-8.67342,-8.91966, -9.16595,-9.53535,-9.78159,-10.0281, -10.3976,-10.6442,-10.8908,-11.1371, -11.384,-11.6308,-11.8777,-12.248, -12.4963,-12.8663,-13.1134,-13.3609, -13.732,-14.1034,-14.3513,-14.5987, -14.8468,-15.2191,-15.4676,-15.7162, -16.0891,-16.4622,-16.7113,-17.0848, -17.3339,-17.5833,-17.8328,-18.207, -18.4571,-18.8319,-18.9573,-18.9856)
FOOTPRINT_POINT_LONGITUDE = (107.698,107.234,106.985,106.64,106.438 ,106.426,106.422,106.427,106.43,106.433 ,106.438,106.44,106.443,106.446,106.448 ,106.45,106.454,106.457,106.459,106.461 ,106.462,106.464,106.466,106.467, 106.468,106.471,106.473,106.474,106.475 ,106.476,106.477,106.478,106.478, 106.478,106.479,106.48,106.479,106.479, 106.479,106.478,106.478,106.477,106.477 ,106.476,106.476,106.475,106.474, 106.473,106.472,106.472,106.471,106.827 ,107.237,107.616,107.627,107.63,107.631 ,107.631,107.632,107.632,107.633, 107.634,107.634,107.635,107.636,107.637 ,107.638,107.639,107.64,107.641,107.643 ,107.643,107.645,107.646,107.647, 107.649,107.651,107.653,107.654,107.655 ,107.657,107.66,107.662,107.663,107.665 ,107.667,107.669,107.671,107.674, 107.677,107.679,107.682,107.684,107.686 ,107.688,107.691,107.694,107.697, 107.698,107.698)
ORBIT_NUMBER = 18746
ORBITAL_ECCENTRICITY = 0.578
ORBITAL_INCLINATION = 86.94
ORBITAL_SEMIMAJOR_AXIS = 8849.82
PERIAPSIS_ALTITUDE = 339.81
PERIAPSIS_ARGUMENT_ANGLE = 348.91
PERIAPSIS_TIME = 2018-10-26T04:58:49.000Z
SPACECRAFT_ORIENTATION = (0.0,1.0,0.0)
^MEX_ORIENTATION_DESC = "MEX_ORIENTATION_DESC.TXT"
SPACECRAFT_POINTING_MODE = INERT
^MEX_POINTING_DESC = "MEX_POINTING_DESC.TXT"
RIGHT_ASCENSION = 76.821
DECLINATION = 33.207
OFFSET_ANGLE = -1e+32
SPACECRAFT_SOLAR_DISTANCE = 2.08332e+08
TARGET_NAME = MARS
/* CAMERA DATA ELEMENTS */
DETECTOR_TEMPERATURE = 18.1666
FOCAL_PLANE_TEMPERATURE = 11.234
INST_CMPRS_NAME = "DISCRETE COSINE TRANSFORMATION (DCT)"
INST_CMPRS_RATIO = 7.89081
INST_CMPRS_QUALITY = 0
INST_CMPRS_QUANTZ_TBL_ID = 0
INSTRUMENT_TEMPERATURE = 12.8652
LENS_TEMPERATURE = 11.6418
MACROPIXEL_SIZE = 4
MISSING_FRAMES = 0
PIXEL_SUBSAMPLING_FLAG = N
SIGNAL_CHAIN_ID = 2
/* RADIOMETRIC DATA ELEMENTS */
BANDWIDTH = 81.0
CENTER_FILTER_WAVELENGTH = 955.5
RADIANCE_OFFSET = 0.536157
RADIANCE_SCALING_FACTOR = 0.00224045
REFLECTANCE_SCALING_FACTOR = 0.000209786
MEX:REFLECTANCE_OFFSET = 0.0502034
/* IMAGE OBJECT DEFINITIONS */
OBJECT = IMAGE
  INTERCHANGE_FORMAT = BINARY
  LINES = 14703
  LINE_SAMPLES = 1462
  SAMPLE_TYPE = UNSIGNED_INTEGER
  SAMPLE_BITS = 8
  BANDS = 1
  BAND_STORAGE_TYPE = BAND_SEQUENTIAL
  MAXIMUM = 255
  MEAN = 114.324
  MINIMUM = 1
  STANDARD_DEVIATION = 29.4974
END_OBJECT = IMAGE
/* MAP OBJECT DEFINITIONS */
OBJECT = IMAGE_MAP_PROJECTION
  ^DATA_SET_MAP_PROJECTION_CATALOG= "DSMAP.CAT"
  A_AXIS_RADIUS = 3396.0
  B_AXIS_RADIUS = 3396.0
  C_AXIS_RADIUS = 3396.0
  CENTER_LATITUDE = 0.0
  CENTER_LONGITUDE = 107.0
  COORDINATE_SYSTEM_NAME = PLANETOGRAPHIC
  COORDINATE_SYSTEM_TYPE = "BODY-FIXED ROTATING"
  EASTERNMOST_LONGITUDE = 107.698
  FIRST_STANDARD_PARALLEL = "N/A"
  LINE_FIRST_PIXEL = 1
  LINE_LAST_PIXEL = 14703
  LINE_PROJECTION_OFFSET = -7828.875
  MAP_PROJECTION_ROTATION = 0.0
  MAP_PROJECTION_TYPE = SINUSOIDAL
  MAP_RESOLUTION = 1185.42760773333
  MAP_SCALE = 0.05
  MAXIMUM_LATITUDE = -6.58225
  MINIMUM_LATITUDE = -18.9895
  POSITIVE_LONGITUDE_DIRECTION = EAST
  REFERENCE_LATITUDE = "N/A"
  REFERENCE_LONGITUDE = "N/A"
  SAMPLE_FIRST_PIXEL = 1
  SAMPLE_LAST_PIXEL = 1462
  SAMPLE_PROJECTION_OFFSET = 676.875
  SECOND_STANDARD_PARALLEL = "N/A"
  WESTERNMOST_LONGITUDE = 106.422
END_OBJECT = IMAGE_MAP_PROJECTION
END
