PDS_VERSION_ID = PDS3
/* FILE DATA ELEMENTS */
RECORD_TYPE = UNDEFINED
/* POINTERS TO DATA OBJECTS */
^IMAGE = ("HI748_0000_ND4.TIF")
/* IDENTIFICATION DATA ELEMENTS */
DATA_SET_ID = "MEX-M-HRSC-4-REFDR-MAPPROJECT-EXT6-V4.0"
DATA_SET_NAME = "MARS EXPRESS HRSC MAP PROJECTED REFDR EXTENSION6 V4.0"
DETECTOR_ID = MEX_HRSC_NADIR
EVENT_TYPE = "MARS-REGIONAL-MAPPING-Te"
INSTRUMENT_HOST_ID = MEX
INSTRUMENT_HOST_NAME = "MARS EXPRESS"
INSTRUMENT_ID = HRSC
INSTRUMENT_NAME = "HIGH RESOLUTION STEREO CAMERA"
MISSION_NAME = "MARS EXPRESS"
MISSION_PHASE_NAME = ME_Phase_39
PROCESSING_LEVEL_ID = 4
PRODUCT_CREATION_TIME = 2023-01-29T14:35:52.000Z
PRODUCT_ID = "HI748_0000_ND4.TIF"
RELEASE_ID = 0005
REVISION_ID = 0000
/* QUALITY DATA ELEMENTS */
DATA_QUALITY_ID = 1
DATA_QUALITY_DESC = "Data calculated based on original SPICE kernels"
/* TIME DATA ELEMENTS */
SPACECRAFT_CLOCK_START_COUNT = "1/0488659747.25713"
SPACECRAFT_CLOCK_STOP_COUNT = "1/0488660088.24160"
START_TIME = 2018-10-26T18:50:20.514Z
STOP_TIME = 2018-10-26T18:54:49.466Z
/* ORBITAL DATA ELEMENTS */
ASCENDING_NODE_LONGITUDE = 222.43
MAXIMUM_RESOLUTION = 0.0145
FOOTPRINT_POINT_LATITUDE = (-36.494,-36.4914,-36.4849,-36.475, -36.4746,-36.4745,-36.0443,-35.4043, -34.9839,-34.5638,-34.1532,-33.7425, -33.3357,-32.9349,-32.534,-32.1371, -31.7457,-31.3543,-30.9647,-30.5827, -30.2007,-29.8185,-29.4432,-29.0708, -28.6983,-28.1406,-27.2329,-26.6879, -26.3244,-25.7788,-25.233,-24.8688, -24.5044,-24.1399,-23.7751,-23.2276, -22.8624,-22.314,-21.9483,-21.5823, -21.2158,-20.8494,-20.4832,-20.1165, -19.7494,-19.3827,-19.0148,-18.5005, -17.884,-17.7296,-17.7162,-17.7165, -17.7163,-17.7131,-17.713,-17.7132, -18.6392,-19.3652,-19.7329,-20.2835, -20.6507,-21.0173,-21.3839,-21.9334, -22.4822,-22.8481,-23.2138,-23.5788, -24.1266,-24.4917,-24.8567,-25.2212, -25.5855,-25.9497,-26.3137,-26.6777, -27.0415,-27.4052,-28.1321,-28.5036, -28.8766,-29.2495,-29.6224,-30.0033, -30.5766,-30.9589,-31.3483,-31.7408, -32.1322,-32.7298,-33.1314,-33.7396, -34.151,-34.5624,-34.9828,-35.4039, -35.8291,-36.2602,-36.4757,-36.494)
FOOTPRINT_POINT_LONGITUDE = (263.704,263.038,262.352,261.686, 261.666,261.654,261.679,261.715,261.738 ,261.761,261.782,261.802,261.822, 261.841,261.859,261.877,261.893,261.909 ,261.923,261.937,261.951,261.965, 261.978,261.991,262.003,262.02,262.047, 262.062,262.072,262.086,262.099,262.107 ,262.115,262.123,262.13,262.141,262.148 ,262.157,262.163,262.169,262.174,262.18 ,262.185,262.19,262.195,262.199,262.203 ,262.209,262.215,262.216,262.217, 262.634,263.039,263.524,263.537,263.543 ,263.549,263.554,263.556,263.56,263.563 ,263.565,263.568,263.572,263.576, 263.579,263.582,263.585,263.59,263.592, 263.595,263.598,263.602,263.605,263.608 ,263.611,263.615,263.618,263.624, 263.628,263.631,263.635,263.639,263.641 ,263.647,263.651,263.654,263.657, 263.662,263.669,263.673,263.679,263.683 ,263.687,263.691,263.696,263.7,263.705, 263.706,263.704)
ORBIT_NUMBER = 18748
ORBITAL_ECCENTRICITY = 0.578
ORBITAL_INCLINATION = 86.94
ORBITAL_SEMIMAJOR_AXIS = 8857.25
PERIAPSIS_ALTITUDE = 339.7
PERIAPSIS_ARGUMENT_ANGLE = 348.58
PERIAPSIS_TIME = 2018-10-26T18:56:51.000Z
SPACECRAFT_ORIENTATION = (0.0,1.0,0.0)
^MEX_ORIENTATION_DESC = "MEX_ORIENTATION_DESC.TXT"
SPACECRAFT_POINTING_MODE = INERT
^MEX_POINTING_DESC = "MEX_POINTING_DESC.TXT"
RIGHT_ASCENSION = 76.52
DECLINATION = 33.493
OFFSET_ANGLE = -1e+32
SPACECRAFT_SOLAR_DISTANCE = 2.08381e+08
TARGET_NAME = MARS
/* CAMERA DATA ELEMENTS */
DETECTOR_TEMPERATURE = 18.3705
FOCAL_PLANE_TEMPERATURE = 10.2145
INST_CMPRS_NAME = "DISCRETE COSINE TRANSFORMATION (DCT)"
INST_CMPRS_RATIO = 5.11266
INST_CMPRS_QUALITY = 0
INST_CMPRS_QUANTZ_TBL_ID = 0
INSTRUMENT_TEMPERATURE = 12.0496
LENS_TEMPERATURE = 10.4184
MACROPIXEL_SIZE = 1
MISSING_FRAMES = 0
PIXEL_SUBSAMPLING_FLAG = N
SIGNAL_CHAIN_ID = 0
/* RADIOMETRIC DATA ELEMENTS */
BANDWIDTH = 177.0
CENTER_FILTER_WAVELENGTH = 677.5
RADIANCE_OFFSET = 2.16375
RADIANCE_SCALING_FACTOR = 0.0147975
REFLECTANCE_SCALING_FACTOR = 0.00034134
MEX:REFLECTANCE_OFFSET = 0.049912
/* IMAGE OBJECT DEFINITIONS */
OBJECT = IMAGE
  INTERCHANGE_FORMAT = BINARY
  LINES = 89059
  LINE_SAMPLES = 7827
  SAMPLE_TYPE = UNSIGNED_INTEGER
  SAMPLE_BITS = 8
  BANDS = 1
  BAND_STORAGE_TYPE = BAND_SEQUENTIAL
  MAXIMUM = 255
  MEAN = 104.228
  MINIMUM = 1
  STANDARD_DEVIATION = 19.6904
END_OBJECT = IMAGE
/* MAP OBJECT DEFINITIONS */
OBJECT = IMAGE_MAP_PROJECTION
  ^DATA_SET_MAP_PROJECTION_CATALOG= "DSMAP.CAT"
  A_AXIS_RADIUS = 3396.0
  B_AXIS_RADIUS = 3396.0
  C_AXIS_RADIUS = 3396.0
  CENTER_LATITUDE = 0.0
  CENTER_LONGITUDE = 263.0
  COORDINATE_SYSTEM_NAME = PLANETOGRAPHIC
  COORDINATE_SYSTEM_TYPE = "BODY-FIXED ROTATING"
  EASTERNMOST_LONGITUDE = 263.706
  FIRST_STANDARD_PARALLEL = "N/A"
  LINE_FIRST_PIXEL = 1
  LINE_LAST_PIXEL = 89059
  LINE_PROJECTION_OFFSET = -83989.0
  MAP_PROJECTION_ROTATION = 0.0
  MAP_PROJECTION_TYPE = SINUSOIDAL
  MAP_RESOLUTION = 4741.71043093333
  MAP_SCALE = 0.0125
  MAXIMUM_LATITUDE = -17.713
  MINIMUM_LATITUDE = -36.494
  POSITIVE_LONGITUDE_DIRECTION = EAST
  REFERENCE_LATITUDE = "N/A"
  REFERENCE_LONGITUDE = "N/A"
  SAMPLE_FIRST_PIXEL = 1
  SAMPLE_LAST_PIXEL = 7827
  SAMPLE_PROJECTION_OFFSET = 5132.0
  SECOND_STANDARD_PARALLEL = "N/A"
  WESTERNMOST_LONGITUDE = 261.654
END_OBJECT = IMAGE_MAP_PROJECTION
END
