PDS_VERSION_ID = PDS3
/* FILE DATA ELEMENTS */
RECORD_TYPE = UNDEFINED
/* POINTERS TO DATA OBJECTS */
^IMAGE = ("HI748_0000_RE4.TIF")
/* IDENTIFICATION DATA ELEMENTS */
DATA_SET_ID = "MEX-M-HRSC-4-REFDR-MAPPROJECT-EXT6-V4.0"
DATA_SET_NAME = "MARS EXPRESS HRSC MAP PROJECTED REFDR EXTENSION6 V4.0"
DETECTOR_ID = MEX_HRSC_RED
EVENT_TYPE = "MARS-REGIONAL-MAPPING-Te"
INSTRUMENT_HOST_ID = MEX
INSTRUMENT_HOST_NAME = "MARS EXPRESS"
INSTRUMENT_ID = HRSC
INSTRUMENT_NAME = "HIGH RESOLUTION STEREO CAMERA"
MISSION_NAME = "MARS EXPRESS"
MISSION_PHASE_NAME = ME_Phase_39
PROCESSING_LEVEL_ID = 4
PRODUCT_CREATION_TIME = 2023-01-29T14:35:52.000Z
PRODUCT_ID = "HI748_0000_RE4.TIF"
RELEASE_ID = 0005
REVISION_ID = 0000
/* QUALITY DATA ELEMENTS */
DATA_QUALITY_ID = 1
DATA_QUALITY_DESC = "Data calculated based on original SPICE kernels"
/* TIME DATA ELEMENTS */
SPACECRAFT_CLOCK_START_COUNT = "1/0488659747.25713"
SPACECRAFT_CLOCK_STOP_COUNT = "1/0488660088.24160"
START_TIME = 2018-10-26T18:49:46.011Z
STOP_TIME = 2018-10-26T18:54:20.682Z
/* ORBITAL DATA ELEMENTS */
ASCENDING_NODE_LONGITUDE = 222.43
MAXIMUM_RESOLUTION = 0.0664
FOOTPRINT_POINT_LATITUDE = (-36.5407,-36.5345,-36.516,-36.5155, -36.5103,-36.0766,-35.6512,-35.227, -34.8107,-34.3933,-33.9845,-33.3736, -32.9737,-32.5743,-31.9816,-31.5871, -31.1957,-30.811,-30.4253,-30.0427, -29.6673,-29.2902,-28.9144,-28.5467, -28.1784,-27.8099,-27.2658,-26.9055, -26.5449,-26.1836,-25.4787,-25.1251, -24.7717,-24.2406,-23.886,-23.5308, -23.175,-22.8188,-22.4621,-21.9258, -21.5679,-21.2089,-20.8499,-20.4912, -19.9514,-19.5909,-19.0492,-18.5057, -17.962,-17.7804,-17.7602,-17.7599, -17.7578,-17.7504,-17.7502,-17.7512, -18.2971,-18.6596,-19.0227,-19.5655, -19.9264,-20.2868,-20.8273,-21.1861, -21.5457,-21.9038,-22.2616,-22.6185, -22.976,-23.3326,-23.8658,-24.3985, -24.7535,-25.461,-26.1673,-26.5288, -26.8905,-27.2516,-27.6119,-28.1653, -28.5342,-28.9026,-29.2787,-29.6558, -30.2226,-30.6086,-31.1862,-31.5802, -31.9716,-32.36,-32.7611,-33.1627, -33.7732,-34.1838,-34.5988,-35.0164, -35.6507,-36.293,-36.5113,-36.5407)
FOOTPRINT_POINT_LONGITUDE = (263.715,262.669,261.623,261.603, 261.596,261.621,261.646,261.67,261.692, 261.714,261.735,261.766,261.785,261.803 ,261.829,261.844,261.86,261.874,261.889 ,261.902,261.916,261.928,261.941, 261.953,261.964,261.975,261.991,262.001 ,262.011,262.02,262.038,262.046,262.054 ,262.065,262.072,262.079,262.086, 262.092,262.098,262.107,262.112,262.117 ,262.122,262.127,262.134,262.138, 262.144,262.15,262.155,262.156,262.156, 262.616,263.036,263.594,263.608,263.613 ,263.614,263.616,263.617,263.619, 263.621,263.622,263.625,263.626,263.628 ,263.63,263.631,263.633,263.635,263.637 ,263.64,263.643,263.645,263.649,263.653 ,263.655,263.657,263.659,263.662, 263.665,263.668,263.67,263.672,263.675, 263.678,263.68,263.684,263.685,263.688, 263.693,263.695,263.698,263.701,263.703 ,263.706,263.709,263.713,263.716, 263.717,263.715)
ORBIT_NUMBER = 18748
ORBITAL_ECCENTRICITY = 0.578
ORBITAL_INCLINATION = 86.94
ORBITAL_SEMIMAJOR_AXIS = 8857.25
PERIAPSIS_ALTITUDE = 339.7
PERIAPSIS_ARGUMENT_ANGLE = 348.58
PERIAPSIS_TIME = 2018-10-26T18:56:51.000Z
SPACECRAFT_ORIENTATION = (0.0,1.0,0.0)
^MEX_ORIENTATION_DESC = "MEX_ORIENTATION_DESC.TXT"
SPACECRAFT_POINTING_MODE = INERT
^MEX_POINTING_DESC = "MEX_POINTING_DESC.TXT"
RIGHT_ASCENSION = 76.52
DECLINATION = 33.493
OFFSET_ANGLE = -1e+32
SPACECRAFT_SOLAR_DISTANCE = 2.08381e+08
TARGET_NAME = MARS
/* CAMERA DATA ELEMENTS */
DETECTOR_TEMPERATURE = 19.1861
FOCAL_PLANE_TEMPERATURE = 10.2145
INST_CMPRS_NAME = "DISCRETE COSINE TRANSFORMATION (DCT)"
INST_CMPRS_RATIO = 6.85771
INST_CMPRS_QUALITY = 0
INST_CMPRS_QUANTZ_TBL_ID = 0
INSTRUMENT_TEMPERATURE = 12.0496
LENS_TEMPERATURE = 10.4184
MACROPIXEL_SIZE = 4
MISSING_FRAMES = 0
PIXEL_SUBSAMPLING_FLAG = N
SIGNAL_CHAIN_ID = 2
/* RADIOMETRIC DATA ELEMENTS */
BANDWIDTH = 48.0
CENTER_FILTER_WAVELENGTH = 748.0
RADIANCE_OFFSET = 0.696962
RADIANCE_SCALING_FACTOR = 0.0041889
REFLECTANCE_SCALING_FACTOR = 0.000415088
MEX:REFLECTANCE_OFFSET = 0.0690636
/* IMAGE OBJECT DEFINITIONS */
OBJECT = IMAGE
  INTERCHANGE_FORMAT = BINARY
  LINES = 22265
  LINE_SAMPLES = 1957
  SAMPLE_TYPE = UNSIGNED_INTEGER
  SAMPLE_BITS = 8
  BANDS = 1
  BAND_STORAGE_TYPE = BAND_SEQUENTIAL
  MAXIMUM = 255
  MEAN = 106.529
  MINIMUM = 1
  STANDARD_DEVIATION = 17.8276
END_OBJECT = IMAGE
/* MAP OBJECT DEFINITIONS */
OBJECT = IMAGE_MAP_PROJECTION
  ^DATA_SET_MAP_PROJECTION_CATALOG= "DSMAP.CAT"
  A_AXIS_RADIUS = 3396.0
  B_AXIS_RADIUS = 3396.0
  C_AXIS_RADIUS = 3396.0
  CENTER_LATITUDE = 0.0
  CENTER_LONGITUDE = 263.0
  COORDINATE_SYSTEM_NAME = PLANETOGRAPHIC
  COORDINATE_SYSTEM_TYPE = "BODY-FIXED ROTATING"
  EASTERNMOST_LONGITUDE = 263.717
  FIRST_STANDARD_PARALLEL = "N/A"
  LINE_FIRST_PIXEL = 1
  LINE_LAST_PIXEL = 22265
  LINE_PROJECTION_OFFSET = -20997.625
  MAP_PROJECTION_ROTATION = 0.0
  MAP_PROJECTION_TYPE = SINUSOIDAL
  MAP_RESOLUTION = 1185.42760773333
  MAP_SCALE = 0.05
  MAXIMUM_LATITUDE = -17.7502
  MINIMUM_LATITUDE = -36.5407
  POSITIVE_LONGITUDE_DIRECTION = EAST
  REFERENCE_LATITUDE = "N/A"
  REFERENCE_LONGITUDE = "N/A"
  SAMPLE_FIRST_PIXEL = 1
  SAMPLE_LAST_PIXEL = 1957
  SAMPLE_PROJECTION_OFFSET = 1282.625
  SECOND_STANDARD_PARALLEL = "N/A"
  WESTERNMOST_LONGITUDE = 261.596
END_OBJECT = IMAGE_MAP_PROJECTION
END
