PDS_VERSION_ID = PDS3
/* FILE DATA ELEMENTS */
RECORD_TYPE = UNDEFINED
/* POINTERS TO DATA OBJECTS */
^IMAGE = ("HI749_0000_BL4.TIF")
/* IDENTIFICATION DATA ELEMENTS */
DATA_SET_ID = "MEX-M-HRSC-4-REFDR-MAPPROJECT-EXT6-V4.0"
DATA_SET_NAME = "MARS EXPRESS HRSC MAP PROJECTED REFDR EXTENSION6 V4.0"
DETECTOR_ID = MEX_HRSC_BLUE
EVENT_TYPE = "MARS-REGIONAL-MAPPING-Te-Im-Eo"
INSTRUMENT_HOST_ID = MEX
INSTRUMENT_HOST_NAME = "MARS EXPRESS"
INSTRUMENT_ID = HRSC
INSTRUMENT_NAME = "HIGH RESOLUTION STEREO CAMERA"
MISSION_NAME = "MARS EXPRESS"
MISSION_PHASE_NAME = ME_Phase_39
PROCESSING_LEVEL_ID = 4
PRODUCT_CREATION_TIME = 2023-01-29T14:35:52.000Z
PRODUCT_ID = "HI749_0000_BL4.TIF"
RELEASE_ID = 0005
REVISION_ID = 0000
/* QUALITY DATA ELEMENTS */
DATA_QUALITY_ID = 1
DATA_QUALITY_DESC = "Data calculated based on original SPICE kernels"
/* TIME DATA ELEMENTS */
SPACECRAFT_CLOCK_START_COUNT = "1/0488685093.24952"
SPACECRAFT_CLOCK_STOP_COUNT = "1/0488685306.41594"
START_TIME = 2018-10-27T01:52:31.110Z
STOP_TIME = 2018-10-27T01:55:03.380Z
/* ORBITAL DATA ELEMENTS */
ASCENDING_NODE_LONGITUDE = 222.41
MAXIMUM_RESOLUTION = 0.0564
FOOTPRINT_POINT_LATITUDE = (-24.4112,-24.4238,-24.4309,-24.4438, -24.4552,-24.4555,-24.4546,-24.2124, -23.97,-23.7277,-23.4855,-23.2433, -23.0015,-22.7592,-22.5168,-22.1532, -21.9108,-21.6682,-21.4258,-21.1833, -20.94,-20.6983,-20.3478,-20.1445, -19.9408,-19.6354,-19.2296,-18.9246, -18.5177,-18.2116,-17.9069,-17.6017, -17.3983,-17.195,-16.8891,-16.5829, -16.3788,-16.1753,-15.9712,-15.7676, -15.4616,-15.2574,-15.0526,-14.7456, -14.5414,-14.3376,-14.133,-13.9279, -13.7224,-13.6198,-13.6065,-13.5945, -13.5842,-13.5753,-13.5587,-13.5582, -13.559,-13.766,-14.0738,-14.478, -14.7843,-15.0909,-15.2953,-15.4998, -15.7083,-16.0156,-16.2196,-16.4231, -16.6271,-16.9331,-17.2386,-17.4423, -17.6459,-17.8496,-18.0529,-18.3579, -18.5625,-18.7662,-18.9694,-19.1729, -19.4781,-19.6823,-20.0879,-20.6394, -20.8822,-21.2453,-21.4886,-21.7306, -21.9729,-22.2154,-22.4579,-22.6994, -23.0626,-23.3049,-23.5476,-23.7901, -24.0321,-24.2742,-24.3952,-24.4112)
FOOTPRINT_POINT_LONGITUDE = (163.044,162.661,162.431,161.981, 161.546,161.532,161.534,161.532,161.531 ,161.529,161.526,161.523,161.517, 161.515,161.513,161.511,161.509,161.507 ,161.505,161.503,161.503,161.499, 161.495,161.494,161.493,161.491,161.486 ,161.484,161.481,161.48,161.477,161.474 ,161.473,161.471,161.469,161.468, 161.467,161.465,161.464,161.462,161.461 ,161.46,161.459,161.458,161.457,161.456 ,161.455,161.454,161.454,161.454, 161.454,161.835,162.143,162.383,162.775 ,162.788,162.793,162.79,162.792,162.808 ,162.813,162.817,162.82,162.823,162.815 ,162.817,162.821,162.826,162.829, 162.835,162.841,162.846,162.851,162.855 ,162.86,162.869,162.87,162.874,162.88, 162.885,162.892,162.894,162.91,162.926, 162.932,162.947,162.949,162.959,162.968 ,162.974,162.981,162.997,163.014, 163.024,163.025,163.029,163.042,163.053 ,163.058,163.044)
ORBIT_NUMBER = 18749
ORBITAL_ECCENTRICITY = 0.577
ORBITAL_INCLINATION = 86.95
ORBITAL_SEMIMAJOR_AXIS = 8841.92
PERIAPSIS_ALTITUDE = 340.42
PERIAPSIS_ARGUMENT_ANGLE = 348.43
PERIAPSIS_TIME = 2018-10-27T01:55:49.000Z
SPACECRAFT_ORIENTATION = (0.0,1.0,0.0)
^MEX_ORIENTATION_DESC = "MEX_ORIENTATION_DESC.TXT"
SPACECRAFT_POINTING_MODE = INERT
^MEX_POINTING_DESC = "MEX_POINTING_DESC.TXT"
RIGHT_ASCENSION = 76.392
DECLINATION = 33.611
OFFSET_ANGLE = -1e+32
SPACECRAFT_SOLAR_DISTANCE = 2.08405e+08
TARGET_NAME = MARS
/* CAMERA DATA ELEMENTS */
DETECTOR_TEMPERATURE = 19.39
FOCAL_PLANE_TEMPERATURE = 12.6613
INST_CMPRS_NAME = "DISCRETE COSINE TRANSFORMATION (DCT)"
INST_CMPRS_RATIO = 3.98105
INST_CMPRS_QUALITY = 0
INST_CMPRS_QUANTZ_TBL_ID = 0
INSTRUMENT_TEMPERATURE = 12.6613
LENS_TEMPERATURE = 12.4574
MACROPIXEL_SIZE = 4
MISSING_FRAMES = 0
PIXEL_SUBSAMPLING_FLAG = N
SIGNAL_CHAIN_ID = 2
/* RADIOMETRIC DATA ELEMENTS */
BANDWIDTH = 76.0
CENTER_FILTER_WAVELENGTH = 444.0
RADIANCE_OFFSET = 0.408451
RADIANCE_SCALING_FACTOR = 0.00117052
REFLECTANCE_SCALING_FACTOR = 5.22338e-05
MEX:REFLECTANCE_OFFSET = 0.0182268
/* IMAGE OBJECT DEFINITIONS */
OBJECT = IMAGE
  INTERCHANGE_FORMAT = BINARY
  LINES = 12900
  LINE_SAMPLES = 1789
  SAMPLE_TYPE = UNSIGNED_INTEGER
  SAMPLE_BITS = 8
  BANDS = 1
  BAND_STORAGE_TYPE = BAND_SEQUENTIAL
  MAXIMUM = 253
  MEAN = 117.626
  MINIMUM = 1
  STANDARD_DEVIATION = 31.1159
END_OBJECT = IMAGE
/* MAP OBJECT DEFINITIONS */
OBJECT = IMAGE_MAP_PROJECTION
  ^DATA_SET_MAP_PROJECTION_CATALOG= "DSMAP.CAT"
  A_AXIS_RADIUS = 3396.0
  B_AXIS_RADIUS = 3396.0
  C_AXIS_RADIUS = 3396.0
  CENTER_LATITUDE = 0.0
  CENTER_LONGITUDE = 162.0
  COORDINATE_SYSTEM_NAME = PLANETOGRAPHIC
  COORDINATE_SYSTEM_TYPE = "BODY-FIXED ROTATING"
  EASTERNMOST_LONGITUDE = 163.058
  FIRST_STANDARD_PARALLEL = "N/A"
  LINE_FIRST_PIXEL = 1
  LINE_LAST_PIXEL = 12900
  LINE_PROJECTION_OFFSET = -16086.875
  MAP_PROJECTION_ROTATION = 0.0
  MAP_PROJECTION_TYPE = SINUSOIDAL
  MAP_RESOLUTION = 1185.42760773333
  MAP_SCALE = 0.05
  MAXIMUM_LATITUDE = -13.5582
  MINIMUM_LATITUDE = -24.4555
  POSITIVE_LONGITUDE_DIRECTION = EAST
  REFERENCE_LATITUDE = "N/A"
  REFERENCE_LONGITUDE = "N/A"
  SAMPLE_FIRST_PIXEL = 1
  SAMPLE_LAST_PIXEL = 1789
  SAMPLE_PROJECTION_OFFSET = 640.625
  SECOND_STANDARD_PARALLEL = "N/A"
  WESTERNMOST_LONGITUDE = 161.454
END_OBJECT = IMAGE_MAP_PROJECTION
END
