PDS_VERSION_ID = PDS3
/* FILE DATA ELEMENTS */
RECORD_TYPE = UNDEFINED
/* POINTERS TO DATA OBJECTS */
^IMAGE = ("HI750_0000_IR4.TIF")
/* IDENTIFICATION DATA ELEMENTS */
DATA_SET_ID = "MEX-M-HRSC-4-REFDR-MAPPROJECT-EXT6-V4.0"
DATA_SET_NAME = "MARS EXPRESS HRSC MAP PROJECTED REFDR EXTENSION6 V4.0"
DETECTOR_ID = MEX_HRSC_IR
EVENT_TYPE = "MARS-REGIONAL-MAPPING-Im-Fl-La"
INSTRUMENT_HOST_ID = MEX
INSTRUMENT_HOST_NAME = "MARS EXPRESS"
INSTRUMENT_ID = HRSC
INSTRUMENT_NAME = "HIGH RESOLUTION STEREO CAMERA"
MISSION_NAME = "MARS EXPRESS"
MISSION_PHASE_NAME = ME_Phase_39
PROCESSING_LEVEL_ID = 4
PRODUCT_CREATION_TIME = 2023-01-29T14:35:52.000Z
PRODUCT_ID = "HI750_0000_IR4.TIF"
RELEASE_ID = 0005
REVISION_ID = 0000
/* QUALITY DATA ELEMENTS */
DATA_QUALITY_ID = 1
DATA_QUALITY_DESC = "Data calculated based on original SPICE kernels"
/* TIME DATA ELEMENTS */
SPACECRAFT_CLOCK_START_COUNT = "1/0488710101.24943"
SPACECRAFT_CLOCK_STOP_COUNT = "1/0488710296.55682"
START_TIME = 2018-10-27T08:49:59.062Z
STOP_TIME = 2018-10-27T08:52:01.576Z
/* ORBITAL DATA ELEMENTS */
ASCENDING_NODE_LONGITUDE = 222.4
MAXIMUM_RESOLUTION = 0.0597
FOOTPRINT_POINT_LATITUDE = (-32.333,-32.3385,-32.3438,-32.3488, -32.3537,-32.3584,-32.3656,-32.3659, -32.4342,-32.2435,-32.055,-31.869, -31.6826,-31.4945,-31.3079,-31.1236, -30.8484,-30.6681,-30.3975,-30.2169, -30.0365,-29.86,-29.6763,-29.4046, -29.0554,-28.8769,-28.6986,-28.4288, -28.2486,-28.0686,-27.7959,-27.4424, -27.2657,-27.0885,-26.9111,-26.6446, -26.2903,-26.0243,-25.8474,-25.5825, -25.4058,-25.2292,-25.0522,-24.8756, -24.6992,-24.4347,-24.2582,-24.0803, -23.9035,-23.5498,-23.4617,-23.4319, -23.4294,-23.424,-23.4184,-23.4136, -23.4053,-23.4048,-23.4059,-23.5823, -23.7586,-24.1104,-24.2881,-24.6407, -24.9056,-25.0826,-25.3475,-25.5243, -25.7011,-25.9661,-26.3192,-26.4986, -26.7661,-27.1166,-27.2956,-27.5636, -27.8322,-28.0995,-28.2781,-28.5471, -28.9012,-29.2538,-29.4364,-29.6189, -29.7985,-29.9772,-30.1568,-30.3363, -30.6105,-30.7927,-30.98,-31.1623, -31.349,-31.5361,-31.723,-31.9093, -32.0957,-32.2813,-32.3741,-32.333)
FOOTPRINT_POINT_LONGITUDE = (58.0342,57.7784,57.5195,57.2574, 56.9921,56.7237,56.2795,56.2622,56.1843 ,56.2065,56.2271,56.2449,56.263,56.2829 ,56.3011,56.3166,56.3418,56.3576, 56.3814,56.3974,56.4132,56.4243,56.4437 ,56.4684,56.4854,56.4985,56.5112, 56.5329,56.5478,56.5624,56.5876,56.6084 ,56.6186,56.6294,56.6404,56.6572, 56.6782,56.694,56.7039,56.7181,56.7277, 56.737,56.7469,56.7561,56.765,56.7779, 56.7869,56.798,56.8072,56.826,56.8302, 56.8316,57.1071,57.4219,57.6565,57.8624 ,58.2046,58.2172,58.2214,58.2189, 58.2164,58.2116,58.2086,58.2033,58.1991 ,58.1962,58.1919,58.1889,58.1859, 58.1814,58.1753,58.1713,58.1658,58.1601 ,58.1561,58.1502,58.144,58.1381,58.134, 58.1275,58.1198,58.1124,58.1069,58.1015 ,58.0967,58.0921,58.0873,58.0824, 58.0737,58.0681,58.0612,58.0565,58.0506 ,58.0445,58.0385,58.0325,58.0265, 58.0205,58.0176,58.0342)
ORBIT_NUMBER = 18750
ORBITAL_ECCENTRICITY = 0.578
ORBITAL_INCLINATION = 86.96
ORBITAL_SEMIMAJOR_AXIS = 8849.21
PERIAPSIS_ALTITUDE = 339.5
PERIAPSIS_ARGUMENT_ANGLE = 348.24
PERIAPSIS_TIME = 2018-10-27T08:54:43.000Z
SPACECRAFT_ORIENTATION = (0.0,1.0,0.0)
^MEX_ORIENTATION_DESC = "MEX_ORIENTATION_DESC.TXT"
SPACECRAFT_POINTING_MODE = INERT
^MEX_POINTING_DESC = "MEX_POINTING_DESC.TXT"
RIGHT_ASCENSION = 76.284
DECLINATION = 33.717
OFFSET_ANGLE = -1e+32
SPACECRAFT_SOLAR_DISTANCE = 2.0843e+08
TARGET_NAME = MARS
/* CAMERA DATA ELEMENTS */
DETECTOR_TEMPERATURE = 18.3705
FOCAL_PLANE_TEMPERATURE = 10.2145
INST_CMPRS_NAME = "DISCRETE COSINE TRANSFORMATION (DCT)"
INST_CMPRS_RATIO = 9.93482
INST_CMPRS_QUALITY = 0
INST_CMPRS_QUANTZ_TBL_ID = 0
INSTRUMENT_TEMPERATURE = 10.2145
LENS_TEMPERATURE = 10.6223
MACROPIXEL_SIZE = 4
MISSING_FRAMES = 0
PIXEL_SUBSAMPLING_FLAG = N
SIGNAL_CHAIN_ID = 2
/* RADIOMETRIC DATA ELEMENTS */
BANDWIDTH = 81.0
CENTER_FILTER_WAVELENGTH = 955.5
RADIANCE_OFFSET = 0.753387
RADIANCE_SCALING_FACTOR = 0.00489818
REFLECTANCE_SCALING_FACTOR = 0.000459073
MEX:REFLECTANCE_OFFSET = 0.0706098
/* IMAGE OBJECT DEFINITIONS */
OBJECT = IMAGE
  INTERCHANGE_FORMAT = BINARY
  LINES = 10676
  LINE_SAMPLES = 2186
  SAMPLE_TYPE = UNSIGNED_INTEGER
  SAMPLE_BITS = 8
  BANDS = 1
  BAND_STORAGE_TYPE = BAND_SEQUENTIAL
  MAXIMUM = 254
  MEAN = 106.265
  MINIMUM = 1
  STANDARD_DEVIATION = 51.9089
END_OBJECT = IMAGE
/* MAP OBJECT DEFINITIONS */
OBJECT = IMAGE_MAP_PROJECTION
  ^DATA_SET_MAP_PROJECTION_CATALOG= "DSMAP.CAT"
  A_AXIS_RADIUS = 3396.0
  B_AXIS_RADIUS = 3396.0
  C_AXIS_RADIUS = 3396.0
  CENTER_LATITUDE = 0.0
  CENTER_LONGITUDE = 57.0
  COORDINATE_SYSTEM_NAME = PLANETOGRAPHIC
  COORDINATE_SYSTEM_TYPE = "BODY-FIXED ROTATING"
  EASTERNMOST_LONGITUDE = 58.2214
  FIRST_STANDARD_PARALLEL = "N/A"
  LINE_FIRST_PIXEL = 1
  LINE_LAST_PIXEL = 10676
  LINE_PROJECTION_OFFSET = -27749.125
  MAP_PROJECTION_ROTATION = 0.0
  MAP_PROJECTION_TYPE = SINUSOIDAL
  MAP_RESOLUTION = 1185.42760773333
  MAP_SCALE = 0.05
  MAXIMUM_LATITUDE = -23.4048
  MINIMUM_LATITUDE = -32.4342
  POSITIVE_LONGITUDE_DIRECTION = EAST
  REFERENCE_LATITUDE = "N/A"
  REFERENCE_LONGITUDE = "N/A"
  SAMPLE_FIRST_PIXEL = 1
  SAMPLE_LAST_PIXEL = 2186
  SAMPLE_PROJECTION_OFFSET = 856.375
  SECOND_STANDARD_PARALLEL = "N/A"
  WESTERNMOST_LONGITUDE = 56.1843
END_OBJECT = IMAGE_MAP_PROJECTION
END
