PDS_VERSION_ID = PDS3
/* FILE DATA ELEMENTS */
RECORD_TYPE = UNDEFINED
/* POINTERS TO DATA OBJECTS */
^IMAGE = ("HI753_0000_IR4.TIF")
/* IDENTIFICATION DATA ELEMENTS */
DATA_SET_ID = "MEX-M-HRSC-4-REFDR-MAPPROJECT-EXT6-V4.0"
DATA_SET_NAME = "MARS EXPRESS HRSC MAP PROJECTED REFDR EXTENSION6 V4.0"
DETECTOR_ID = MEX_HRSC_IR
EVENT_TYPE = "MARS-REGIONAL-MAPPING-Vo-Im"
INSTRUMENT_HOST_ID = MEX
INSTRUMENT_HOST_NAME = "MARS EXPRESS"
INSTRUMENT_ID = HRSC
INSTRUMENT_NAME = "HIGH RESOLUTION STEREO CAMERA"
MISSION_NAME = "MARS EXPRESS"
MISSION_PHASE_NAME = ME_Phase_39
PROCESSING_LEVEL_ID = 4
PRODUCT_CREATION_TIME = 2023-01-29T14:35:52.000Z
PRODUCT_ID = "HI753_0000_IR4.TIF"
RELEASE_ID = 0005
REVISION_ID = 0000
/* QUALITY DATA ELEMENTS */
DATA_QUALITY_ID = 1
DATA_QUALITY_DESC = "Data calculated based on original SPICE kernels"
/* TIME DATA ELEMENTS */
SPACECRAFT_CLOCK_START_COUNT = "1/0488785727.25696"
SPACECRAFT_CLOCK_STOP_COUNT = "1/0488785932.59091"
START_TIME = 2018-10-28T05:50:11.045Z
STOP_TIME = 2018-10-28T05:52:37.909Z
/* ORBITAL DATA ELEMENTS */
ASCENDING_NODE_LONGITUDE = 222.34
MAXIMUM_RESOLUTION = 0.055
FOOTPRINT_POINT_LATITUDE = (-19.5154,-19.5063,-19.4994,-19.4923, -19.4921,-19.4932,-19.2788,-19.0644, -18.8505,-18.6364,-18.422,-18.2086, -17.9948,-17.7816,-17.5681,-17.3547, -17.1416,-16.8221,-16.5032,-16.2907, -16.0779,-15.8674,-15.6534,-15.4412, -15.1229,-14.8046,-14.5923,-14.275, -14.0635,-13.7461,-13.4292,-13.2179, -12.9011,-12.6898,-12.4789,-12.1625, -11.8465,-11.6357,-11.4251,-11.2145, -11.0041,-10.7937,-10.5829,-10.3724, -10.1624,-9.7439,-9.42876,-9.21872, -9.0086,-8.90313,-8.90124,-8.90837, -8.91306,-8.92131,-8.92167,-8.92268, -9.13223,-9.44709,-9.65711,-9.86742, -10.1829,-10.3932,-10.6038,-10.9192, -11.1296,-11.4455,-11.6561,-11.8669, -12.1832,-12.4994,-12.71,-13.0259, -13.2364,-13.451,-13.6674,-13.879, -14.2935,-14.5064,-14.7188,-14.9305, -15.143,-15.4615,-15.674,-15.9925, -16.2048,-16.418,-16.6309,-16.9503, -17.1633,-17.4833,-17.6966,-18.0171, -18.2307,-18.4447,-18.7657,-18.98, -19.1942,-19.4084,-19.5155,-19.5154)
FOOTPRINT_POINT_LONGITUDE = (113.34,112.828,112.443,112.061,112.05, 112.046,112.048,112.049,112.05,112.051, 112.052,112.053,112.053,112.054,112.055 ,112.056,112.056,112.057,112.058, 112.059,112.059,112.06,112.06,112.061, 112.061,112.062,112.062,112.062,112.063 ,112.063,112.063,112.063,112.063, 112.063,112.063,112.063,112.063,112.063 ,112.062,112.062,112.062,112.062, 112.061,112.061,112.061,112.06,112.059, 112.059,112.059,112.058,112.058,112.534 ,112.764,113.219,113.23,113.234,113.234 ,113.235,113.235,113.236,113.238, 113.239,113.24,113.242,113.243,113.245, 113.246,113.248,113.25,113.252,113.253, 113.255,113.256,113.261,113.268,113.27, 113.266,113.27,113.272,113.274,113.277, 113.281,113.284,113.288,113.29,113.293, 113.296,113.301,113.304,113.308,113.312 ,113.317,113.32,113.323,113.329,113.332 ,113.336,113.34,113.341,113.34)
ORBIT_NUMBER = 18753
ORBITAL_ECCENTRICITY = 0.578
ORBITAL_INCLINATION = 86.94
ORBITAL_SEMIMAJOR_AXIS = 8848.49
PERIAPSIS_ALTITUDE = 339.37
PERIAPSIS_ARGUMENT_ANGLE = 347.7
PERIAPSIS_TIME = 2018-10-28T05:51:34.000Z
SPACECRAFT_ORIENTATION = (0.0,1.0,0.0)
^MEX_ORIENTATION_DESC = "MEX_ORIENTATION_DESC.TXT"
SPACECRAFT_POINTING_MODE = INERT
^MEX_POINTING_DESC = "MEX_POINTING_DESC.TXT"
RIGHT_ASCENSION = 75.814
DECLINATION = 34.148
OFFSET_ANGLE = -1e+32
SPACECRAFT_SOLAR_DISTANCE = 2.08505e+08
TARGET_NAME = MARS
/* CAMERA DATA ELEMENTS */
DETECTOR_TEMPERATURE = 17.5549
FOCAL_PLANE_TEMPERATURE = 11.0301
INST_CMPRS_NAME = "DISCRETE COSINE TRANSFORMATION (DCT)"
INST_CMPRS_RATIO = 7.07978
INST_CMPRS_QUALITY = 0
INST_CMPRS_QUANTZ_TBL_ID = 0
INSTRUMENT_TEMPERATURE = 12.8652
LENS_TEMPERATURE = 11.4379
MACROPIXEL_SIZE = 4
MISSING_FRAMES = 0
PIXEL_SUBSAMPLING_FLAG = N
SIGNAL_CHAIN_ID = 2
/* RADIOMETRIC DATA ELEMENTS */
BANDWIDTH = 81.0
CENTER_FILTER_WAVELENGTH = 955.5
RADIANCE_OFFSET = 0.544947
RADIANCE_SCALING_FACTOR = 0.00237832
REFLECTANCE_SCALING_FACTOR = 0.000223065
MEX:REFLECTANCE_OFFSET = 0.0511109
/* IMAGE OBJECT DEFINITIONS */
OBJECT = IMAGE
  INTERCHANGE_FORMAT = BINARY
  LINES = 12581
  LINE_SAMPLES = 1495
  SAMPLE_TYPE = UNSIGNED_INTEGER
  SAMPLE_BITS = 8
  BANDS = 1
  BAND_STORAGE_TYPE = BAND_SEQUENTIAL
  MAXIMUM = 255
  MEAN = 120.639
  MINIMUM = 1
  STANDARD_DEVIATION = 33.7833
END_OBJECT = IMAGE
/* MAP OBJECT DEFINITIONS */
OBJECT = IMAGE_MAP_PROJECTION
  ^DATA_SET_MAP_PROJECTION_CATALOG= "DSMAP.CAT"
  A_AXIS_RADIUS = 3396.0
  B_AXIS_RADIUS = 3396.0
  C_AXIS_RADIUS = 3396.0
  CENTER_LATITUDE = 0.0
  CENTER_LONGITUDE = 113.0
  COORDINATE_SYSTEM_NAME = PLANETOGRAPHIC
  COORDINATE_SYSTEM_TYPE = "BODY-FIXED ROTATING"
  EASTERNMOST_LONGITUDE = 113.341
  FIRST_STANDARD_PARALLEL = "N/A"
  LINE_FIRST_PIXEL = 1
  LINE_LAST_PIXEL = 12581
  LINE_PROJECTION_OFFSET = -10571.375
  MAP_PROJECTION_ROTATION = 0.0
  MAP_PROJECTION_TYPE = SINUSOIDAL
  MAP_RESOLUTION = 1185.42760773333
  MAP_SCALE = 0.05
  MAXIMUM_LATITUDE = -8.90124
  MINIMUM_LATITUDE = -19.5155
  POSITIVE_LONGITUDE_DIRECTION = EAST
  REFERENCE_LATITUDE = "N/A"
  REFERENCE_LONGITUDE = "N/A"
  SAMPLE_FIRST_PIXEL = 1
  SAMPLE_LAST_PIXEL = 1495
  SAMPLE_PROJECTION_OFFSET = 1117.875
  SECOND_STANDARD_PARALLEL = "N/A"
  WESTERNMOST_LONGITUDE = 112.046
END_OBJECT = IMAGE_MAP_PROJECTION
END
