PDS_VERSION_ID = PDS3
/* FILE DATA ELEMENTS */
RECORD_TYPE = UNDEFINED
/* POINTERS TO DATA OBJECTS */
^IMAGE = ("HI753_0000_ND4.TIF")
/* IDENTIFICATION DATA ELEMENTS */
DATA_SET_ID = "MEX-M-HRSC-4-REFDR-MAPPROJECT-EXT6-V4.0"
DATA_SET_NAME = "MARS EXPRESS HRSC MAP PROJECTED REFDR EXTENSION6 V4.0"
DETECTOR_ID = MEX_HRSC_NADIR
EVENT_TYPE = "MARS-REGIONAL-MAPPING-Vo-Im"
INSTRUMENT_HOST_ID = MEX
INSTRUMENT_HOST_NAME = "MARS EXPRESS"
INSTRUMENT_ID = HRSC
INSTRUMENT_NAME = "HIGH RESOLUTION STEREO CAMERA"
MISSION_NAME = "MARS EXPRESS"
MISSION_PHASE_NAME = ME_Phase_39
PROCESSING_LEVEL_ID = 4
PRODUCT_CREATION_TIME = 2023-01-29T14:35:52.000Z
PRODUCT_ID = "HI753_0000_ND4.TIF"
RELEASE_ID = 0005
REVISION_ID = 0000
/* QUALITY DATA ELEMENTS */
DATA_QUALITY_ID = 1
DATA_QUALITY_DESC = "Data calculated based on original SPICE kernels"
/* TIME DATA ELEMENTS */
SPACECRAFT_CLOCK_START_COUNT = "1/0488785727.25696"
SPACECRAFT_CLOCK_STOP_COUNT = "1/0488785932.59091"
START_TIME = 2018-10-28T05:49:47.267Z
STOP_TIME = 2018-10-28T05:52:15.279Z
/* ORBITAL DATA ELEMENTS */
ASCENDING_NODE_LONGITUDE = 222.34
MAXIMUM_RESOLUTION = 0.0136
FOOTPRINT_POINT_LATITUDE = (-19.5232,-19.5271,-19.5288,-19.5295, -19.5296,-19.5296,-19.2122,-18.8948, -18.5774,-18.3658,-18.0485,-17.837, -17.6254,-17.4139,-17.2024,-16.9909, -16.7794,-16.5679,-16.2506,-15.933, -15.616,-15.2987,-15.0871,-14.8756, -14.6641,-14.4525,-14.135,-13.8176, -13.6059,-13.2883,-13.0766,-12.8648, -12.5472,-12.3355,-12.0176,-11.8056, -11.4877,-11.2758,-11.0637,-10.8516, -10.6396,-10.4278,-10.2157,-10.0017, -9.78929,-9.57675,-9.25823,-9.04589, -8.9397,-8.9259,-8.92393,-8.92276, -8.9201,-8.91705,-8.91691,-8.91708, -9.13019,-9.34275,-9.66146,-9.97987, -10.4044,-10.6165,-10.8288,-11.041, -11.2532,-11.5712,-11.7833,-11.9952, -12.2072,-12.4191,-12.6311,-12.8432, -13.0551,-13.2673,-13.6883,-13.9002, -14.113,-14.3257,-14.7486,-14.9603, -15.1718,-15.4892,-15.8066,-16.0182, -16.3356,-16.5471,-16.7587,-17.0761, -17.2876,-17.4992,-17.7108,-17.9224, -18.134,-18.3456,-18.5572,-18.7689, -19.0864,-19.4038,-19.5097,-19.5232)
FOOTPRINT_POINT_LONGITUDE = (113.335,112.738,112.329,112.05,112.037 ,112.031,112.033,112.034,112.036, 112.037,112.039,112.039,112.04,112.041, 112.042,112.043,112.043,112.044,112.045 ,112.045,112.046,112.047,112.047, 112.048,112.048,112.048,112.049,112.049 ,112.049,112.049,112.049,112.049, 112.049,112.049,112.049,112.049,112.049 ,112.049,112.049,112.048,112.048, 112.048,112.048,112.047,112.047,112.046 ,112.046,112.045,112.045,112.045, 112.496,112.748,113.015,113.248,113.26, 113.266,113.265,113.265,113.265,113.265 ,113.266,113.267,113.267,113.267, 113.268,113.269,113.269,113.27,113.271, 113.272,113.273,113.273,113.274,113.273 ,113.284,113.285,113.283,113.28,113.285 ,113.286,113.288,113.291,113.294, 113.296,113.299,113.301,113.303,113.306 ,113.309,113.311,113.313,113.316, 113.318,113.321,113.324,113.326,113.331 ,113.335,113.336,113.335)
ORBIT_NUMBER = 18753
ORBITAL_ECCENTRICITY = 0.578
ORBITAL_INCLINATION = 86.94
ORBITAL_SEMIMAJOR_AXIS = 8848.49
PERIAPSIS_ALTITUDE = 339.37
PERIAPSIS_ARGUMENT_ANGLE = 347.7
PERIAPSIS_TIME = 2018-10-28T05:51:34.000Z
SPACECRAFT_ORIENTATION = (0.0,1.0,0.0)
^MEX_ORIENTATION_DESC = "MEX_ORIENTATION_DESC.TXT"
SPACECRAFT_POINTING_MODE = INERT
^MEX_POINTING_DESC = "MEX_POINTING_DESC.TXT"
RIGHT_ASCENSION = 75.814
DECLINATION = 34.148
OFFSET_ANGLE = -1e+32
SPACECRAFT_SOLAR_DISTANCE = 2.08505e+08
TARGET_NAME = MARS
/* CAMERA DATA ELEMENTS */
DETECTOR_TEMPERATURE = 18.5744
FOCAL_PLANE_TEMPERATURE = 11.0301
INST_CMPRS_NAME = "DISCRETE COSINE TRANSFORMATION (DCT)"
INST_CMPRS_RATIO = 6.38834
INST_CMPRS_QUALITY = 0
INST_CMPRS_QUANTZ_TBL_ID = 0
INSTRUMENT_TEMPERATURE = 12.8652
LENS_TEMPERATURE = 11.4379
MACROPIXEL_SIZE = 1
MISSING_FRAMES = 0
PIXEL_SUBSAMPLING_FLAG = N
SIGNAL_CHAIN_ID = 0
/* RADIOMETRIC DATA ELEMENTS */
BANDWIDTH = 177.0
CENTER_FILTER_WAVELENGTH = 677.5
RADIANCE_OFFSET = 2.05815
RADIANCE_SCALING_FACTOR = 0.00833152
REFLECTANCE_SCALING_FACTOR = 0.000192416
MEX:REFLECTANCE_OFFSET = 0.0475327
/* IMAGE OBJECT DEFINITIONS */
OBJECT = IMAGE
  INTERCHANGE_FORMAT = BINARY
  LINES = 50322
  LINE_SAMPLES = 5977
  SAMPLE_TYPE = UNSIGNED_INTEGER
  SAMPLE_BITS = 8
  BANDS = 1
  BAND_STORAGE_TYPE = BAND_SEQUENTIAL
  MAXIMUM = 255
  MEAN = 122.768
  MINIMUM = 1
  STANDARD_DEVIATION = 31.9291
END_OBJECT = IMAGE
/* MAP OBJECT DEFINITIONS */
OBJECT = IMAGE_MAP_PROJECTION
  ^DATA_SET_MAP_PROJECTION_CATALOG= "DSMAP.CAT"
  A_AXIS_RADIUS = 3396.0
  B_AXIS_RADIUS = 3396.0
  C_AXIS_RADIUS = 3396.0
  CENTER_LATITUDE = 0.0
  CENTER_LONGITUDE = 113.0
  COORDINATE_SYSTEM_NAME = PLANETOGRAPHIC
  COORDINATE_SYSTEM_TYPE = "BODY-FIXED ROTATING"
  EASTERNMOST_LONGITUDE = 113.336
  FIRST_STANDARD_PARALLEL = "N/A"
  LINE_FIRST_PIXEL = 1
  LINE_LAST_PIXEL = 50322
  LINE_PROJECTION_OFFSET = -42284.0
  MAP_PROJECTION_ROTATION = 0.0
  MAP_PROJECTION_TYPE = SINUSOIDAL
  MAP_RESOLUTION = 4741.71043093333
  MAP_SCALE = 0.0125
  MAXIMUM_LATITUDE = -8.91691
  MINIMUM_LATITUDE = -19.5296
  POSITIVE_LONGITUDE_DIRECTION = EAST
  REFERENCE_LATITUDE = "N/A"
  REFERENCE_LONGITUDE = "N/A"
  SAMPLE_FIRST_PIXEL = 1
  SAMPLE_LAST_PIXEL = 5977
  SAMPLE_PROJECTION_OFFSET = 4473.0
  SECOND_STANDARD_PARALLEL = "N/A"
  WESTERNMOST_LONGITUDE = 112.031
END_OBJECT = IMAGE_MAP_PROJECTION
END
