PDS_VERSION_ID = PDS3
/* FILE DATA ELEMENTS */
RECORD_TYPE = UNDEFINED
/* POINTERS TO DATA OBJECTS */
^IMAGE = ("HI753_0000_S24.TIF")
/* IDENTIFICATION DATA ELEMENTS */
DATA_SET_ID = "MEX-M-HRSC-4-REFDR-MAPPROJECT-EXT6-V4.0"
DATA_SET_NAME = "MARS EXPRESS HRSC MAP PROJECTED REFDR EXTENSION6 V4.0"
DETECTOR_ID = MEX_HRSC_S2
EVENT_TYPE = "MARS-REGIONAL-MAPPING-Vo-Im"
INSTRUMENT_HOST_ID = MEX
INSTRUMENT_HOST_NAME = "MARS EXPRESS"
INSTRUMENT_ID = HRSC
INSTRUMENT_NAME = "HIGH RESOLUTION STEREO CAMERA"
MISSION_NAME = "MARS EXPRESS"
MISSION_PHASE_NAME = ME_Phase_39
PROCESSING_LEVEL_ID = 4
PRODUCT_CREATION_TIME = 2023-01-29T14:35:52.000Z
PRODUCT_ID = "HI753_0000_S24.TIF"
RELEASE_ID = 0005
REVISION_ID = 0000
/* QUALITY DATA ELEMENTS */
DATA_QUALITY_ID = 1
DATA_QUALITY_DESC = "Data calculated based on original SPICE kernels"
/* TIME DATA ELEMENTS */
SPACECRAFT_CLOCK_START_COUNT = "1/0488785727.25696"
SPACECRAFT_CLOCK_STOP_COUNT = "1/0488785932.59091"
START_TIME = 2018-10-28T05:49:18.773Z
STOP_TIME = 2018-10-28T05:51:46.173Z
/* ORBITAL DATA ELEMENTS */
ASCENDING_NODE_LONGITUDE = 222.34
MAXIMUM_RESOLUTION = 0.0292
FOOTPRINT_POINT_LATITUDE = (-19.5155,-19.5321,-19.5439,-19.554, -19.5543,-19.5521,-19.3442,-19.1364, -18.9282,-18.5126,-18.2,-17.8872, -17.6785,-17.47,-17.2612,-16.9476, -16.7387,-16.5288,-16.3191,-16.1098, -15.8973,-15.5847,-15.3748,-15.1646, -14.9544,-14.6395,-14.4287,-14.2176, -13.901,-13.6898,-13.4782,-13.2668, -13.0547,-12.7374,-12.5254,-12.3134, -12.1007,-11.8876,-11.6749,-11.4618, -11.2487,-11.0352,-10.8216,-10.6082, -10.3956,-10.074,-9.85351,-9.63864, -9.31647,-9.10194,-8.99455,-8.9528, -8.93773,-8.91718,-8.90504,-8.90444, -8.90471,-9.1226,-9.33821,-9.66084, -9.98243,-10.3037,-10.6243,-10.8389, -11.0529,-11.2666,-11.5866,-11.7999, -12.0126,-12.2254,-12.4383,-12.651, -12.865,-13.0776,-13.3937,-13.804, -14.0162,-14.2397,-14.5567,-14.8728, -15.1879,-15.503,-15.8182,-16.0282, -16.3427,-16.5519,-16.7615,-16.9708, -17.2846,-17.598,-17.8069,-18.0153, -18.224,-18.5364,-18.7447,-18.9528, -19.161,-19.3692,-19.4733,-19.5155)
FOOTPRINT_POINT_LONGITUDE = (113.32,112.836,112.434,112.035,112.022 ,112.018,112.019,112.021,112.022, 112.024,112.026,112.027,112.028,112.029 ,112.03,112.031,112.031,112.032,112.033 ,112.033,112.034,112.034,112.035, 112.035,112.036,112.036,112.037,112.037 ,112.037,112.037,112.037,112.038, 112.038,112.038,112.038,112.038,112.038 ,112.037,112.037,112.037,112.037, 112.037,112.036,112.036,112.036,112.035 ,112.035,112.034,112.034,112.033, 112.033,112.033,112.626,113.02,113.282, 113.294,113.299,113.297,113.296,113.294 ,113.293,113.293,113.292,113.291, 113.291,113.29,113.29,113.289,113.289, 113.289,113.289,113.289,113.288,113.288 ,113.289,113.296,113.296,113.291, 113.291,113.292,113.294,113.295,113.296 ,113.297,113.299,113.3,113.301,113.302, 113.304,113.306,113.308,113.309,113.311 ,113.313,113.315,113.317,113.318,113.32 ,113.321,113.32)
ORBIT_NUMBER = 18753
ORBITAL_ECCENTRICITY = 0.578
ORBITAL_INCLINATION = 86.94
ORBITAL_SEMIMAJOR_AXIS = 8848.49
PERIAPSIS_ALTITUDE = 339.37
PERIAPSIS_ARGUMENT_ANGLE = 347.7
PERIAPSIS_TIME = 2018-10-28T05:51:34.000Z
SPACECRAFT_ORIENTATION = (0.0,1.0,0.0)
^MEX_ORIENTATION_DESC = "MEX_ORIENTATION_DESC.TXT"
SPACECRAFT_POINTING_MODE = INERT
^MEX_POINTING_DESC = "MEX_POINTING_DESC.TXT"
RIGHT_ASCENSION = 75.814
DECLINATION = 34.148
OFFSET_ANGLE = -1e+32
SPACECRAFT_SOLAR_DISTANCE = 2.08505e+08
TARGET_NAME = MARS
/* CAMERA DATA ELEMENTS */
DETECTOR_TEMPERATURE = 19.1861
FOCAL_PLANE_TEMPERATURE = 11.0301
INST_CMPRS_NAME = "DISCRETE COSINE TRANSFORMATION (DCT)"
INST_CMPRS_RATIO = 12.2312
INST_CMPRS_QUALITY = 0
INST_CMPRS_QUANTZ_TBL_ID = 0
INSTRUMENT_TEMPERATURE = 12.8652
LENS_TEMPERATURE = 11.4379
MACROPIXEL_SIZE = 2
MISSING_FRAMES = 0
PIXEL_SUBSAMPLING_FLAG = N
SIGNAL_CHAIN_ID = 1
/* RADIOMETRIC DATA ELEMENTS */
BANDWIDTH = 178.0
CENTER_FILTER_WAVELENGTH = 679.0
RADIANCE_OFFSET = 2.52772
RADIANCE_SCALING_FACTOR = 0.00870704
REFLECTANCE_SCALING_FACTOR = 0.000200462
MEX:REFLECTANCE_OFFSET = 0.0581956
/* IMAGE OBJECT DEFINITIONS */
OBJECT = IMAGE
  INTERCHANGE_FORMAT = BINARY
  LINES = 25161
  LINE_SAMPLES = 2989
  SAMPLE_TYPE = UNSIGNED_INTEGER
  SAMPLE_BITS = 8
  BANDS = 1
  BAND_STORAGE_TYPE = BAND_SEQUENTIAL
  MAXIMUM = 255
  MEAN = 123.517
  MINIMUM = 1
  STANDARD_DEVIATION = 30.9321
END_OBJECT = IMAGE
/* MAP OBJECT DEFINITIONS */
OBJECT = IMAGE_MAP_PROJECTION
  ^DATA_SET_MAP_PROJECTION_CATALOG= "DSMAP.CAT"
  A_AXIS_RADIUS = 3396.0
  B_AXIS_RADIUS = 3396.0
  C_AXIS_RADIUS = 3396.0
  CENTER_LATITUDE = 0.0
  CENTER_LONGITUDE = 113.0
  COORDINATE_SYSTEM_NAME = PLANETOGRAPHIC
  COORDINATE_SYSTEM_TYPE = "BODY-FIXED ROTATING"
  EASTERNMOST_LONGITUDE = 113.321
  FIRST_STANDARD_PARALLEL = "N/A"
  LINE_FIRST_PIXEL = 1
  LINE_LAST_PIXEL = 25161
  LINE_PROJECTION_OFFSET = -21142.25
  MAP_PROJECTION_ROTATION = 0.0
  MAP_PROJECTION_TYPE = SINUSOIDAL
  MAP_RESOLUTION = 2370.85521546667
  MAP_SCALE = 0.025
  MAXIMUM_LATITUDE = -8.904439999999999
  MINIMUM_LATITUDE = -19.5543
  POSITIVE_LONGITUDE_DIRECTION = EAST
  REFERENCE_LATITUDE = "N/A"
  REFERENCE_LONGITUDE = "N/A"
  SAMPLE_FIRST_PIXEL = 1
  SAMPLE_LAST_PIXEL = 2989
  SAMPLE_PROJECTION_OFFSET = 2236.25
  SECOND_STANDARD_PARALLEL = "N/A"
  WESTERNMOST_LONGITUDE = 112.018
END_OBJECT = IMAGE_MAP_PROJECTION
END
