PDS_VERSION_ID = PDS3
/* FILE DATA ELEMENTS */
RECORD_TYPE = UNDEFINED
/* POINTERS TO DATA OBJECTS */
^IMAGE = ("HI754_0000_BL4.TIF")
/* IDENTIFICATION DATA ELEMENTS */
DATA_SET_ID = "MEX-M-HRSC-4-REFDR-MAPPROJECT-EXT6-V4.0"
DATA_SET_NAME = "MARS EXPRESS HRSC MAP PROJECTED REFDR EXTENSION6 V4.0"
DETECTOR_ID = MEX_HRSC_BLUE
EVENT_TYPE = "MARS-REGIONAL-MAPPING-Im-Fl"
INSTRUMENT_HOST_ID = MEX
INSTRUMENT_HOST_NAME = "MARS EXPRESS"
INSTRUMENT_ID = HRSC
INSTRUMENT_NAME = "HIGH RESOLUTION STEREO CAMERA"
MISSION_NAME = "MARS EXPRESS"
MISSION_PHASE_NAME = ME_Phase_39
PROCESSING_LEVEL_ID = 4
PRODUCT_CREATION_TIME = 2023-01-29T14:35:52.000Z
PRODUCT_ID = "HI754_0000_BL4.TIF"
RELEASE_ID = 0005
REVISION_ID = 0000
/* QUALITY DATA ELEMENTS */
DATA_QUALITY_ID = 1
DATA_QUALITY_DESC = "Data calculated based on original SPICE kernels"
/* TIME DATA ELEMENTS */
SPACECRAFT_CLOCK_START_COUNT = "1/0488810901.24940"
SPACECRAFT_CLOCK_STOP_COUNT = "1/0488811093.31568"
START_TIME = 2018-10-28T12:49:16.072Z
STOP_TIME = 2018-10-28T12:51:30.872Z
/* ORBITAL DATA ELEMENTS */
ASCENDING_NODE_LONGITUDE = 222.33
MAXIMUM_RESOLUTION = 0.0546
FOOTPRINT_POINT_LATITUDE = (-17.3583,-17.3592,-17.3595,-17.3592, -17.3588,-17.3587,-17.3574,-17.1664, -16.8798,-16.5933,-16.2112,-15.9246, -15.5423,-15.2554,-14.7779,-14.5865, -14.3953,-14.2042,-14.0129,-13.8217, -13.6282,-13.4366,-13.2451,-12.8645, -12.5771,-12.3855,-12.1935,-12.002, -11.8106,-11.619,-11.427,-11.1393, -10.852,-10.6604,-10.4684,-10.2765, -9.98817,-9.69951,-9.50721,-9.31533, -9.12263,-8.83384,-8.64121,-8.35248, -8.15984,-7.87082,-7.7745,-7.68867, -7.68872,-7.68818,-7.6855,-7.68407, -7.684,-7.68493,-7.97452,-8.16787, -8.45785,-8.65089,-8.8433,-9.03567, -9.32262,-9.51588,-9.70786,-9.89999, -10.0932,-10.2852,-10.4768,-10.6687, -10.8604,-11.0523,-11.2442,-11.5317, -11.7235,-11.915,-12.107,-12.3943, -12.586,-12.8735,-13.065,-13.3522, -13.6394,-13.8309,-14.0224,-14.2137, -14.4051,-14.5966,-14.7879,-14.9791, -15.2659,-15.4572,-15.6483,-15.8395, -16.0307,-16.3174,-16.5085,-16.6997, -16.9863,-17.1776,-17.2727,-17.3583)
FOOTPRINT_POINT_LONGITUDE = (10.4983,10.1266,9.75317,9.47196, 9.26004,9.24826,9.24331,9.24514,9.24788 ,9.25075,9.25446,9.25714,9.25976, 9.26139,9.26545,9.26629,9.26741,9.26856 ,9.26956,9.27052,9.26773,9.26816, 9.26874,9.2734,9.27386,9.27412,9.27386, 9.27432,9.27473,9.27501,9.27475,9.2746, 9.27501,9.27513,9.27475,9.27449,9.27369 ,9.27254,9.27189,9.27161,9.27059, 9.26929,9.26833,9.26705,9.26606,9.26452 ,9.26401,9.26357,9.46889,9.74268, 10.1635,10.4695,10.4809,10.4846,10.4845 ,10.4842,10.4838,10.4837,10.4838, 10.4839,10.4849,10.4846,10.4849,10.4851 ,10.4847,10.4849,10.4854,10.4857,10.486 ,10.4863,10.4866,10.4871,10.4874, 10.4879,10.488,10.4886,10.4889,10.4893, 10.4897,10.4903,10.4908,10.4911,10.4915 ,10.4919,10.4923,10.4925,10.4929, 10.4933,10.4941,10.4945,10.495,10.4954, 10.4959,10.4966,10.4971,10.4973,10.4982 ,10.4981,10.4995,10.4983)
ORBIT_NUMBER = 18754
ORBITAL_ECCENTRICITY = 0.578
ORBITAL_INCLINATION = 86.94
ORBITAL_SEMIMAJOR_AXIS = 8845.31
PERIAPSIS_ALTITUDE = 339.9
PERIAPSIS_ARGUMENT_ANGLE = 347.53
PERIAPSIS_TIME = 2018-10-28T12:50:32.000Z
SPACECRAFT_ORIENTATION = (0.0,1.0,0.0)
^MEX_ORIENTATION_DESC = "MEX_ORIENTATION_DESC.TXT"
SPACECRAFT_POINTING_MODE = INERT
^MEX_POINTING_DESC = "MEX_POINTING_DESC.TXT"
RIGHT_ASCENSION = 75.696
DECLINATION = 34.261
OFFSET_ANGLE = -1e+32
SPACECRAFT_SOLAR_DISTANCE = 2.0853e+08
TARGET_NAME = MARS
/* CAMERA DATA ELEMENTS */
DETECTOR_TEMPERATURE = 19.1861
FOCAL_PLANE_TEMPERATURE = 10.8262
INST_CMPRS_NAME = "DISCRETE COSINE TRANSFORMATION (DCT)"
INST_CMPRS_RATIO = 3.17866
INST_CMPRS_QUALITY = 0
INST_CMPRS_QUANTZ_TBL_ID = 0
INSTRUMENT_TEMPERATURE = 12.4574
LENS_TEMPERATURE = 11.4379
MACROPIXEL_SIZE = 4
MISSING_FRAMES = 0
PIXEL_SUBSAMPLING_FLAG = N
SIGNAL_CHAIN_ID = 2
/* RADIOMETRIC DATA ELEMENTS */
BANDWIDTH = 76.0
CENTER_FILTER_WAVELENGTH = 444.0
RADIANCE_OFFSET = 0.431406
RADIANCE_SCALING_FACTOR = 0.00105412
REFLECTANCE_SCALING_FACTOR = 4.70956e-05
MEX:REFLECTANCE_OFFSET = 0.0192743
/* IMAGE OBJECT DEFINITIONS */
OBJECT = IMAGE
  INTERCHANGE_FORMAT = BINARY
  LINES = 11483
  LINE_SAMPLES = 1437
  SAMPLE_TYPE = UNSIGNED_INTEGER
  SAMPLE_BITS = 8
  BANDS = 1
  BAND_STORAGE_TYPE = BAND_SEQUENTIAL
  MAXIMUM = 255
  MEAN = 134.431
  MINIMUM = 1
  STANDARD_DEVIATION = 34.0633
END_OBJECT = IMAGE
/* MAP OBJECT DEFINITIONS */
OBJECT = IMAGE_MAP_PROJECTION
  ^DATA_SET_MAP_PROJECTION_CATALOG= "DSMAP.CAT"
  A_AXIS_RADIUS = 3396.0
  B_AXIS_RADIUS = 3396.0
  C_AXIS_RADIUS = 3396.0
  CENTER_LATITUDE = 0.0
  CENTER_LONGITUDE = 10.0
  COORDINATE_SYSTEM_NAME = PLANETOGRAPHIC
  COORDINATE_SYSTEM_TYPE = "BODY-FIXED ROTATING"
  EASTERNMOST_LONGITUDE = 10.4995
  FIRST_STANDARD_PARALLEL = "N/A"
  LINE_FIRST_PIXEL = 1
  LINE_LAST_PIXEL = 11483
  LINE_PROJECTION_OFFSET = -9091.125
  MAP_PROJECTION_ROTATION = 0.0
  MAP_PROJECTION_TYPE = SINUSOIDAL
  MAP_RESOLUTION = 1185.42760773333
  MAP_SCALE = 0.05
  MAXIMUM_LATITUDE = -7.684
  MINIMUM_LATITUDE = -17.3595
  POSITIVE_LONGITUDE_DIRECTION = EAST
  REFERENCE_LATITUDE = "N/A"
  REFERENCE_LONGITUDE = "N/A"
  SAMPLE_FIRST_PIXEL = 1
  SAMPLE_LAST_PIXEL = 1437
  SAMPLE_PROJECTION_OFFSET = 867.375
  SECOND_STANDARD_PARALLEL = "N/A"
  WESTERNMOST_LONGITUDE = 9.243309999999999
END_OBJECT = IMAGE_MAP_PROJECTION
END
