PDS_VERSION_ID = PDS3
/* FILE DATA ELEMENTS */
RECORD_TYPE = UNDEFINED
/* POINTERS TO DATA OBJECTS */
^IMAGE = ("HI756_0000_IR4.TIF")
/* IDENTIFICATION DATA ELEMENTS */
DATA_SET_ID = "MEX-M-HRSC-4-REFDR-MAPPROJECT-EXT6-V4.0"
DATA_SET_NAME = "MARS EXPRESS HRSC MAP PROJECTED REFDR EXTENSION6 V4.0"
DETECTOR_ID = MEX_HRSC_IR
EVENT_TYPE = "MARS-REGIONAL-MAPPING-Im-Fl-Mw"
INSTRUMENT_HOST_ID = MEX
INSTRUMENT_HOST_NAME = "MARS EXPRESS"
INSTRUMENT_ID = HRSC
INSTRUMENT_NAME = "HIGH RESOLUTION STEREO CAMERA"
MISSION_NAME = "MARS EXPRESS"
MISSION_PHASE_NAME = ME_Phase_39
PROCESSING_LEVEL_ID = 4
PRODUCT_CREATION_TIME = 2023-01-29T14:35:52.000Z
PRODUCT_ID = "HI756_0000_IR4.TIF"
RELEASE_ID = 0005
REVISION_ID = 0000
/* QUALITY DATA ELEMENTS */
DATA_QUALITY_ID = 1
DATA_QUALITY_DESC = "Data calculated based on original SPICE kernels"
/* TIME DATA ELEMENTS */
SPACECRAFT_CLOCK_START_COUNT = "1/0488861129.24931"
SPACECRAFT_CLOCK_STOP_COUNT = "1/0488861313.39964"
START_TIME = 2018-10-29T02:46:55.886Z
STOP_TIME = 2018-10-29T02:48:58.624Z
/* ORBITAL DATA ELEMENTS */
ASCENDING_NODE_LONGITUDE = 222.28
MAXIMUM_RESOLUTION = 0.0568
FOOTPRINT_POINT_LATITUDE = (-20.9483,-20.9232,-20.908,-20.8931, -20.8785,-20.8641,-20.8499,-20.8491, -20.863,-20.5976,-20.3324,-20.155, -19.889,-19.7112,-19.5339,-19.3568, -19.0911,-18.9139,-18.7365,-18.4715, -18.2946,-18.1181,-17.9411,-17.7644, -17.5876,-17.3226,-17.0578,-16.8813, -16.6174,-16.3528,-16.1761,-15.8261, -15.6504,-15.3873,-15.2116,-14.9476, -14.7717,-14.422,-14.2468,-14.0721, -13.8967,-13.5474,-13.3723,-13.197, -13.0221,-12.8465,-12.671,-12.4089, -12.1473,-12.0598,-11.9859,-12.0059, -12.0247,-12.0416,-12.0754,-12.0763, -12.0775,-12.3394,-12.6879,-13.0377, -13.3007,-13.4774,-13.8252,-14.0873, -14.2625,-14.4387,-14.7019,-14.8777, -15.0529,-15.2278,-15.4067,-15.6729, -16.0213,-16.1975,-16.3743,-16.5506, -16.7269,-16.9027,-17.0791,-17.2547, -17.4314,-17.6086,-17.7851,-17.9613, -18.1399,-18.3145,-18.49,-18.6705, -18.85,-19.1989,-19.3768,-19.5543, -19.8204,-19.9971,-20.2619,-20.4407, -20.619,-20.7966,-20.8859,-20.9483)
FOOTPRINT_POINT_LONGITUDE = (168.53,168.157,167.934,167.717,167.504 ,167.296,167.092,167.08,167.088,167.083 ,167.079,167.076,167.071,167.068, 167.065,167.062,167.057,167.054,167.051 ,167.047,167.044,167.041,167.038, 167.035,167.032,167.028,167.024,167.021 ,167.018,167.014,167.011,167.008, 167.006,167.003,167.001,166.998,166.995 ,166.993,166.991,166.99,166.988,166.986 ,166.985,166.983,166.981,166.979, 166.977,166.975,166.974,166.973,166.973 ,167.253,167.528,167.754,168.277,168.29 ,168.294,168.297,168.299,168.304,168.31 ,168.317,168.317,168.32,168.324,168.329 ,168.335,168.34,168.343,168.346,168.357 ,168.368,168.371,168.376,168.382, 168.388,168.393,168.398,168.403,168.407 ,168.413,168.42,168.426,168.431,168.441 ,168.443,168.447,168.46,168.47,168.475, 168.483,168.49,168.501,168.507,168.516, 168.525,168.534,168.542,168.546,168.53)
ORBIT_NUMBER = 18756
ORBITAL_ECCENTRICITY = 0.577
ORBITAL_INCLINATION = 86.96
ORBITAL_SEMIMAJOR_AXIS = 8840.31
PERIAPSIS_ALTITUDE = 339.87
PERIAPSIS_ARGUMENT_ANGLE = 347.21
PERIAPSIS_TIME = 2018-10-29T02:48:31.000Z
SPACECRAFT_ORIENTATION = (0.0,1.0,0.0)
^MEX_ORIENTATION_DESC = "MEX_ORIENTATION_DESC.TXT"
SPACECRAFT_POINTING_MODE = INERT
^MEX_POINTING_DESC = "MEX_POINTING_DESC.TXT"
RIGHT_ASCENSION = 75.425
DECLINATION = 34.496
OFFSET_ANGLE = -1e+32
SPACECRAFT_SOLAR_DISTANCE = 2.08581e+08
TARGET_NAME = MARS
/* CAMERA DATA ELEMENTS */
DETECTOR_TEMPERATURE = 18.1666
FOCAL_PLANE_TEMPERATURE = 8.9911
INST_CMPRS_NAME = "DISCRETE COSINE TRANSFORMATION (DCT)"
INST_CMPRS_RATIO = 6.71368
INST_CMPRS_QUALITY = 0
INST_CMPRS_QUANTZ_TBL_ID = 0
INSTRUMENT_TEMPERATURE = 11.6418
LENS_TEMPERATURE = 9.6028
MACROPIXEL_SIZE = 4
MISSING_FRAMES = 0
PIXEL_SUBSAMPLING_FLAG = N
SIGNAL_CHAIN_ID = 2
/* RADIOMETRIC DATA ELEMENTS */
BANDWIDTH = 81.0
CENTER_FILTER_WAVELENGTH = 955.5
RADIANCE_OFFSET = 0.711946
RADIANCE_SCALING_FACTOR = 0.00258514
REFLECTANCE_SCALING_FACTOR = 0.000242639
MEX:REFLECTANCE_OFFSET = 0.0668228
/* IMAGE OBJECT DEFINITIONS */
OBJECT = IMAGE
  INTERCHANGE_FORMAT = BINARY
  LINES = 10564
  LINE_SAMPLES = 1771
  SAMPLE_TYPE = UNSIGNED_INTEGER
  SAMPLE_BITS = 8
  BANDS = 1
  BAND_STORAGE_TYPE = BAND_SEQUENTIAL
  MAXIMUM = 255
  MEAN = 97.6625
  MINIMUM = 1
  STANDARD_DEVIATION = 25.0208
END_OBJECT = IMAGE
/* MAP OBJECT DEFINITIONS */
OBJECT = IMAGE_MAP_PROJECTION
  ^DATA_SET_MAP_PROJECTION_CATALOG= "DSMAP.CAT"
  A_AXIS_RADIUS = 3396.0
  B_AXIS_RADIUS = 3396.0
  C_AXIS_RADIUS = 3396.0
  CENTER_LATITUDE = 0.0
  CENTER_LONGITUDE = 168.0
  COORDINATE_SYSTEM_NAME = PLANETOGRAPHIC
  COORDINATE_SYSTEM_TYPE = "BODY-FIXED ROTATING"
  EASTERNMOST_LONGITUDE = 168.546
  FIRST_STANDARD_PARALLEL = "N/A"
  LINE_FIRST_PIXEL = 1
  LINE_LAST_PIXEL = 10564
  LINE_PROJECTION_OFFSET = -14236.375
  MAP_PROJECTION_ROTATION = 0.0
  MAP_PROJECTION_TYPE = SINUSOIDAL
  MAP_RESOLUTION = 1185.42760773333
  MAP_SCALE = 0.05
  MAXIMUM_LATITUDE = -11.9859
  MINIMUM_LATITUDE = -20.9483
  POSITIVE_LONGITUDE_DIRECTION = EAST
  REFERENCE_LATITUDE = "N/A"
  REFERENCE_LONGITUDE = "N/A"
  SAMPLE_FIRST_PIXEL = 1
  SAMPLE_LAST_PIXEL = 1771
  SAMPLE_PROJECTION_OFFSET = 1169.375
  SECOND_STANDARD_PARALLEL = "N/A"
  WESTERNMOST_LONGITUDE = 166.973
END_OBJECT = IMAGE_MAP_PROJECTION
END
