PDS_VERSION_ID = PDS3
/* FILE DATA ELEMENTS */
RECORD_TYPE = UNDEFINED
/* POINTERS TO DATA OBJECTS */
^IMAGE = ("HI756_0000_S14.TIF")
/* IDENTIFICATION DATA ELEMENTS */
DATA_SET_ID = "MEX-M-HRSC-4-REFDR-MAPPROJECT-EXT6-V4.0"
DATA_SET_NAME = "MARS EXPRESS HRSC MAP PROJECTED REFDR EXTENSION6 V4.0"
DETECTOR_ID = MEX_HRSC_S1
EVENT_TYPE = "MARS-REGIONAL-MAPPING-Im-Fl-Mw"
INSTRUMENT_HOST_ID = MEX
INSTRUMENT_HOST_NAME = "MARS EXPRESS"
INSTRUMENT_ID = HRSC
INSTRUMENT_NAME = "HIGH RESOLUTION STEREO CAMERA"
MISSION_NAME = "MARS EXPRESS"
MISSION_PHASE_NAME = ME_Phase_39
PROCESSING_LEVEL_ID = 4
PRODUCT_CREATION_TIME = 2023-01-29T14:35:52.000Z
PRODUCT_ID = "HI756_0000_S14.TIF"
RELEASE_ID = 0005
REVISION_ID = 0000
/* QUALITY DATA ELEMENTS */
DATA_QUALITY_ID = 1
DATA_QUALITY_DESC = "Data calculated based on original SPICE kernels"
/* TIME DATA ELEMENTS */
SPACECRAFT_CLOCK_START_COUNT = "1/0488861129.24931"
SPACECRAFT_CLOCK_STOP_COUNT = "1/0488861313.39964"
START_TIME = 2018-10-29T02:47:00.916Z
STOP_TIME = 2018-10-29T02:49:03.025Z
/* ORBITAL DATA ELEMENTS */
ASCENDING_NODE_LONGITUDE = 222.28
MAXIMUM_RESOLUTION = 0.0286
FOOTPRINT_POINT_LATITUDE = (-20.9572,-20.9291,-20.9091,-20.8895, -20.8704,-20.8517,-20.8333,-20.8322, -20.8487,-20.5828,-20.3161,-20.0488, -19.7815,-19.6033,-19.4251,-19.2469, -19.0695,-18.8913,-18.7131,-18.5357, -18.3578,-18.1808,-18.0034,-17.8259, -17.5596,-17.2935,-17.0275,-16.6748, -16.4987,-16.3202,-16.1428,-15.9669, -15.7923,-15.6161,-15.3529,-15.1764, -14.9119,-14.7354,-14.4731,-14.2975, -14.1226,-13.9469,-13.6848,-13.4217, -13.2463,-12.9834,-12.8078,-12.5443, -12.3692,-12.1074,-12.0197,-11.9904, -12.0261,-12.053,-12.0759,-12.1015, -12.1028,-12.1037,-12.2787,-12.5412, -12.8907,-13.3298,-13.5059,-13.7661, -13.9419,-14.1164,-14.2919,-14.5564, -14.7327,-14.9966,-15.2603,-15.5315, -15.708,-16.0564,-16.2329,-16.4105, -16.5874,-16.8524,-17.0294,-17.2057, -17.4713,-17.6493,-17.8266,-18.0034, -18.1813,-18.4459,-18.6272,-18.8079, -19.1581,-19.3367,-19.5146,-19.6928, -19.8706,-20.0473,-20.2251,-20.4052, -20.5848,-20.853,-20.9428,-20.9572)
FOOTPRINT_POINT_LONGITUDE = (168.529,168.201,167.968,167.741,167.52 ,167.304,167.092,167.079,167.085, 167.081,167.077,167.072,167.067,167.064 ,167.06,167.057,167.054,167.051,167.047 ,167.044,167.041,167.038,167.035, 167.032,167.028,167.023,167.019,167.014 ,167.012,167.008,167.005,167.003, 167.002,167.0,166.997,166.995,166.991, 166.989,166.987,166.985,166.984,166.982 ,166.98,166.978,166.976,166.974,166.972 ,166.969,166.967,166.966,166.965, 166.965,167.365,167.669,167.93,168.26, 168.273,168.278,168.281,168.285,168.289 ,168.299,168.303,168.303,168.307, 168.309,168.313,168.32,168.325,168.331, 168.337,168.355,168.36,168.363,168.368, 168.375,168.381,168.388,168.394,168.399 ,168.408,168.415,168.421,168.427, 168.434,168.441,168.453,168.464,168.47, 168.478,168.485,168.493,168.499,168.505 ,168.512,168.522,168.531,168.543, 168.548,168.529)
ORBIT_NUMBER = 18756
ORBITAL_ECCENTRICITY = 0.577
ORBITAL_INCLINATION = 86.96
ORBITAL_SEMIMAJOR_AXIS = 8840.31
PERIAPSIS_ALTITUDE = 339.87
PERIAPSIS_ARGUMENT_ANGLE = 347.21
PERIAPSIS_TIME = 2018-10-29T02:48:31.000Z
SPACECRAFT_ORIENTATION = (0.0,1.0,0.0)
^MEX_ORIENTATION_DESC = "MEX_ORIENTATION_DESC.TXT"
SPACECRAFT_POINTING_MODE = INERT
^MEX_POINTING_DESC = "MEX_POINTING_DESC.TXT"
RIGHT_ASCENSION = 75.425
DECLINATION = 34.496
OFFSET_ANGLE = -1e+32
SPACECRAFT_SOLAR_DISTANCE = 2.08581e+08
TARGET_NAME = MARS
/* CAMERA DATA ELEMENTS */
DETECTOR_TEMPERATURE = 18.1666
FOCAL_PLANE_TEMPERATURE = 8.9911
INST_CMPRS_NAME = "DISCRETE COSINE TRANSFORMATION (DCT)"
INST_CMPRS_RATIO = 10.0313
INST_CMPRS_QUALITY = 0
INST_CMPRS_QUANTZ_TBL_ID = 0
INSTRUMENT_TEMPERATURE = 11.6418
LENS_TEMPERATURE = 9.6028
MACROPIXEL_SIZE = 2
MISSING_FRAMES = 0
PIXEL_SUBSAMPLING_FLAG = N
SIGNAL_CHAIN_ID = 1
/* RADIOMETRIC DATA ELEMENTS */
BANDWIDTH = 180.0
CENTER_FILTER_WAVELENGTH = 677.0
RADIANCE_OFFSET = 3.28205
RADIANCE_SCALING_FACTOR = 0.00923056
REFLECTANCE_SCALING_FACTOR = 0.000209517
MEX:REFLECTANCE_OFFSET = 0.0744965
/* IMAGE OBJECT DEFINITIONS */
OBJECT = IMAGE
  INTERCHANGE_FORMAT = BINARY
  LINES = 21127
  LINE_SAMPLES = 3541
  SAMPLE_TYPE = UNSIGNED_INTEGER
  SAMPLE_BITS = 8
  BANDS = 1
  BAND_STORAGE_TYPE = BAND_SEQUENTIAL
  MAXIMUM = 255
  MEAN = 94.3679
  MINIMUM = 1
  STANDARD_DEVIATION = 28.5803
END_OBJECT = IMAGE
/* MAP OBJECT DEFINITIONS */
OBJECT = IMAGE_MAP_PROJECTION
  ^DATA_SET_MAP_PROJECTION_CATALOG= "DSMAP.CAT"
  A_AXIS_RADIUS = 3396.0
  B_AXIS_RADIUS = 3396.0
  C_AXIS_RADIUS = 3396.0
  CENTER_LATITUDE = 0.0
  CENTER_LONGITUDE = 168.0
  COORDINATE_SYSTEM_NAME = PLANETOGRAPHIC
  COORDINATE_SYSTEM_TYPE = "BODY-FIXED ROTATING"
  EASTERNMOST_LONGITUDE = 168.548
  FIRST_STANDARD_PARALLEL = "N/A"
  LINE_FIRST_PIXEL = 1
  LINE_LAST_PIXEL = 21127
  LINE_PROJECTION_OFFSET = -28472.25
  MAP_PROJECTION_ROTATION = 0.0
  MAP_PROJECTION_TYPE = SINUSOIDAL
  MAP_RESOLUTION = 2370.85521546667
  MAP_SCALE = 0.025
  MAXIMUM_LATITUDE = -11.9904
  MINIMUM_LATITUDE = -20.9572
  POSITIVE_LONGITUDE_DIRECTION = EAST
  REFERENCE_LATITUDE = "N/A"
  REFERENCE_LONGITUDE = "N/A"
  SAMPLE_FIRST_PIXEL = 1
  SAMPLE_LAST_PIXEL = 3541
  SAMPLE_PROJECTION_OFFSET = 2339.25
  SECOND_STANDARD_PARALLEL = "N/A"
  WESTERNMOST_LONGITUDE = 166.965
END_OBJECT = IMAGE_MAP_PROJECTION
END
