PDS_VERSION_ID = PDS3
/* FILE DATA ELEMENTS */
RECORD_TYPE = UNDEFINED
/* POINTERS TO DATA OBJECTS */
^IMAGE = ("HI757_0000_IR4.TIF")
/* IDENTIFICATION DATA ELEMENTS */
DATA_SET_ID = "MEX-M-HRSC-4-REFDR-MAPPROJECT-EXT6-V4.0"
DATA_SET_NAME = "MARS EXPRESS HRSC MAP PROJECTED REFDR EXTENSION6 V4.0"
DETECTOR_ID = MEX_HRSC_IR
EVENT_TYPE = "MARS-REGIONAL-MAPPING-Im-Fl"
INSTRUMENT_HOST_ID = MEX
INSTRUMENT_HOST_NAME = "MARS EXPRESS"
INSTRUMENT_ID = HRSC
INSTRUMENT_NAME = "HIGH RESOLUTION STEREO CAMERA"
MISSION_NAME = "MARS EXPRESS"
MISSION_PHASE_NAME = ME_Phase_39
PROCESSING_LEVEL_ID = 4
PRODUCT_CREATION_TIME = 2023-01-29T14:35:52.000Z
PRODUCT_ID = "HI757_0000_IR4.TIF"
RELEASE_ID = 0005
REVISION_ID = 0000
/* QUALITY DATA ELEMENTS */
DATA_QUALITY_ID = 1
DATA_QUALITY_DESC = "Data calculated based on original SPICE kernels"
/* TIME DATA ELEMENTS */
SPACECRAFT_CLOCK_START_COUNT = "1/0488886295.25714"
SPACECRAFT_CLOCK_STOP_COUNT = "1/0488886491.16831"
START_TIME = 2018-10-29T09:46:18.985Z
STOP_TIME = 2018-10-29T09:48:36.325Z
/* ORBITAL DATA ELEMENTS */
ASCENDING_NODE_LONGITUDE = 222.27
MAXIMUM_RESOLUTION = 0.0547
FOOTPRINT_POINT_LATITUDE = (-18.919,-18.905,-18.8944,-18.8837, -18.8834,-18.888,-18.6906,-18.4926, -18.294,-18.0959,-17.8983,-17.7006, -17.5028,-17.3044,-17.1066,-16.8107, -16.6126,-16.4157,-16.2189,-15.9238, -15.7274,-15.4329,-15.1384,-14.8438, -14.6475,-14.4515,-14.2552,-14.0591, -13.863,-13.6672,-13.4711,-13.2753, -13.0796,-12.8842,-12.6886,-12.3955, -12.1021,-11.9066,-11.7111,-11.5159, -11.3206,-11.1255,-10.9301,-10.7349, -10.3447,-9.95451,-9.7592,-9.37006, -9.17445,-9.07609,-8.99972,-9.0111, -9.02352,-9.03286,-9.03316,-9.03421, -9.32641,-9.71617,-10.0083,-10.3985, -10.5938,-10.9837,-11.2766,-11.472, -11.8625,-12.0581,-12.2536,-12.4493, -12.6447,-12.9384,-13.1343,-13.3299, -13.5259,-13.7219,-13.9179,-14.1138, -14.3097,-14.5059,-14.7023,-14.997, -15.1933,-15.3895,-15.5853,-15.7824, -15.9784,-16.1751,-16.3762,-16.5743, -16.7715,-17.1618,-17.3594,-17.5576, -17.7553,-17.9536,-18.1523,-18.3508, -18.5486,-18.7484,-18.8472,-18.919)
FOOTPRINT_POINT_LONGITUDE = (65.1593,64.6491,64.2687,63.8949, 63.8833,63.881,63.881,63.8808,63.8806, 63.8804,63.8803,63.8801,63.8798,63.8795 ,63.8792,63.8788,63.8784,63.8782, 63.8779,63.8775,63.8772,63.8768,63.8763 ,63.8758,63.8754,63.8751,63.8747, 63.8743,63.8739,63.8735,63.8731,63.8726 ,63.8722,63.8719,63.8714,63.8708, 63.8701,63.8697,63.8692,63.8687,63.8683 ,63.8678,63.8673,63.8668,63.8658, 63.8648,63.8642,63.8634,63.8626,63.862, 63.8622,64.2612,64.6928,65.0316,65.043, 65.0468,65.0477,65.0492,65.0499,65.0522 ,65.0536,65.0552,65.0572,65.0587, 65.0613,65.0632,65.0647,65.0667,65.0681 ,65.0712,65.0732,65.075,65.0772,65.0794 ,65.0816,65.0837,65.0857,65.0881, 65.0908,65.0948,65.0974,65.0997,65.1015 ,65.105,65.107,65.1099,65.1178,65.1221, 65.1255,65.1276,65.1314,65.1358,65.1396 ,65.1439,65.1488,65.1532,65.157,65.1627 ,65.1646,65.1593)
ORBIT_NUMBER = 18757
ORBITAL_ECCENTRICITY = 0.578
ORBITAL_INCLINATION = 86.97
ORBITAL_SEMIMAJOR_AXIS = 8848.22
PERIAPSIS_ALTITUDE = 338.85
PERIAPSIS_ARGUMENT_ANGLE = 347.02
PERIAPSIS_TIME = 2018-10-29T09:47:25.000Z
SPACECRAFT_ORIENTATION = (0.0,1.0,0.0)
^MEX_ORIENTATION_DESC = "MEX_ORIENTATION_DESC.TXT"
SPACECRAFT_POINTING_MODE = INERT
^MEX_POINTING_DESC = "MEX_POINTING_DESC.TXT"
RIGHT_ASCENSION = 75.249
DECLINATION = 34.675
OFFSET_ANGLE = -1e+32
SPACECRAFT_SOLAR_DISTANCE = 2.08607e+08
TARGET_NAME = MARS
/* CAMERA DATA ELEMENTS */
DETECTOR_TEMPERATURE = 17.7588
FOCAL_PLANE_TEMPERATURE = 11.6418
INST_CMPRS_NAME = "DISCRETE COSINE TRANSFORMATION (DCT)"
INST_CMPRS_RATIO = 7.866
INST_CMPRS_QUALITY = 0
INST_CMPRS_QUANTZ_TBL_ID = 0
INSTRUMENT_TEMPERATURE = 12.8652
LENS_TEMPERATURE = 12.2535
MACROPIXEL_SIZE = 4
MISSING_FRAMES = 0
PIXEL_SUBSAMPLING_FLAG = N
SIGNAL_CHAIN_ID = 2
/* RADIOMETRIC DATA ELEMENTS */
BANDWIDTH = 81.0
CENTER_FILTER_WAVELENGTH = 955.5
RADIANCE_OFFSET = 0.430684
RADIANCE_SCALING_FACTOR = 0.00220598
REFLECTANCE_SCALING_FACTOR = 0.000207103
MEX:REFLECTANCE_OFFSET = 0.0404337
/* IMAGE OBJECT DEFINITIONS */
OBJECT = IMAGE
  INTERCHANGE_FORMAT = BINARY
  LINES = 11743
  LINE_SAMPLES = 1483
  SAMPLE_TYPE = UNSIGNED_INTEGER
  SAMPLE_BITS = 8
  BANDS = 1
  BAND_STORAGE_TYPE = BAND_SEQUENTIAL
  MAXIMUM = 255
  MEAN = 119.418
  MINIMUM = 1
  STANDARD_DEVIATION = 42.1823
END_OBJECT = IMAGE
/* MAP OBJECT DEFINITIONS */
OBJECT = IMAGE_MAP_PROJECTION
  ^DATA_SET_MAP_PROJECTION_CATALOG= "DSMAP.CAT"
  A_AXIS_RADIUS = 3396.0
  B_AXIS_RADIUS = 3396.0
  C_AXIS_RADIUS = 3396.0
  CENTER_LATITUDE = 0.0
  CENTER_LONGITUDE = 64.0
  COORDINATE_SYSTEM_NAME = PLANETOGRAPHIC
  COORDINATE_SYSTEM_TYPE = "BODY-FIXED ROTATING"
  EASTERNMOST_LONGITUDE = 65.16459999999999
  FIRST_STANDARD_PARALLEL = "N/A"
  LINE_FIRST_PIXEL = 1
  LINE_LAST_PIXEL = 11743
  LINE_PROJECTION_OFFSET = -10697.375
  MAP_PROJECTION_ROTATION = 0.0
  MAP_PROJECTION_TYPE = SINUSOIDAL
  MAP_RESOLUTION = 1185.42760773333
  MAP_SCALE = 0.05
  MAXIMUM_LATITUDE = -8.99972
  MINIMUM_LATITUDE = -18.919
  POSITIVE_LONGITUDE_DIRECTION = EAST
  REFERENCE_LATITUDE = "N/A"
  REFERENCE_LONGITUDE = "N/A"
  SAMPLE_FIRST_PIXEL = 1
  SAMPLE_LAST_PIXEL = 1483
  SAMPLE_PROJECTION_OFFSET = 168.875
  SECOND_STANDARD_PARALLEL = "N/A"
  WESTERNMOST_LONGITUDE = 63.862
END_OBJECT = IMAGE_MAP_PROJECTION
END
