PDS_VERSION_ID = PDS3
/* FILE DATA ELEMENTS */
RECORD_TYPE = UNDEFINED
/* POINTERS TO DATA OBJECTS */
^IMAGE = ("HI757_0000_RE4.TIF")
/* IDENTIFICATION DATA ELEMENTS */
DATA_SET_ID = "MEX-M-HRSC-4-REFDR-MAPPROJECT-EXT6-V4.0"
DATA_SET_NAME = "MARS EXPRESS HRSC MAP PROJECTED REFDR EXTENSION6 V4.0"
DETECTOR_ID = MEX_HRSC_RED
EVENT_TYPE = "MARS-REGIONAL-MAPPING-Im-Fl"
INSTRUMENT_HOST_ID = MEX
INSTRUMENT_HOST_NAME = "MARS EXPRESS"
INSTRUMENT_ID = HRSC
INSTRUMENT_NAME = "HIGH RESOLUTION STEREO CAMERA"
MISSION_NAME = "MARS EXPRESS"
MISSION_PHASE_NAME = ME_Phase_39
PROCESSING_LEVEL_ID = 4
PRODUCT_CREATION_TIME = 2023-01-29T14:35:52.000Z
PRODUCT_ID = "HI757_0000_RE4.TIF"
RELEASE_ID = 0005
REVISION_ID = 0000
/* QUALITY DATA ELEMENTS */
DATA_QUALITY_ID = 1
DATA_QUALITY_DESC = "Data calculated based on original SPICE kernels"
/* TIME DATA ELEMENTS */
SPACECRAFT_CLOCK_START_COUNT = "1/0488886295.25714"
SPACECRAFT_CLOCK_STOP_COUNT = "1/0488886491.16831"
START_TIME = 2018-10-29T09:45:31.684Z
STOP_TIME = 2018-10-29T09:47:48.918Z
/* ORBITAL DATA ELEMENTS */
ASCENDING_NODE_LONGITUDE = 222.27
MAXIMUM_RESOLUTION = 0.0577
FOOTPRINT_POINT_LATITUDE = (-18.9085,-18.9341,-18.9515,-18.9671, -18.9676,-18.9607,-18.6698,-18.2838, -18.0899,-17.8958,-17.702,-17.4122, -17.2188,-17.0244,-16.8315,-16.6377, -16.4429,-16.1509,-15.8583,-15.6631, -15.4675,-15.1739,-14.8808,-14.6854, -14.4895,-14.2938,-14.098,-13.9021, -13.7058,-13.4117,-13.1168,-12.8211, -12.6241,-12.427,-12.2297,-12.0326, -11.8357,-11.6382,-11.4401,-11.1435, -10.9456,-10.649,-10.3514,-10.1519, -9.85697,-9.65898,-9.46148,-9.26434, -9.16777,-9.0964,-9.06991,-9.05044, -9.02805,-9.01614,-9.01536,-9.0163, -9.21528,-9.41455,-9.71319,-9.9127, -10.1131,-10.3109,-10.5091,-10.708, -11.0061,-11.2044,-11.4022,-11.6984, -11.8971,-12.0939,-12.2918,-12.4888, -12.6864,-12.8832,-13.0796,-13.2765, -13.4734,-13.7677,-13.964,-14.1606, -14.3569,-14.5529,-14.8461,-15.0419, -15.3357,-15.6307,-15.9231,-16.1188, -16.501,-16.6957,-16.8927,-17.1876, -17.3815,-17.6719,-17.8656,-18.2515, -18.4456,-18.7344,-18.8316,-18.9085)
FOOTPRINT_POINT_LONGITUDE = (65.161,64.6404,64.252,63.8698,63.8579, 63.8554,63.856,63.8565,63.8567,63.857, 63.8572,63.8574,63.8576,63.8578,63.8578 ,63.8579,63.858,63.8582,63.8583,63.8584 ,63.8585,63.8586,63.8586,63.8586, 63.8586,63.8586,63.8586,63.8585,63.8585 ,63.8584,63.8583,63.8582,63.8581,63.858 ,63.8579,63.8577,63.8576,63.8574, 63.8573,63.8571,63.8569,63.8566,63.8564 ,63.8563,63.8558,63.8555,63.8552, 63.8549,63.8546,63.8545,64.158,64.5608, 64.9126,65.1211,65.1335,65.1375,65.1366 ,65.1356,65.1342,65.133,65.1313,65.1311 ,65.1306,65.1297,65.1285,65.128,65.1277 ,65.1275,65.1267,65.127,65.1266,65.1267 ,65.1265,65.1268,65.1273,65.1274, 65.1276,65.1285,65.129,65.1293,65.1298, 65.1305,65.132,65.1328,65.1338,65.134, 65.136,65.1367,65.1452,65.1467,65.1464, 65.1462,65.1482,65.1516,65.1538,65.1595 ,65.1612,65.166,65.1668,65.161)
ORBIT_NUMBER = 18757
ORBITAL_ECCENTRICITY = 0.578
ORBITAL_INCLINATION = 86.97
ORBITAL_SEMIMAJOR_AXIS = 8848.22
PERIAPSIS_ALTITUDE = 338.85
PERIAPSIS_ARGUMENT_ANGLE = 347.02
PERIAPSIS_TIME = 2018-10-29T09:47:25.000Z
SPACECRAFT_ORIENTATION = (0.0,1.0,0.0)
^MEX_ORIENTATION_DESC = "MEX_ORIENTATION_DESC.TXT"
SPACECRAFT_POINTING_MODE = INERT
^MEX_POINTING_DESC = "MEX_POINTING_DESC.TXT"
RIGHT_ASCENSION = 75.249
DECLINATION = 34.675
OFFSET_ANGLE = -1e+32
SPACECRAFT_SOLAR_DISTANCE = 2.08607e+08
TARGET_NAME = MARS
/* CAMERA DATA ELEMENTS */
DETECTOR_TEMPERATURE = 19.1861
FOCAL_PLANE_TEMPERATURE = 11.6418
INST_CMPRS_NAME = "DISCRETE COSINE TRANSFORMATION (DCT)"
INST_CMPRS_RATIO = 21.7153
INST_CMPRS_QUALITY = 0
INST_CMPRS_QUANTZ_TBL_ID = 0
INSTRUMENT_TEMPERATURE = 12.8652
LENS_TEMPERATURE = 12.2535
MACROPIXEL_SIZE = 4
MISSING_FRAMES = 0
PIXEL_SUBSAMPLING_FLAG = N
SIGNAL_CHAIN_ID = 2
/* RADIOMETRIC DATA ELEMENTS */
BANDWIDTH = 48.0
CENTER_FILTER_WAVELENGTH = 748.0
RADIANCE_OFFSET = 0.609948
RADIANCE_SCALING_FACTOR = 0.00227983
REFLECTANCE_SCALING_FACTOR = 0.000226405
MEX:REFLECTANCE_OFFSET = 0.0605725
/* IMAGE OBJECT DEFINITIONS */
OBJECT = IMAGE
  INTERCHANGE_FORMAT = BINARY
  LINES = 11743
  LINE_SAMPLES = 1483
  SAMPLE_TYPE = UNSIGNED_INTEGER
  SAMPLE_BITS = 8
  BANDS = 1
  BAND_STORAGE_TYPE = BAND_SEQUENTIAL
  MAXIMUM = 255
  MEAN = 100.032
  MINIMUM = 1
  STANDARD_DEVIATION = 38.7774
END_OBJECT = IMAGE
/* MAP OBJECT DEFINITIONS */
OBJECT = IMAGE_MAP_PROJECTION
  ^DATA_SET_MAP_PROJECTION_CATALOG= "DSMAP.CAT"
  A_AXIS_RADIUS = 3396.0
  B_AXIS_RADIUS = 3396.0
  C_AXIS_RADIUS = 3396.0
  CENTER_LATITUDE = 0.0
  CENTER_LONGITUDE = 64.0
  COORDINATE_SYSTEM_NAME = PLANETOGRAPHIC
  COORDINATE_SYSTEM_TYPE = "BODY-FIXED ROTATING"
  EASTERNMOST_LONGITUDE = 65.16679999999999
  FIRST_STANDARD_PARALLEL = "N/A"
  LINE_FIRST_PIXEL = 1
  LINE_LAST_PIXEL = 11743
  LINE_PROJECTION_OFFSET = -10697.375
  MAP_PROJECTION_ROTATION = 0.0
  MAP_PROJECTION_TYPE = SINUSOIDAL
  MAP_RESOLUTION = 1185.42760773333
  MAP_SCALE = 0.05
  MAXIMUM_LATITUDE = -9.015359999999999
  MINIMUM_LATITUDE = -18.9676
  POSITIVE_LONGITUDE_DIRECTION = EAST
  REFERENCE_LATITUDE = "N/A"
  REFERENCE_LONGITUDE = "N/A"
  SAMPLE_FIRST_PIXEL = 1
  SAMPLE_LAST_PIXEL = 1483
  SAMPLE_PROJECTION_OFFSET = 168.875
  SECOND_STANDARD_PARALLEL = "N/A"
  WESTERNMOST_LONGITUDE = 63.8545
END_OBJECT = IMAGE_MAP_PROJECTION
END
