PDS_VERSION_ID = PDS3
/* FILE DATA ELEMENTS */
RECORD_TYPE = UNDEFINED
/* POINTERS TO DATA OBJECTS */
^IMAGE = ("HI757_0000_S14.TIF")
/* IDENTIFICATION DATA ELEMENTS */
DATA_SET_ID = "MEX-M-HRSC-4-REFDR-MAPPROJECT-EXT6-V4.0"
DATA_SET_NAME = "MARS EXPRESS HRSC MAP PROJECTED REFDR EXTENSION6 V4.0"
DETECTOR_ID = MEX_HRSC_S1
EVENT_TYPE = "MARS-REGIONAL-MAPPING-Im-Fl"
INSTRUMENT_HOST_ID = MEX
INSTRUMENT_HOST_NAME = "MARS EXPRESS"
INSTRUMENT_ID = HRSC
INSTRUMENT_NAME = "HIGH RESOLUTION STEREO CAMERA"
MISSION_NAME = "MARS EXPRESS"
MISSION_PHASE_NAME = ME_Phase_39
PROCESSING_LEVEL_ID = 4
PRODUCT_CREATION_TIME = 2023-01-29T14:35:52.000Z
PRODUCT_ID = "HI757_0000_S14.TIF"
RELEASE_ID = 0005
REVISION_ID = 0000
/* QUALITY DATA ELEMENTS */
DATA_QUALITY_ID = 1
DATA_QUALITY_DESC = "Data calculated based on original SPICE kernels"
/* TIME DATA ELEMENTS */
SPACECRAFT_CLOCK_START_COUNT = "1/0488886295.25714"
SPACECRAFT_CLOCK_STOP_COUNT = "1/0488886491.16831"
START_TIME = 2018-10-29T09:46:23.539Z
STOP_TIME = 2018-10-29T09:48:40.674Z
/* ORBITAL DATA ELEMENTS */
ASCENDING_NODE_LONGITUDE = 222.27
MAXIMUM_RESOLUTION = 0.0276
FOOTPRINT_POINT_LATITUDE = (-18.9281,-18.9113,-18.8972,-18.8833, -18.8829,-18.8891,-18.6901,-18.4903, -18.2897,-18.0897,-17.8905,-17.6911, -17.491,-17.1913,-16.8926,-16.6929, -16.4942,-16.2958,-16.0974,-15.8992, -15.6025,-15.3059,-15.1083,-14.9104, -14.7129,-14.4165,-14.219,-14.0216, -13.824,-13.627,-13.4296,-13.2325, -13.0358,-12.8392,-12.6424,-12.3474, -12.1507,-11.954,-11.7574,-11.5611, -11.3647,-11.1685,-10.874,-10.6776, -10.4814,-10.187,-9.89297,-9.69673, -9.40397,-9.1089,-9.0111,-8.99545, -9.00606,-9.0139,-9.02768,-9.03795, -9.03835,-9.03897,-9.33251,-9.72413, -10.0175,-10.2136,-10.4099,-10.6061, -10.9981,-11.1944,-11.4892,-11.8817, -12.0785,-12.3737,-12.5704,-12.8657, -13.0628,-13.3583,-13.6542,-13.8514, -14.0488,-14.246,-14.4434,-14.6411, -14.8392,-15.0369,-15.3334,-15.5302, -15.7281,-15.9263,-16.2239,-16.4277, -16.6272,-16.8256,-17.2189,-17.4181, -17.6184,-17.9179,-18.118,-18.3192, -18.6192,-18.8207,-18.9201,-18.9281)
FOOTPRINT_POINT_LONGITUDE = (65.1573,64.6782,64.2832,63.8953, 63.8833,63.8801,63.88,63.8799,63.8796, 63.8794,63.8792,63.8789,63.8786,63.8781 ,63.8777,63.8773,63.8769,63.8766, 63.8763,63.876,63.8755,63.875,63.8747, 63.8743,63.8739,63.8733,63.8729,63.8725 ,63.872,63.8716,63.8712,63.8707,63.8703 ,63.8699,63.8694,63.8687,63.8682, 63.8677,63.8672,63.8668,63.8662,63.8658 ,63.865,63.8644,63.8639,63.863,63.8622, 63.8616,63.861,63.8599,63.8596,63.8596, 64.1483,64.3623,64.7293,65.0205,65.0323 ,65.0365,65.0377,65.0395,65.0403, 65.0416,65.0431,65.0445,65.0467,65.0481 ,65.0507,65.0534,65.0553,65.0583, 65.0601,65.0631,65.0654,65.0685,65.0721 ,65.0744,65.0768,65.079,65.0815,65.0842 ,65.0873,65.0899,65.0939,65.0957, 65.0985,65.1016,65.1065,65.1147,65.1189 ,65.122,65.1252,65.129,65.1338,65.14, 65.1446,65.1499,65.1565,65.162,65.1638, 65.1573)
ORBIT_NUMBER = 18757
ORBITAL_ECCENTRICITY = 0.578
ORBITAL_INCLINATION = 86.97
ORBITAL_SEMIMAJOR_AXIS = 8848.22
PERIAPSIS_ALTITUDE = 338.85
PERIAPSIS_ARGUMENT_ANGLE = 347.02
PERIAPSIS_TIME = 2018-10-29T09:47:25.000Z
SPACECRAFT_ORIENTATION = (0.0,1.0,0.0)
^MEX_ORIENTATION_DESC = "MEX_ORIENTATION_DESC.TXT"
SPACECRAFT_POINTING_MODE = INERT
^MEX_POINTING_DESC = "MEX_POINTING_DESC.TXT"
RIGHT_ASCENSION = 75.249
DECLINATION = 34.675
OFFSET_ANGLE = -1e+32
SPACECRAFT_SOLAR_DISTANCE = 2.08607e+08
TARGET_NAME = MARS
/* CAMERA DATA ELEMENTS */
DETECTOR_TEMPERATURE = 17.7588
FOCAL_PLANE_TEMPERATURE = 11.6418
INST_CMPRS_NAME = "DISCRETE COSINE TRANSFORMATION (DCT)"
INST_CMPRS_RATIO = 11.5297
INST_CMPRS_QUALITY = 0
INST_CMPRS_QUANTZ_TBL_ID = 0
INSTRUMENT_TEMPERATURE = 12.8652
LENS_TEMPERATURE = 12.2535
MACROPIXEL_SIZE = 2
MISSING_FRAMES = 0
PIXEL_SUBSAMPLING_FLAG = N
SIGNAL_CHAIN_ID = 1
/* RADIOMETRIC DATA ELEMENTS */
BANDWIDTH = 180.0
CENTER_FILTER_WAVELENGTH = 677.0
RADIANCE_OFFSET = 2.32063
RADIANCE_SCALING_FACTOR = 0.0087105
REFLECTANCE_SCALING_FACTOR = 0.000197762
MEX:REFLECTANCE_OFFSET = 0.0526873
/* IMAGE OBJECT DEFINITIONS */
OBJECT = IMAGE
  INTERCHANGE_FORMAT = BINARY
  LINES = 23486
  LINE_SAMPLES = 2966
  SAMPLE_TYPE = UNSIGNED_INTEGER
  SAMPLE_BITS = 8
  BANDS = 1
  BAND_STORAGE_TYPE = BAND_SEQUENTIAL
  MAXIMUM = 255
  MEAN = 115.302
  MINIMUM = 1
  STANDARD_DEVIATION = 44.3616
END_OBJECT = IMAGE
/* MAP OBJECT DEFINITIONS */
OBJECT = IMAGE_MAP_PROJECTION
  ^DATA_SET_MAP_PROJECTION_CATALOG= "DSMAP.CAT"
  A_AXIS_RADIUS = 3396.0
  B_AXIS_RADIUS = 3396.0
  C_AXIS_RADIUS = 3396.0
  CENTER_LATITUDE = 0.0
  CENTER_LONGITUDE = 64.0
  COORDINATE_SYSTEM_NAME = PLANETOGRAPHIC
  COORDINATE_SYSTEM_TYPE = "BODY-FIXED ROTATING"
  EASTERNMOST_LONGITUDE = 65.16379999999999
  FIRST_STANDARD_PARALLEL = "N/A"
  LINE_FIRST_PIXEL = 1
  LINE_LAST_PIXEL = 23486
  LINE_PROJECTION_OFFSET = -21394.25
  MAP_PROJECTION_ROTATION = 0.0
  MAP_PROJECTION_TYPE = SINUSOIDAL
  MAP_RESOLUTION = 2370.85521546667
  MAP_SCALE = 0.025
  MAXIMUM_LATITUDE = -8.99545
  MINIMUM_LATITUDE = -18.9281
  POSITIVE_LONGITUDE_DIRECTION = EAST
  REFERENCE_LATITUDE = "N/A"
  REFERENCE_LONGITUDE = "N/A"
  SAMPLE_FIRST_PIXEL = 1
  SAMPLE_LAST_PIXEL = 2966
  SAMPLE_PROJECTION_OFFSET = 338.25
  SECOND_STANDARD_PARALLEL = "N/A"
  WESTERNMOST_LONGITUDE = 63.8596
END_OBJECT = IMAGE_MAP_PROJECTION
END
