PDS_VERSION_ID = PDS3
/* FILE DATA ELEMENTS */
RECORD_TYPE = UNDEFINED
/* POINTERS TO DATA OBJECTS */
^IMAGE = ("HI759_0000_ND4.TIF")
/* IDENTIFICATION DATA ELEMENTS */
DATA_SET_ID = "MEX-M-HRSC-4-REFDR-MAPPROJECT-EXT6-V4.0"
DATA_SET_NAME = "MARS EXPRESS HRSC MAP PROJECTED REFDR EXTENSION6 V4.0"
DETECTOR_ID = MEX_HRSC_NADIR
EVENT_TYPE = "MARS-LOCAL-STEREO-Vo-Te-Fl"
INSTRUMENT_HOST_ID = MEX
INSTRUMENT_HOST_NAME = "MARS EXPRESS"
INSTRUMENT_ID = HRSC
INSTRUMENT_NAME = "HIGH RESOLUTION STEREO CAMERA"
MISSION_NAME = "MARS EXPRESS"
MISSION_PHASE_NAME = ME_Phase_39
PROCESSING_LEVEL_ID = 4
PRODUCT_CREATION_TIME = 2023-01-29T14:35:52.000Z
PRODUCT_ID = "HI759_0000_ND4.TIF"
RELEASE_ID = 0005
REVISION_ID = 0000
/* QUALITY DATA ELEMENTS */
DATA_QUALITY_ID = 1
DATA_QUALITY_DESC = "Data calculated based on original SPICE kernels"
/* TIME DATA ELEMENTS */
SPACECRAFT_CLOCK_START_COUNT = "1/0488936407.25699"
SPACECRAFT_CLOCK_STOP_COUNT = "1/0488936571.34505"
START_TIME = 2018-10-29T23:41:11.797Z
STOP_TIME = 2018-10-29T23:42:52.778Z
/* ORBITAL DATA ELEMENTS */
ASCENDING_NODE_LONGITUDE = 222.24
MAXIMUM_RESOLUTION = 0.0143
FOOTPRINT_POINT_LATITUDE = (-29.306,-29.3089,-29.311,-29.3127, -29.314,-29.3148,-29.3152,-29.3152, -29.317,-29.0893,-28.9374,-28.7097, -28.5579,-28.3302,-28.1784,-28.0266, -27.7988,-27.647,-27.4194,-27.2677, -27.1159,-26.9642,-26.8124,-26.6607, -26.4331,-26.2053,-26.0537,-25.902, -25.6743,-25.5226,-25.3708,-25.2191, -24.9915,-24.8398,-24.6881,-24.5363, -24.3169,-24.1261,-23.8718,-23.6174, -23.4266,-23.1722,-22.9813,-22.7269, -22.5996,-22.4088,-22.2178,-22.1542, -22.1518,-22.1505,-22.149,-22.1473, -22.1446,-22.1401,-22.14,-22.1401, -22.3944,-22.5219,-22.7128,-22.8401, -22.9674,-23.1583,-23.2855,-23.4128, -23.7309,-23.9219,-24.1128,-24.24, -24.447,-24.5984,-24.7499,-24.9019, -25.0541,-25.2061,-25.3577,-25.5095, -25.7372,-25.889,-26.0407,-26.1925, -26.3443,-26.4961,-26.6478,-26.7996, -26.9514,-27.1791,-27.4068,-27.5585, -27.7104,-27.8622,-28.014,-28.2417, -28.3936,-28.6214,-28.7734,-28.9251, -29.077,-29.2289,-29.3049,-29.306)
FOOTPRINT_POINT_LONGITUDE = (220.976,220.691,220.439,220.189, 219.941,219.695,219.419,219.404,219.396 ,219.399,219.401,219.405,219.407,219.41 ,219.412,219.414,219.417,219.419, 219.422,219.424,219.426,219.428,219.429 ,219.431,219.434,219.436,219.438, 219.439,219.442,219.443,219.445,219.446 ,219.448,219.45,219.451,219.452,219.454 ,219.456,219.458,219.46,219.461,219.463 ,219.464,219.466,219.467,219.468, 219.469,219.47,219.47,219.747,219.96, 220.175,220.445,220.814,220.828,220.835 ,220.84,220.841,220.845,220.847,220.849 ,220.852,220.855,220.857,220.863, 220.866,220.869,220.871,220.874,220.879 ,220.884,220.886,220.886,220.888, 220.892,220.896,220.9,220.903,220.907, 220.91,220.913,220.916,220.921,220.924, 220.928,220.933,220.938,220.941,220.945 ,220.949,220.953,220.958,220.962, 220.968,220.974,220.976,220.98,220.985, 220.987,220.976)
ORBIT_NUMBER = 18759
ORBITAL_ECCENTRICITY = 0.578
ORBITAL_INCLINATION = 86.96
ORBITAL_SEMIMAJOR_AXIS = 8846.02
PERIAPSIS_ALTITUDE = 338.98
PERIAPSIS_ARGUMENT_ANGLE = 346.65
PERIAPSIS_TIME = 2018-10-29T23:45:13.000Z
SPACECRAFT_ORIENTATION = (0.0,1.0,0.0)
^MEX_ORIENTATION_DESC = "MEX_ORIENTATION_DESC.TXT"
SPACECRAFT_POINTING_MODE = INERT
^MEX_POINTING_DESC = "MEX_POINTING_DESC.TXT"
RIGHT_ASCENSION = 74.942
DECLINATION = 34.959
OFFSET_ANGLE = -1e+32
SPACECRAFT_SOLAR_DISTANCE = 2.08659e+08
TARGET_NAME = MARS
/* CAMERA DATA ELEMENTS */
DETECTOR_TEMPERATURE = 18.5744
FOCAL_PLANE_TEMPERATURE = 9.8067
INST_CMPRS_NAME = "DISCRETE COSINE TRANSFORMATION (DCT)"
INST_CMPRS_RATIO = 5.90355
INST_CMPRS_QUALITY = 0
INST_CMPRS_QUANTZ_TBL_ID = 0
INSTRUMENT_TEMPERATURE = 11.8457
LENS_TEMPERATURE = 10.4184
MACROPIXEL_SIZE = 1
MISSING_FRAMES = 0
PIXEL_SUBSAMPLING_FLAG = N
SIGNAL_CHAIN_ID = 0
/* RADIOMETRIC DATA ELEMENTS */
BANDWIDTH = 177.0
CENTER_FILTER_WAVELENGTH = 677.5
RADIANCE_OFFSET = 3.00385
RADIANCE_SCALING_FACTOR = 0.0115616
REFLECTANCE_SCALING_FACTOR = 0.000267409
MEX:REFLECTANCE_OFFSET = 0.069476
/* IMAGE OBJECT DEFINITIONS */
OBJECT = IMAGE
  INTERCHANGE_FORMAT = BINARY
  LINES = 34034
  LINE_SAMPLES = 6580
  SAMPLE_TYPE = UNSIGNED_INTEGER
  SAMPLE_BITS = 8
  BANDS = 1
  BAND_STORAGE_TYPE = BAND_SEQUENTIAL
  MAXIMUM = 255
  MEAN = 111.507
  MINIMUM = 1
  STANDARD_DEVIATION = 22.6291
END_OBJECT = IMAGE
/* MAP OBJECT DEFINITIONS */
OBJECT = IMAGE_MAP_PROJECTION
  ^DATA_SET_MAP_PROJECTION_CATALOG= "DSMAP.CAT"
  A_AXIS_RADIUS = 3396.0
  B_AXIS_RADIUS = 3396.0
  C_AXIS_RADIUS = 3396.0
  CENTER_LATITUDE = 0.0
  CENTER_LONGITUDE = 220.0
  COORDINATE_SYSTEM_NAME = PLANETOGRAPHIC
  COORDINATE_SYSTEM_TYPE = "BODY-FIXED ROTATING"
  EASTERNMOST_LONGITUDE = 220.987
  FIRST_STANDARD_PARALLEL = "N/A"
  LINE_FIRST_PIXEL = 1
  LINE_LAST_PIXEL = 34034
  LINE_PROJECTION_OFFSET = -104982.0
  MAP_PROJECTION_ROTATION = 0.0
  MAP_PROJECTION_TYPE = SINUSOIDAL
  MAP_RESOLUTION = 4741.71043093333
  MAP_SCALE = 0.0125
  MAXIMUM_LATITUDE = -22.14
  MINIMUM_LATITUDE = -29.317
  POSITIVE_LONGITUDE_DIRECTION = EAST
  REFERENCE_LATITUDE = "N/A"
  REFERENCE_LONGITUDE = "N/A"
  SAMPLE_FIRST_PIXEL = 1
  SAMPLE_LAST_PIXEL = 6580
  SAMPLE_PROJECTION_OFFSET = 2498.0
  SECOND_STANDARD_PARALLEL = "N/A"
  WESTERNMOST_LONGITUDE = 219.396
END_OBJECT = IMAGE_MAP_PROJECTION
END
