PDS_VERSION_ID = PDS3
/* FILE DATA ELEMENTS */
RECORD_TYPE = UNDEFINED
/* POINTERS TO DATA OBJECTS */
^IMAGE = ("HI761_0000_ND4.TIF")
/* IDENTIFICATION DATA ELEMENTS */
DATA_SET_ID = "MEX-M-HRSC-4-REFDR-MAPPROJECT-EXT6-V4.0"
DATA_SET_NAME = "MARS EXPRESS HRSC MAP PROJECTED REFDR EXTENSION6 V4.0"
DETECTOR_ID = MEX_HRSC_NADIR
EVENT_TYPE = "MARS-REGIONAL-MAPPING-Im-Fl"
INSTRUMENT_HOST_ID = MEX
INSTRUMENT_HOST_NAME = "MARS EXPRESS"
INSTRUMENT_ID = HRSC
INSTRUMENT_NAME = "HIGH RESOLUTION STEREO CAMERA"
MISSION_NAME = "MARS EXPRESS"
MISSION_PHASE_NAME = ME_Phase_39
PROCESSING_LEVEL_ID = 4
PRODUCT_CREATION_TIME = 2023-01-29T14:35:52.000Z
PRODUCT_ID = "HI761_0000_ND4.TIF"
RELEASE_ID = 0005
REVISION_ID = 0000
/* QUALITY DATA ELEMENTS */
DATA_QUALITY_ID = 1
DATA_QUALITY_DESC = "Data calculated based on original SPICE kernels"
/* TIME DATA ELEMENTS */
SPACECRAFT_CLOCK_START_COUNT = "1/0488986854.23993"
SPACECRAFT_CLOCK_STOP_COUNT = "1/0488987063.39818"
START_TIME = 2018-10-30T13:41:53.651Z
STOP_TIME = 2018-10-30T13:44:25.631Z
/* ORBITAL DATA ELEMENTS */
ASCENDING_NODE_LONGITUDE = 222.2
MAXIMUM_RESOLUTION = 0.0135
FOOTPRINT_POINT_LATITUDE = (-19.4674,-19.4702,-19.4719,-19.4729, -19.4729,-19.4732,-19.2555,-19.0376, -18.711,-18.3844,-18.1666,-17.9493, -17.7316,-17.5137,-17.1874,-16.8611, -16.6435,-16.4259,-16.2083,-15.9908, -15.7733,-15.5557,-15.2295,-15.012, -14.7944,-14.577,-14.2505,-14.0329, -13.8153,-13.3807,-13.163,-12.9454, -12.7279,-12.4014,-12.1838,-11.9662, -11.7486,-11.4223,-11.096,-10.8784, -10.5515,-10.3332,-10.0068,-9.57199, -9.24351,-8.91627,-8.6978,-8.58871, -8.57492,-8.57405,-8.57231,-8.57148, -8.56824,-8.56812,-8.56829,-8.78646, -9.11368,-9.33208,-9.65959,-9.9873, -10.2054,-10.4232,-10.6408,-10.9668, -11.1843,-11.5096,-11.7273,-11.9451, -12.1633,-12.3807,-12.5984,-12.9247, -13.1425,-13.3598,-13.5776,-13.7953, -14.1216,-14.4479,-14.7743,-14.9918, -15.2094,-15.4269,-15.6444,-15.862, -16.1883,-16.4059,-16.6235,-16.8411, -17.0587,-17.2763,-17.6026,-17.9299, -18.1475,-18.3647,-18.5824,-18.9093, -19.1273,-19.3456,-19.4546,-19.4674)
FOOTPRINT_POINT_LONGITUDE = (16.5608,16.093,15.6844,15.2818,15.2693 ,15.2635,15.2641,15.2647,15.2656, 15.2663,15.2668,15.2673,15.2677,15.268, 15.2686,15.269,15.2693,15.2695,15.2697, 15.2699,15.2701,15.2702,15.2705,15.2705 ,15.2705,15.2706,15.2707,15.2707, 15.2707,15.2704,15.2703,15.2702,15.2701 ,15.2699,15.2697,15.2695,15.2693, 15.2689,15.2685,15.2682,15.2678,15.2676 ,15.2671,15.2663,15.266,15.2654,15.2651 ,15.2649,15.2649,15.5151,15.8524, 16.1803,16.4786,16.4911,16.4972,16.4965 ,16.4956,16.4942,16.4924,16.4897, 16.4888,16.4888,16.4894,16.4915,16.4926 ,16.4979,16.4986,16.4987,16.4968, 16.4988,16.4996,16.5014,16.5014,16.5046 ,16.5042,16.504,16.506,16.5084,16.5108, 16.5119,16.5125,16.5136,16.5162,16.5182 ,16.5211,16.5239,16.5259,16.5284, 16.5306,16.5327,16.5357,16.5437,16.5455 ,16.5459,16.5483,16.5535,16.5573, 16.5619,16.5635,16.5608)
ORBIT_NUMBER = 18761
ORBITAL_ECCENTRICITY = 0.578
ORBITAL_INCLINATION = 86.94
ORBITAL_SEMIMAJOR_AXIS = 8845.22
PERIAPSIS_ALTITUDE = 339.36
PERIAPSIS_ARGUMENT_ANGLE = 346.32
PERIAPSIS_TIME = 2018-10-30T13:43:14.000Z
SPACECRAFT_ORIENTATION = (0.0,1.0,0.0)
^MEX_ORIENTATION_DESC = "MEX_ORIENTATION_DESC.TXT"
SPACECRAFT_POINTING_MODE = INERT
^MEX_POINTING_DESC = "MEX_POINTING_DESC.TXT"
RIGHT_ASCENSION = 74.7
DECLINATION = 35.156
OFFSET_ANGLE = -1e+32
SPACECRAFT_SOLAR_DISTANCE = 2.08712e+08
TARGET_NAME = MARS
/* CAMERA DATA ELEMENTS */
DETECTOR_TEMPERATURE = 18.7783
FOCAL_PLANE_TEMPERATURE = 10.4184
INST_CMPRS_NAME = "DISCRETE COSINE TRANSFORMATION (DCT)"
INST_CMPRS_RATIO = 6.29416
INST_CMPRS_QUALITY = 0
INST_CMPRS_QUANTZ_TBL_ID = 0
INSTRUMENT_TEMPERATURE = 11.4379
LENS_TEMPERATURE = 11.234
MACROPIXEL_SIZE = 1
MISSING_FRAMES = 0
PIXEL_SUBSAMPLING_FLAG = N
SIGNAL_CHAIN_ID = 0
/* RADIOMETRIC DATA ELEMENTS */
BANDWIDTH = 177.0
CENTER_FILTER_WAVELENGTH = 677.5
RADIANCE_OFFSET = 1.95856
RADIANCE_SCALING_FACTOR = 0.0097635
REFLECTANCE_SCALING_FACTOR = 0.000225935
MEX:REFLECTANCE_OFFSET = 0.0453225
/* IMAGE OBJECT DEFINITIONS */
OBJECT = IMAGE
  INTERCHANGE_FORMAT = BINARY
  LINES = 51711
  LINE_SAMPLES = 5961
  SAMPLE_TYPE = UNSIGNED_INTEGER
  SAMPLE_BITS = 8
  BANDS = 1
  BAND_STORAGE_TYPE = BAND_SEQUENTIAL
  MAXIMUM = 255
  MEAN = 98.8619
  MINIMUM = 1
  STANDARD_DEVIATION = 34.9206
END_OBJECT = IMAGE
/* MAP OBJECT DEFINITIONS */
OBJECT = IMAGE_MAP_PROJECTION
  ^DATA_SET_MAP_PROJECTION_CATALOG= "DSMAP.CAT"
  A_AXIS_RADIUS = 3396.0
  B_AXIS_RADIUS = 3396.0
  C_AXIS_RADIUS = 3396.0
  CENTER_LATITUDE = 0.0
  CENTER_LONGITUDE = 16.0
  COORDINATE_SYSTEM_NAME = PLANETOGRAPHIC
  COORDINATE_SYSTEM_TYPE = "BODY-FIXED ROTATING"
  EASTERNMOST_LONGITUDE = 16.5635
  FIRST_STANDARD_PARALLEL = "N/A"
  LINE_FIRST_PIXEL = 1
  LINE_LAST_PIXEL = 51711
  LINE_PROJECTION_OFFSET = -40628.0
  MAP_PROJECTION_ROTATION = 0.0
  MAP_PROJECTION_TYPE = SINUSOIDAL
  MAP_RESOLUTION = 4741.71043093333
  MAP_SCALE = 0.0125
  MAXIMUM_LATITUDE = -8.56812
  MINIMUM_LATITUDE = -19.4732
  POSITIVE_LONGITUDE_DIRECTION = EAST
  REFERENCE_LATITUDE = "N/A"
  REFERENCE_LONGITUDE = "N/A"
  SAMPLE_FIRST_PIXEL = 1
  SAMPLE_LAST_PIXEL = 5961
  SAMPLE_PROJECTION_OFFSET = 3446.0
  SECOND_STANDARD_PARALLEL = "N/A"
  WESTERNMOST_LONGITUDE = 15.2635
END_OBJECT = IMAGE_MAP_PROJECTION
END
