PDS_VERSION_ID = PDS3
/* FILE DATA ELEMENTS */
RECORD_TYPE = UNDEFINED
/* POINTERS TO DATA OBJECTS */
^IMAGE = ("HI761_0000_P24.TIF")
/* IDENTIFICATION DATA ELEMENTS */
DATA_SET_ID = "MEX-M-HRSC-4-REFDR-MAPPROJECT-EXT6-V4.0"
DATA_SET_NAME = "MARS EXPRESS HRSC MAP PROJECTED REFDR EXTENSION6 V4.0"
DETECTOR_ID = MEX_HRSC_P2
EVENT_TYPE = "MARS-REGIONAL-MAPPING-Im-Fl"
INSTRUMENT_HOST_ID = MEX
INSTRUMENT_HOST_NAME = "MARS EXPRESS"
INSTRUMENT_ID = HRSC
INSTRUMENT_NAME = "HIGH RESOLUTION STEREO CAMERA"
MISSION_NAME = "MARS EXPRESS"
MISSION_PHASE_NAME = ME_Phase_39
PROCESSING_LEVEL_ID = 4
PRODUCT_CREATION_TIME = 2023-01-29T14:35:52.000Z
PRODUCT_ID = "HI761_0000_P24.TIF"
RELEASE_ID = 0005
REVISION_ID = 0000
/* QUALITY DATA ELEMENTS */
DATA_QUALITY_ID = 1
DATA_QUALITY_DESC = "Data calculated based on original SPICE kernels"
/* TIME DATA ELEMENTS */
SPACECRAFT_CLOCK_START_COUNT = "1/0488986854.23993"
SPACECRAFT_CLOCK_STOP_COUNT = "1/0488987063.39818"
START_TIME = 2018-10-30T13:41:35.157Z
STOP_TIME = 2018-10-30T13:44:06.631Z
/* ORBITAL DATA ELEMENTS */
ASCENDING_NODE_LONGITUDE = 222.2
MAXIMUM_RESOLUTION = 0.0278
FOOTPRINT_POINT_LATITUDE = (-19.4596,-19.4746,-19.4856,-19.4952, -19.4955,-19.4941,-19.1704,-18.9547, -18.631,-18.4149,-18.1992,-17.982, -17.7658,-17.5505,-17.3344,-17.1179, -16.9011,-16.6848,-16.4686,-16.2519, -16.035,-15.8182,-15.6018,-15.3853, -15.1664,-14.8423,-14.6253,-14.2958, -14.0772,-13.6475,-13.4299,-13.2107, -12.9924,-12.7742,-12.4468,-12.2283, -12.0098,-11.792,-11.5737,-11.2465, -11.0285,-10.8096,-10.5883,-10.3679, -10.0409,-9.82054,-9.60427,-9.26921, -8.93799,-8.71642,-8.60612,-8.60515, -8.59135,-8.58202,-8.56676,-8.56625, -8.56655,-8.89755,-9.11829,-9.45148, -9.78322,-10.1145,-10.3353,-10.5542, -10.8798,-11.0981,-11.5302,-11.749, -11.9684,-12.1899,-12.5161,-12.7343, -12.9514,-13.1712,-13.3869,-13.6056, -13.8252,-14.152,-14.3693,-14.6954, -15.0219,-15.2399,-15.4574,-15.6738, -15.9989,-16.2159,-16.432,-16.6488, -16.8652,-17.0817,-17.4065,-17.7302, -18.1595,-18.3778,-18.7034,-18.9194, -19.1348,-19.3499,-19.4578,-19.4596)
FOOTPRINT_POINT_LONGITUDE = (16.5403,16.0609,15.664,15.2726,15.2605 ,15.2566,15.2577,15.2584,15.2594,15.26, 15.2606,15.2612,15.2617,15.2622,15.2626 ,15.2631,15.2635,15.2639,15.2642, 15.2645,15.2648,15.2651,15.2653,15.2655 ,15.2658,15.266,15.2661,15.2663,15.2665 ,15.2664,15.2664,15.2665,15.2664, 15.2664,15.2663,15.2662,15.2661,15.266, 15.2658,15.2656,15.2654,15.2652,15.265, 15.2648,15.2644,15.2642,15.2638,15.2635 ,15.2631,15.2629,15.2627,15.2627, 15.7394,16.1381,16.4966,16.5091,16.5136 ,16.5114,16.5099,16.5061,16.5033, 16.5006,16.4989,16.4986,16.5003,16.5006 ,16.5047,16.5045,16.5037,16.5012, 16.5025,16.5027,16.5039,16.5026,16.5052 ,16.5048,16.5036,16.5042,16.5051, 16.5063,16.507,16.5072,16.5077,16.5094, 16.5114,16.5125,16.5145,16.5158,16.5175 ,16.519,16.5212,16.5248,16.5327,16.5317 ,16.5324,16.5344,16.5373,16.5405, 16.5417,16.5403)
ORBIT_NUMBER = 18761
ORBITAL_ECCENTRICITY = 0.578
ORBITAL_INCLINATION = 86.94
ORBITAL_SEMIMAJOR_AXIS = 8845.22
PERIAPSIS_ALTITUDE = 339.36
PERIAPSIS_ARGUMENT_ANGLE = 346.32
PERIAPSIS_TIME = 2018-10-30T13:43:14.000Z
SPACECRAFT_ORIENTATION = (0.0,1.0,0.0)
^MEX_ORIENTATION_DESC = "MEX_ORIENTATION_DESC.TXT"
SPACECRAFT_POINTING_MODE = INERT
^MEX_POINTING_DESC = "MEX_POINTING_DESC.TXT"
RIGHT_ASCENSION = 74.7
DECLINATION = 35.156
OFFSET_ANGLE = -1e+32
SPACECRAFT_SOLAR_DISTANCE = 2.08712e+08
TARGET_NAME = MARS
/* CAMERA DATA ELEMENTS */
DETECTOR_TEMPERATURE = 19.1861
FOCAL_PLANE_TEMPERATURE = 10.4184
INST_CMPRS_NAME = "DISCRETE COSINE TRANSFORMATION (DCT)"
INST_CMPRS_RATIO = 8.8985
INST_CMPRS_QUALITY = 0
INST_CMPRS_QUANTZ_TBL_ID = 0
INSTRUMENT_TEMPERATURE = 11.4379
LENS_TEMPERATURE = 11.234
MACROPIXEL_SIZE = 2
MISSING_FRAMES = 0
PIXEL_SUBSAMPLING_FLAG = N
SIGNAL_CHAIN_ID = 3
/* RADIOMETRIC DATA ELEMENTS */
BANDWIDTH = 177.0
CENTER_FILTER_WAVELENGTH = 676.5
RADIANCE_OFFSET = 2.30695
RADIANCE_SCALING_FACTOR = 0.00992947
REFLECTANCE_SCALING_FACTOR = 0.000229338
MEX:REFLECTANCE_OFFSET = 0.0532828
/* IMAGE OBJECT DEFINITIONS */
OBJECT = IMAGE
  INTERCHANGE_FORMAT = BINARY
  LINES = 25856
  LINE_SAMPLES = 2981
  SAMPLE_TYPE = UNSIGNED_INTEGER
  SAMPLE_BITS = 8
  BANDS = 1
  BAND_STORAGE_TYPE = BAND_SEQUENTIAL
  MAXIMUM = 255
  MEAN = 91.434
  MINIMUM = 1
  STANDARD_DEVIATION = 34.2958
END_OBJECT = IMAGE
/* MAP OBJECT DEFINITIONS */
OBJECT = IMAGE_MAP_PROJECTION
  ^DATA_SET_MAP_PROJECTION_CATALOG= "DSMAP.CAT"
  A_AXIS_RADIUS = 3396.0
  B_AXIS_RADIUS = 3396.0
  C_AXIS_RADIUS = 3396.0
  CENTER_LATITUDE = 0.0
  CENTER_LONGITUDE = 16.0
  COORDINATE_SYSTEM_NAME = PLANETOGRAPHIC
  COORDINATE_SYSTEM_TYPE = "BODY-FIXED ROTATING"
  EASTERNMOST_LONGITUDE = 16.5417
  FIRST_STANDARD_PARALLEL = "N/A"
  LINE_FIRST_PIXEL = 1
  LINE_LAST_PIXEL = 25856
  LINE_PROJECTION_OFFSET = -20314.25
  MAP_PROJECTION_ROTATION = 0.0
  MAP_PROJECTION_TYPE = SINUSOIDAL
  MAP_RESOLUTION = 2370.85521546667
  MAP_SCALE = 0.025
  MAXIMUM_LATITUDE = -8.56625
  MINIMUM_LATITUDE = -19.4955
  POSITIVE_LONGITUDE_DIRECTION = EAST
  REFERENCE_LATITUDE = "N/A"
  REFERENCE_LONGITUDE = "N/A"
  SAMPLE_FIRST_PIXEL = 1
  SAMPLE_LAST_PIXEL = 2981
  SAMPLE_PROJECTION_OFFSET = 1722.75
  SECOND_STANDARD_PARALLEL = "N/A"
  WESTERNMOST_LONGITUDE = 15.2566
END_OBJECT = IMAGE_MAP_PROJECTION
END
