PDS_VERSION_ID = PDS3
/* FILE DATA ELEMENTS */
RECORD_TYPE = UNDEFINED
/* POINTERS TO DATA OBJECTS */
^IMAGE = ("HI762_0000_P24.TIF")
/* IDENTIFICATION DATA ELEMENTS */
DATA_SET_ID = "MEX-M-HRSC-4-REFDR-MAPPROJECT-EXT6-V4.0"
DATA_SET_NAME = "MARS EXPRESS HRSC MAP PROJECTED REFDR EXTENSION6 V4.0"
DETECTOR_ID = MEX_HRSC_P2
EVENT_TYPE = "MARS-REGIONAL-STEREO-Te-Im"
INSTRUMENT_HOST_ID = MEX
INSTRUMENT_HOST_NAME = "MARS EXPRESS"
INSTRUMENT_ID = HRSC
INSTRUMENT_NAME = "HIGH RESOLUTION STEREO CAMERA"
MISSION_NAME = "MARS EXPRESS"
MISSION_PHASE_NAME = ME_Phase_39
PROCESSING_LEVEL_ID = 4
PRODUCT_CREATION_TIME = 2023-01-29T14:35:52.000Z
PRODUCT_ID = "HI762_0000_P24.TIF"
RELEASE_ID = 0005
REVISION_ID = 0000
/* QUALITY DATA ELEMENTS */
DATA_QUALITY_ID = 1
DATA_QUALITY_DESC = "Data calculated based on original SPICE kernels"
/* TIME DATA ELEMENTS */
SPACECRAFT_CLOCK_START_COUNT = "1/0489011950.24019"
SPACECRAFT_CLOCK_STOP_COUNT = "1/0489012143.24114"
START_TIME = 2018-10-30T20:39:51.930Z
STOP_TIME = 2018-10-30T20:42:07.002Z
/* ORBITAL DATA ELEMENTS */
ASCENDING_NODE_LONGITUDE = 222.17
MAXIMUM_RESOLUTION = 0.0284
FOOTPRINT_POINT_LATITUDE = (-22.2163,-22.2181,-22.2185,-22.2182, -22.2176,-22.2163,-22.2162,-22.2208, -21.8398,-21.4587,-20.9819,-20.7911, -20.6002,-20.314,-20.0274,-19.8363, -19.5481,-19.2615,-19.07,-18.8786, -18.6868,-18.3994,-18.2077,-18.0157, -17.8237,-17.6315,-17.4392,-17.247, -16.9584,-16.766,-16.5733,-16.3806, -16.1874,-15.9945,-15.8015,-15.5116, -15.3183,-15.1247,-14.931,-14.7372, -14.5436,-14.3496,-14.059,-13.7675, -13.4757,-13.2811,-13.0864,-12.8915, -12.6966,-12.5991,-12.5886,-12.5872, -12.5843,-12.5796,-12.5794,-12.5798, -12.8728,-13.0678,-13.3602,-13.555, -13.7497,-13.9444,-14.1383,-14.3324, -14.6233,-14.9138,-15.1077,-15.3984, -15.5917,-15.7852,-15.9785,-16.1718, -16.3647,-16.5575,-16.8468,-17.0394, -17.3283,-17.5207,-17.8092,-18.0015, -18.1935,-18.4814,-18.6732,-18.961, -19.1527,-19.3445,-19.6317,-19.9187, -20.1101,-20.3013,-20.4927,-20.6839, -20.8751,-21.0659,-21.2569,-21.5432, -21.7341,-22.1151,-22.2103,-22.2163)
FOOTPRINT_POINT_LONGITUDE = (273.766,273.376,273.129,272.895, 272.687,272.439,272.426,272.425,272.431 ,272.437,272.444,272.446,272.449, 272.452,272.456,272.458,272.461,272.464 ,272.466,272.468,272.47,272.473,272.474 ,272.476,272.478,272.479,272.48,272.482 ,272.484,272.485,272.486,272.487, 272.488,272.489,272.49,272.491,272.492, 272.492,272.493,272.493,272.494,272.494 ,272.495,272.495,272.496,272.496, 272.496,272.496,272.496,272.496,272.496 ,272.905,273.304,273.728,273.74,273.744 ,273.744,273.744,273.744,273.744, 273.744,273.744,273.744,273.744,273.745 ,273.745,273.745,273.745,273.746, 273.746,273.746,273.746,273.747,273.747 ,273.748,273.748,273.749,273.749,273.75 ,273.75,273.751,273.752,273.752,273.753 ,273.754,273.754,273.755,273.756, 273.757,273.757,273.758,273.759,273.759 ,273.76,273.761,273.762,273.762,273.764 ,273.764,273.766)
ORBIT_NUMBER = 18762
ORBITAL_ECCENTRICITY = 0.578
ORBITAL_INCLINATION = 86.94
ORBITAL_SEMIMAJOR_AXIS = 8852.12
PERIAPSIS_ALTITUDE = 338.78
PERIAPSIS_ARGUMENT_ANGLE = 346.16
PERIAPSIS_TIME = 2018-10-30T20:42:17.000Z
SPACECRAFT_ORIENTATION = (0.0,1.0,0.0)
^MEX_ORIENTATION_DESC = "MEX_ORIENTATION_DESC.TXT"
SPACECRAFT_POINTING_MODE = INERT
^MEX_POINTING_DESC = "MEX_POINTING_DESC.TXT"
RIGHT_ASCENSION = 74.515
DECLINATION = 35.316
OFFSET_ANGLE = -1e+32
SPACECRAFT_SOLAR_DISTANCE = 2.08738e+08
TARGET_NAME = MARS
/* CAMERA DATA ELEMENTS */
DETECTOR_TEMPERATURE = 17.7588
FOCAL_PLANE_TEMPERATURE = 10.4184
INST_CMPRS_NAME = "DISCRETE COSINE TRANSFORMATION (DCT)"
INST_CMPRS_RATIO = 6.50633
INST_CMPRS_QUALITY = 0
INST_CMPRS_QUANTZ_TBL_ID = 0
INSTRUMENT_TEMPERATURE = 11.8457
LENS_TEMPERATURE = 10.2145
MACROPIXEL_SIZE = 2
MISSING_FRAMES = 0
PIXEL_SUBSAMPLING_FLAG = N
SIGNAL_CHAIN_ID = 3
/* RADIOMETRIC DATA ELEMENTS */
BANDWIDTH = 177.0
CENTER_FILTER_WAVELENGTH = 676.5
RADIANCE_OFFSET = 2.70082
RADIANCE_SCALING_FACTOR = 0.0115844
REFLECTANCE_SCALING_FACTOR = 0.000267629
MEX:REFLECTANCE_OFFSET = 0.0623958
/* IMAGE OBJECT DEFINITIONS */
OBJECT = IMAGE
  INTERCHANGE_FORMAT = BINARY
  LINES = 22880
  LINE_SAMPLES = 2913
  SAMPLE_TYPE = UNSIGNED_INTEGER
  SAMPLE_BITS = 8
  BANDS = 1
  BAND_STORAGE_TYPE = BAND_SEQUENTIAL
  MAXIMUM = 255
  MEAN = 115.578
  MINIMUM = 1
  STANDARD_DEVIATION = 20.9481
END_OBJECT = IMAGE
/* MAP OBJECT DEFINITIONS */
OBJECT = IMAGE_MAP_PROJECTION
  ^DATA_SET_MAP_PROJECTION_CATALOG= "DSMAP.CAT"
  A_AXIS_RADIUS = 3396.0
  B_AXIS_RADIUS = 3396.0
  C_AXIS_RADIUS = 3396.0
  CENTER_LATITUDE = 0.0
  CENTER_LONGITUDE = 273.0
  COORDINATE_SYSTEM_NAME = PLANETOGRAPHIC
  COORDINATE_SYSTEM_TYPE = "BODY-FIXED ROTATING"
  EASTERNMOST_LONGITUDE = 273.766
  FIRST_STANDARD_PARALLEL = "N/A"
  LINE_FIRST_PIXEL = 1
  LINE_LAST_PIXEL = 22880
  LINE_PROJECTION_OFFSET = -29771.75
  MAP_PROJECTION_ROTATION = 0.0
  MAP_PROJECTION_TYPE = SINUSOIDAL
  MAP_RESOLUTION = 2370.85521546667
  MAP_SCALE = 0.025
  MAXIMUM_LATITUDE = -12.5794
  MINIMUM_LATITUDE = -22.2208
  POSITIVE_LONGITUDE_DIRECTION = EAST
  REFERENCE_LATITUDE = "N/A"
  REFERENCE_LONGITUDE = "N/A"
  SAMPLE_FIRST_PIXEL = 1
  SAMPLE_LAST_PIXEL = 2913
  SAMPLE_PROJECTION_OFFSET = 1226.25
  SECOND_STANDARD_PARALLEL = "N/A"
  WESTERNMOST_LONGITUDE = 272.425
END_OBJECT = IMAGE_MAP_PROJECTION
END
