PDS_VERSION_ID = PDS3
/* FILE DATA ELEMENTS */
RECORD_TYPE = UNDEFINED
/* POINTERS TO DATA OBJECTS */
^IMAGE = ("HI763_0000_GR4.TIF")
/* IDENTIFICATION DATA ELEMENTS */
DATA_SET_ID = "MEX-M-HRSC-4-REFDR-MAPPROJECT-EXT6-V4.0"
DATA_SET_NAME = "MARS EXPRESS HRSC MAP PROJECTED REFDR EXTENSION6 V4.0"
DETECTOR_ID = MEX_HRSC_GREEN
EVENT_TYPE = "MARS-REGIONAL-MAPPING-Im-Fl-Mw"
INSTRUMENT_HOST_ID = MEX
INSTRUMENT_HOST_NAME = "MARS EXPRESS"
INSTRUMENT_ID = HRSC
INSTRUMENT_NAME = "HIGH RESOLUTION STEREO CAMERA"
MISSION_NAME = "MARS EXPRESS"
MISSION_PHASE_NAME = ME_Phase_39
PROCESSING_LEVEL_ID = 4
PRODUCT_CREATION_TIME = 2023-01-29T14:35:52.000Z
PRODUCT_ID = "HI763_0000_GR4.TIF"
RELEASE_ID = 0005
REVISION_ID = 0000
/* QUALITY DATA ELEMENTS */
DATA_QUALITY_ID = 1
DATA_QUALITY_DESC = "Data calculated based on original SPICE kernels"
/* TIME DATA ELEMENTS */
SPACECRAFT_CLOCK_START_COUNT = "1/0489037131.25678"
SPACECRAFT_CLOCK_STOP_COUNT = "1/0489037320.32881"
START_TIME = 2018-10-31T03:39:55.914Z
STOP_TIME = 2018-10-31T03:42:07.858Z
/* ORBITAL DATA ELEMENTS */
ASCENDING_NODE_LONGITUDE = 222.15
MAXIMUM_RESOLUTION = 0.0545
FOOTPRINT_POINT_LATITUDE = (-19.6455,-19.6469,-19.6476,-19.6483, -19.6483,-19.6483,-19.6512,-19.2751, -19.087,-18.8988,-18.6173,-18.4293, -18.2414,-18.0535,-17.7716,-17.3965, -17.2086,-17.0206,-16.8322,-16.6444, -16.4566,-16.2689,-16.0812,-15.7996, -15.4242,-15.1425,-14.9547,-14.7668, -14.579,-14.3912,-14.2034,-14.0155, -13.6402,-13.4521,-13.2644,-13.0763, -12.8884,-12.7006,-12.5127,-12.2311, -11.8555,-11.6672,-11.4789,-11.2908, -11.1032,-10.9149,-10.7267,-10.5385, -10.3502,-10.2562,-10.1859,-10.1853, -10.1844,-10.1827,-10.1805,-10.1804, -10.1814,-10.3693,-10.5576,-10.8398, -11.0281,-11.2162,-11.4983,-11.6863, -11.8744,-12.1565,-12.3446,-12.5324, -12.8144,-13.0963,-13.2842,-13.5661, -13.754,-13.9418,-14.1297,-14.3176, -14.5055,-14.7873,-14.9751,-15.163, -15.3509,-15.6327,-15.8205,-16.0081, -16.196,-16.3838,-16.5718,-16.7597, -16.9474,-17.1353,-17.3235,-17.6054, -17.7933,-18.1686,-18.4505,-18.7323, -19.1082,-19.4838,-19.5778,-19.6455)
FOOTPRINT_POINT_LONGITUDE = (171.625,171.305,171.068,170.665, 170.368,170.356,170.347,170.352,170.354 ,170.356,170.358,170.36,170.362,170.364 ,170.366,170.368,170.369,170.371, 170.374,170.376,170.377,170.378,170.379 ,170.38,170.38,170.382,170.382,170.383, 170.383,170.384,170.384,170.385,170.387 ,170.386,170.387,170.386,170.386, 170.387,170.387,170.387,170.388,170.387 ,170.386,170.386,170.386,170.386, 170.385,170.384,170.384,170.384,170.383 ,170.724,170.917,171.246,171.587, 171.599,171.602,171.603,171.603,171.603 ,171.603,171.603,171.604,171.604, 171.604,171.605,171.604,171.605,171.606 ,171.606,171.607,171.607,171.608, 171.608,171.609,171.609,171.61,171.611, 171.612,171.612,171.613,171.614,171.614 ,171.613,171.614,171.615,171.616, 171.617,171.617,171.618,171.62,171.621, 171.622,171.622,171.624,171.625,171.627 ,171.628,171.628,171.625)
ORBIT_NUMBER = 18763
ORBITAL_ECCENTRICITY = 0.578
ORBITAL_INCLINATION = 86.96
ORBITAL_SEMIMAJOR_AXIS = 8839.02
PERIAPSIS_ALTITUDE = 339.32
PERIAPSIS_ARGUMENT_ANGLE = 345.99
PERIAPSIS_TIME = 2018-10-31T03:41:13.000Z
SPACECRAFT_ORIENTATION = (0.0,1.0,0.0)
^MEX_ORIENTATION_DESC = "MEX_ORIENTATION_DESC.TXT"
SPACECRAFT_POINTING_MODE = INERT
^MEX_POINTING_DESC = "MEX_POINTING_DESC.TXT"
RIGHT_ASCENSION = 74.389
DECLINATION = 35.429
OFFSET_ANGLE = -1e+32
SPACECRAFT_SOLAR_DISTANCE = 2.08765e+08
TARGET_NAME = MARS
/* CAMERA DATA ELEMENTS */
DETECTOR_TEMPERATURE = 18.7783
FOCAL_PLANE_TEMPERATURE = 10.4184
INST_CMPRS_NAME = "DISCRETE COSINE TRANSFORMATION (DCT)"
INST_CMPRS_RATIO = 9.11207
INST_CMPRS_QUALITY = 0
INST_CMPRS_QUANTZ_TBL_ID = 0
INSTRUMENT_TEMPERATURE = 12.0496
LENS_TEMPERATURE = 11.234
MACROPIXEL_SIZE = 4
MISSING_FRAMES = 0
PIXEL_SUBSAMPLING_FLAG = N
SIGNAL_CHAIN_ID = 2
/* RADIOMETRIC DATA ELEMENTS */
BANDWIDTH = 88.0
CENTER_FILTER_WAVELENGTH = 538.0
RADIANCE_OFFSET = 1.19924
RADIANCE_SCALING_FACTOR = 0.00301468
REFLECTANCE_SCALING_FACTOR = 0.000113121
MEX:REFLECTANCE_OFFSET = 0.0449996
/* IMAGE OBJECT DEFINITIONS */
OBJECT = IMAGE
  INTERCHANGE_FORMAT = BINARY
  LINES = 11220
  LINE_SAMPLES = 1448
  SAMPLE_TYPE = UNSIGNED_INTEGER
  SAMPLE_BITS = 8
  BANDS = 1
  BAND_STORAGE_TYPE = BAND_SEQUENTIAL
  MAXIMUM = 255
  MEAN = 106.667
  MINIMUM = 1
  STANDARD_DEVIATION = 27.3273
END_OBJECT = IMAGE
/* MAP OBJECT DEFINITIONS */
OBJECT = IMAGE_MAP_PROJECTION
  ^DATA_SET_MAP_PROJECTION_CATALOG= "DSMAP.CAT"
  A_AXIS_RADIUS = 3396.0
  B_AXIS_RADIUS = 3396.0
  C_AXIS_RADIUS = 3396.0
  CENTER_LATITUDE = 0.0
  CENTER_LONGITUDE = 171.0
  COORDINATE_SYSTEM_NAME = PLANETOGRAPHIC
  COORDINATE_SYSTEM_TYPE = "BODY-FIXED ROTATING"
  EASTERNMOST_LONGITUDE = 171.628
  FIRST_STANDARD_PARALLEL = "N/A"
  LINE_FIRST_PIXEL = 1
  LINE_LAST_PIXEL = 11220
  LINE_PROJECTION_OFFSET = -12083.875
  MAP_PROJECTION_ROTATION = 0.0
  MAP_PROJECTION_TYPE = SINUSOIDAL
  MAP_RESOLUTION = 1185.42760773333
  MAP_SCALE = 0.05
  MAXIMUM_LATITUDE = -10.1804
  MINIMUM_LATITUDE = -19.6512
  POSITIVE_LONGITUDE_DIRECTION = EAST
  REFERENCE_LATITUDE = "N/A"
  REFERENCE_LONGITUDE = "N/A"
  SAMPLE_FIRST_PIXEL = 1
  SAMPLE_LAST_PIXEL = 1448
  SAMPLE_PROJECTION_OFFSET = 738.875
  SECOND_STANDARD_PARALLEL = "N/A"
  WESTERNMOST_LONGITUDE = 170.347
END_OBJECT = IMAGE_MAP_PROJECTION
END
