PDS_VERSION_ID = PDS3
/* FILE DATA ELEMENTS */
RECORD_TYPE = UNDEFINED
/* POINTERS TO DATA OBJECTS */
^IMAGE = ("HI764_0000_GR4.TIF")
/* IDENTIFICATION DATA ELEMENTS */
DATA_SET_ID = "MEX-M-HRSC-4-REFDR-MAPPROJECT-EXT6-V4.0"
DATA_SET_NAME = "MARS EXPRESS HRSC MAP PROJECTED REFDR EXTENSION6 V4.0"
DETECTOR_ID = MEX_HRSC_GREEN
EVENT_TYPE = "MARS-REGIONAL-MAPPING-Im-Fl-Lc"
INSTRUMENT_HOST_ID = MEX
INSTRUMENT_HOST_NAME = "MARS EXPRESS"
INSTRUMENT_ID = HRSC
INSTRUMENT_NAME = "HIGH RESOLUTION STEREO CAMERA"
MISSION_NAME = "MARS EXPRESS"
MISSION_PHASE_NAME = ME_Phase_39
PROCESSING_LEVEL_ID = 4
PRODUCT_CREATION_TIME = 2023-01-29T14:35:52.000Z
PRODUCT_ID = "HI764_0000_GR4.TIF"
RELEASE_ID = 0005
REVISION_ID = 0000
/* QUALITY DATA ELEMENTS */
DATA_QUALITY_ID = 1
DATA_QUALITY_DESC = "Data calculated based on original SPICE kernels"
/* TIME DATA ELEMENTS */
SPACECRAFT_CLOCK_START_COUNT = "1/0489062258.23967"
SPACECRAFT_CLOCK_STOP_COUNT = "1/0489062441.23475"
START_TIME = 2018-10-31T10:38:42.857Z
STOP_TIME = 2018-10-31T10:40:48.769Z
/* ORBITAL DATA ELEMENTS */
ASCENDING_NODE_LONGITUDE = 222.14
MAXIMUM_RESOLUTION = 0.0537
FOOTPRINT_POINT_LATITUDE = (-20.301,-20.3023,-20.303,-20.3035, -20.3034,-20.3034,-20.3051,-20.0343, -19.8534,-19.6731,-19.4927,-19.2222, -18.9453,-18.765,-18.4942,-18.3131, -18.043,-17.8629,-17.5925,-17.4122, -17.2322,-17.052,-16.8719,-16.6018, -16.4218,-16.2417,-16.0616,-15.8816, -15.7015,-15.4314,-15.1614,-14.8013, -14.4411,-14.0813,-13.9012,-13.5411, -13.2708,-13.0906,-12.7306,-12.5505, -12.3704,-12.1901,-11.9197,-11.7394, -11.5592,-11.379,-11.2888,-11.2793, -11.2791,-11.2788,-11.2779,-11.2771, -11.2729,-11.2728,-11.2737,-11.5451, -11.726,-11.9061,-12.0862,-12.2665, -12.4467,-12.7171,-12.8973,-13.0775, -13.2576,-13.5278,-13.7079,-13.8881, -14.0684,-14.2489,-14.6085,-14.8786, -15.0587,-15.2388,-15.509,-15.6891, -15.8692,-16.0494,-16.3196,-16.5898, -16.7699,-16.9501,-17.1303,-17.3104, -17.4907,-17.6709,-17.9412,-18.2117, -18.392,-18.5723,-18.7526,-18.933, -19.1133,-19.3014,-19.4819,-19.7527, -19.9331,-20.2036,-20.2944,-20.301)
FOOTPRINT_POINT_LONGITUDE = (69.5302,69.209,68.9708,68.5665,68.2686 ,68.2567,68.2494,68.2531,68.2561, 68.2582,68.2604,68.2635,68.2639,68.2657 ,68.2693,68.2735,68.2754,68.2766, 68.2796,68.2817,68.2829,68.2845,68.2859 ,68.2874,68.2882,68.2892,68.2903, 68.2911,68.2921,68.2934,68.2948,68.2963 ,68.2973,68.2993,68.2996,68.3003, 68.3003,68.3003,68.3009,68.301,68.3011, 68.3009,68.3006,68.3004,68.3002,68.3001 ,68.2999,68.2999,68.5111,68.7004, 68.9119,69.1014,69.4832,69.4945,69.4982 ,69.4972,69.4966,69.4972,69.4977, 69.4981,69.4984,69.499,69.4993,69.4997, 69.5003,69.5011,69.5018,69.502,69.502, 69.5012,69.5047,69.5061,69.5069,69.5078 ,69.5089,69.5095,69.5103,69.5112, 69.5119,69.5128,69.5136,69.5147,69.5156 ,69.5165,69.5175,69.5187,69.52,69.5216, 69.5228,69.5239,69.5247,69.5258,69.5268 ,69.5281,69.5294,69.5313,69.5323, 69.5335,69.5349,69.5302)
ORBIT_NUMBER = 18764
ORBITAL_ECCENTRICITY = 0.578
ORBITAL_INCLINATION = 86.97
ORBITAL_SEMIMAJOR_AXIS = 8847.34
PERIAPSIS_ALTITUDE = 338.27
PERIAPSIS_ARGUMENT_ANGLE = 345.8
PERIAPSIS_TIME = 2018-10-31T10:40:08.000Z
SPACECRAFT_ORIENTATION = (0.0,1.0,0.0)
^MEX_ORIENTATION_DESC = "MEX_ORIENTATION_DESC.TXT"
SPACECRAFT_POINTING_MODE = INERT
^MEX_POINTING_DESC = "MEX_POINTING_DESC.TXT"
RIGHT_ASCENSION = 74.234
DECLINATION = 35.578
OFFSET_ANGLE = -1e+32
SPACECRAFT_SOLAR_DISTANCE = 2.08792e+08
TARGET_NAME = MARS
/* CAMERA DATA ELEMENTS */
DETECTOR_TEMPERATURE = 17.5549
FOCAL_PLANE_TEMPERATURE = 10.2145
INST_CMPRS_NAME = "DISCRETE COSINE TRANSFORMATION (DCT)"
INST_CMPRS_RATIO = 11.1857
INST_CMPRS_QUALITY = 0
INST_CMPRS_QUANTZ_TBL_ID = 0
INSTRUMENT_TEMPERATURE = 12.4574
LENS_TEMPERATURE = 10.6223
MACROPIXEL_SIZE = 4
MISSING_FRAMES = 1
PIXEL_SUBSAMPLING_FLAG = N
SIGNAL_CHAIN_ID = 2
/* RADIOMETRIC DATA ELEMENTS */
BANDWIDTH = 88.0
CENTER_FILTER_WAVELENGTH = 538.0
RADIANCE_OFFSET = 1.01474
RADIANCE_SCALING_FACTOR = 0.00309507
REFLECTANCE_SCALING_FACTOR = 0.000116168
MEX:REFLECTANCE_OFFSET = 0.0380864
/* IMAGE OBJECT DEFINITIONS */
OBJECT = IMAGE
  INTERCHANGE_FORMAT = BINARY
  LINES = 10711
  LINE_SAMPLES = 1441
  SAMPLE_TYPE = UNSIGNED_INTEGER
  SAMPLE_BITS = 8
  BANDS = 1
  BAND_STORAGE_TYPE = BAND_SEQUENTIAL
  MAXIMUM = 255
  MEAN = 127.454
  MINIMUM = 1
  STANDARD_DEVIATION = 36.487
END_OBJECT = IMAGE
/* MAP OBJECT DEFINITIONS */
OBJECT = IMAGE_MAP_PROJECTION
  ^DATA_SET_MAP_PROJECTION_CATALOG= "DSMAP.CAT"
  A_AXIS_RADIUS = 3396.0
  B_AXIS_RADIUS = 3396.0
  C_AXIS_RADIUS = 3396.0
  CENTER_LATITUDE = 0.0
  CENTER_LONGITUDE = 69.0
  COORDINATE_SYSTEM_NAME = PLANETOGRAPHIC
  COORDINATE_SYSTEM_TYPE = "BODY-FIXED ROTATING"
  EASTERNMOST_LONGITUDE = 69.53489999999999
  FIRST_STANDARD_PARALLEL = "N/A"
  LINE_FIRST_PIXEL = 1
  LINE_LAST_PIXEL = 10711
  LINE_PROJECTION_OFFSET = -13367.625
  MAP_PROJECTION_ROTATION = 0.0
  MAP_PROJECTION_TYPE = SINUSOIDAL
  MAP_RESOLUTION = 1185.42760773333
  MAP_SCALE = 0.05
  MAXIMUM_LATITUDE = -11.2728
  MINIMUM_LATITUDE = -20.3051
  POSITIVE_LONGITUDE_DIRECTION = EAST
  REFERENCE_LATITUDE = "N/A"
  REFERENCE_LONGITUDE = "N/A"
  SAMPLE_FIRST_PIXEL = 1
  SAMPLE_LAST_PIXEL = 1441
  SAMPLE_PROJECTION_OFFSET = 845.125
  SECOND_STANDARD_PARALLEL = "N/A"
  WESTERNMOST_LONGITUDE = 68.24939999999999
END_OBJECT = IMAGE_MAP_PROJECTION
END
