PDS_VERSION_ID = PDS3
/* FILE DATA ELEMENTS */
RECORD_TYPE = UNDEFINED
/* POINTERS TO DATA OBJECTS */
^IMAGE = ("HI764_0000_S24.TIF")
/* IDENTIFICATION DATA ELEMENTS */
DATA_SET_ID = "MEX-M-HRSC-4-REFDR-MAPPROJECT-EXT6-V4.0"
DATA_SET_NAME = "MARS EXPRESS HRSC MAP PROJECTED REFDR EXTENSION6 V4.0"
DETECTOR_ID = MEX_HRSC_S2
EVENT_TYPE = "MARS-REGIONAL-MAPPING-Im-Fl-Lc"
INSTRUMENT_HOST_ID = MEX
INSTRUMENT_HOST_NAME = "MARS EXPRESS"
INSTRUMENT_ID = HRSC
INSTRUMENT_NAME = "HIGH RESOLUTION STEREO CAMERA"
MISSION_NAME = "MARS EXPRESS"
MISSION_PHASE_NAME = ME_Phase_39
PROCESSING_LEVEL_ID = 4
PRODUCT_CREATION_TIME = 2023-01-29T14:35:52.000Z
PRODUCT_ID = "HI764_0000_S24.TIF"
RELEASE_ID = 0005
REVISION_ID = 0000
/* QUALITY DATA ELEMENTS */
DATA_QUALITY_ID = 1
DATA_QUALITY_DESC = "Data calculated based on original SPICE kernels"
/* TIME DATA ELEMENTS */
SPACECRAFT_CLOCK_START_COUNT = "1/0489062258.23967"
SPACECRAFT_CLOCK_STOP_COUNT = "1/0489062441.23475"
START_TIME = 2018-10-31T10:38:09.792Z
STOP_TIME = 2018-10-31T10:40:15.129Z
/* ORBITAL DATA ELEMENTS */
ASCENDING_NODE_LONGITUDE = 222.14
MAXIMUM_RESOLUTION = 0.0292
FOOTPRINT_POINT_LATITUDE = (-20.3206,-20.3223,-20.323,-20.3232, -20.3229,-20.3212,-20.3212,-20.3091, -20.0436,-19.6908,-19.4248,-19.1562, -18.973,-18.7946,-18.6166,-18.2694, -18.0907,-17.9109,-17.733,-17.3794, -17.2004,-17.0223,-16.8437,-16.664, -16.4843,-16.304,-16.0346,-15.8549, -15.6753,-15.4058,-15.1365,-14.9547, -14.5978,-14.4151,-14.143,-13.8772, -13.6965,-13.5151,-13.2414,-13.0588, -12.8785,-12.697,-12.5155,-12.3333, -12.0601,-11.8763,-11.6026,-11.4201, -11.3289,-11.3044,-11.3059,-11.3054, -11.3051,-11.2993,-11.2882,-11.288, -11.2884,-11.5686,-11.7551,-11.9363, -12.1183,-12.3005,-12.5738,-12.756, -12.9385,-13.1198,-13.3008,-13.482, -13.7538,-14.0303,-14.2133,-14.5672, -14.7478,-14.9266,-15.1063,-15.3757, -15.5559,-15.8257,-16.0052,-16.2759, -16.456,-16.6358,-16.815,-16.993, -17.172,-17.3509,-17.5294,-17.707, -17.8858,-18.0647,-18.2424,-18.4201, -18.5982,-18.9545,-19.3099,-19.6639, -19.9307,-20.1977,-20.2867,-20.3206)
FOOTPRINT_POINT_LONGITUDE = (69.5173,69.2303,69.0306,68.8184, 68.6188,68.2437,68.2312,68.2228,68.226, 68.2306,68.2334,68.2353,68.2351,68.2365 ,68.2381,68.2441,68.2453,68.2461, 68.2475,68.251,68.252,68.2533,68.2543, 68.255,68.2557,68.2562,68.2572,68.2579, 68.2585,68.2594,68.2602,68.2602,68.2619 ,68.2615,68.2615,68.263,68.2631,68.2631 ,68.2625,68.262,68.2622,68.262,68.2618, 68.2614,68.2608,68.26,68.2593,68.2587, 68.2585,68.2583,68.5495,68.8403,69.0222 ,69.3016,69.4981,69.5103,69.5147, 69.5128,69.5116,69.5117,69.5116,69.5114 ,69.5111,69.5108,69.5105,69.5105, 69.5106,69.5105,69.5105,69.5091,69.5086 ,69.5107,69.5107,69.5112,69.5115, 69.5119,69.5119,69.5122,69.5124,69.5123 ,69.5123,69.5124,69.5126,69.5132, 69.5135,69.5138,69.5142,69.5148,69.5151 ,69.5153,69.5159,69.5164,69.5168, 69.5176,69.5185,69.5198,69.5204,69.5208 ,69.5209,69.5173)
ORBIT_NUMBER = 18764
ORBITAL_ECCENTRICITY = 0.578
ORBITAL_INCLINATION = 86.97
ORBITAL_SEMIMAJOR_AXIS = 8847.34
PERIAPSIS_ALTITUDE = 338.27
PERIAPSIS_ARGUMENT_ANGLE = 345.8
PERIAPSIS_TIME = 2018-10-31T10:40:08.000Z
SPACECRAFT_ORIENTATION = (0.0,1.0,0.0)
^MEX_ORIENTATION_DESC = "MEX_ORIENTATION_DESC.TXT"
SPACECRAFT_POINTING_MODE = INERT
^MEX_POINTING_DESC = "MEX_POINTING_DESC.TXT"
RIGHT_ASCENSION = 74.234
DECLINATION = 35.578
OFFSET_ANGLE = -1e+32
SPACECRAFT_SOLAR_DISTANCE = 2.08792e+08
TARGET_NAME = MARS
/* CAMERA DATA ELEMENTS */
DETECTOR_TEMPERATURE = 19.39
FOCAL_PLANE_TEMPERATURE = 10.2145
INST_CMPRS_NAME = "DISCRETE COSINE TRANSFORMATION (DCT)"
INST_CMPRS_RATIO = 11.0091
INST_CMPRS_QUALITY = 0
INST_CMPRS_QUANTZ_TBL_ID = 0
INSTRUMENT_TEMPERATURE = 12.4574
LENS_TEMPERATURE = 10.6223
MACROPIXEL_SIZE = 2
MISSING_FRAMES = 0
PIXEL_SUBSAMPLING_FLAG = N
SIGNAL_CHAIN_ID = 1
/* RADIOMETRIC DATA ELEMENTS */
BANDWIDTH = 178.0
CENTER_FILTER_WAVELENGTH = 679.0
RADIANCE_OFFSET = 2.66436
RADIANCE_SCALING_FACTOR = 0.00951077
REFLECTANCE_SCALING_FACTOR = 0.000219569
MEX:REFLECTANCE_OFFSET = 0.0615103
/* IMAGE OBJECT DEFINITIONS */
OBJECT = IMAGE
  INTERCHANGE_FORMAT = BINARY
  LINES = 21421
  LINE_SAMPLES = 2881
  SAMPLE_TYPE = UNSIGNED_INTEGER
  SAMPLE_BITS = 8
  BANDS = 1
  BAND_STORAGE_TYPE = BAND_SEQUENTIAL
  MAXIMUM = 255
  MEAN = 116.583
  MINIMUM = 1
  STANDARD_DEVIATION = 33.6616
END_OBJECT = IMAGE
/* MAP OBJECT DEFINITIONS */
OBJECT = IMAGE_MAP_PROJECTION
  ^DATA_SET_MAP_PROJECTION_CATALOG= "DSMAP.CAT"
  A_AXIS_RADIUS = 3396.0
  B_AXIS_RADIUS = 3396.0
  C_AXIS_RADIUS = 3396.0
  CENTER_LATITUDE = 0.0
  CENTER_LONGITUDE = 69.0
  COORDINATE_SYSTEM_NAME = PLANETOGRAPHIC
  COORDINATE_SYSTEM_TYPE = "BODY-FIXED ROTATING"
  EASTERNMOST_LONGITUDE = 69.5209
  FIRST_STANDARD_PARALLEL = "N/A"
  LINE_FIRST_PIXEL = 1
  LINE_LAST_PIXEL = 21421
  LINE_PROJECTION_OFFSET = -26734.75
  MAP_PROJECTION_ROTATION = 0.0
  MAP_PROJECTION_TYPE = SINUSOIDAL
  MAP_RESOLUTION = 2370.85521546667
  MAP_SCALE = 0.025
  MAXIMUM_LATITUDE = -11.288
  MINIMUM_LATITUDE = -20.3232
  POSITIVE_LONGITUDE_DIRECTION = EAST
  REFERENCE_LATITUDE = "N/A"
  REFERENCE_LONGITUDE = "N/A"
  SAMPLE_FIRST_PIXEL = 1
  SAMPLE_LAST_PIXEL = 2881
  SAMPLE_PROJECTION_OFFSET = 1690.75
  SECOND_STANDARD_PARALLEL = "N/A"
  WESTERNMOST_LONGITUDE = 68.22280000000001
END_OBJECT = IMAGE_MAP_PROJECTION
END
