PDS_VERSION_ID = PDS3
/* FILE DATA ELEMENTS */
RECORD_TYPE = UNDEFINED
/* POINTERS TO DATA OBJECTS */
^IMAGE = ("HI765_0000_S24.TIF")
/* IDENTIFICATION DATA ELEMENTS */
DATA_SET_ID = "MEX-M-HRSC-4-REFDR-MAPPROJECT-EXT6-V4.0"
DATA_SET_NAME = "MARS EXPRESS HRSC MAP PROJECTED REFDR EXTENSION6 V4.0"
DETECTOR_ID = MEX_HRSC_S2
EVENT_TYPE = "MARS-REGIONAL-MAPPING-Im-Fl"
INSTRUMENT_HOST_ID = MEX
INSTRUMENT_HOST_NAME = "MARS EXPRESS"
INSTRUMENT_ID = HRSC
INSTRUMENT_NAME = "HIGH RESOLUTION STEREO CAMERA"
MISSION_NAME = "MARS EXPRESS"
MISSION_PHASE_NAME = ME_Phase_39
PROCESSING_LEVEL_ID = 4
PRODUCT_CREATION_TIME = 2023-01-29T14:35:52.000Z
PRODUCT_ID = "HI765_0000_S24.TIF"
RELEASE_ID = 0005
REVISION_ID = 0000
/* QUALITY DATA ELEMENTS */
DATA_QUALITY_ID = 1
DATA_QUALITY_DESC = "Data calculated based on original SPICE kernels"
/* TIME DATA ELEMENTS */
SPACECRAFT_CLOCK_START_COUNT = "1/0489087412.25018"
SPACECRAFT_CLOCK_STOP_COUNT = "1/0489087603.06648"
START_TIME = 2018-10-31T17:37:23.812Z
STOP_TIME = 2018-10-31T17:39:36.927Z
/* ORBITAL DATA ELEMENTS */
ASCENDING_NODE_LONGITUDE = 222.12
MAXIMUM_RESOLUTION = 0.0288
FOOTPRINT_POINT_LATITUDE = (-19.4567,-19.452,-19.4456,-19.4359, -19.4356,-19.421,-19.1368,-18.9473, -18.5688,-18.3789,-18.1894,-17.9997, -17.8095,-17.6201,-17.43,-17.0511, -16.7655,-16.5751,-16.2879,-16.0971, -15.9066,-15.7144,-15.5231,-15.3319, -15.0393,-14.8464,-14.469,-14.2763, -14.0839,-13.8913,-13.6983,-13.4095, -13.217,-13.0242,-12.8313,-12.638, -12.4443,-12.2489,-12.0514,-11.7539, -11.564,-11.3602,-11.0636,-10.8683, -10.6757,-10.4784,-10.1846,-9.89212, -9.79453,-9.78187,-9.78874,-9.79289, -9.79759,-9.79825,-9.79831,-9.79882, -10.0922,-10.2932,-10.4987,-10.6969, -10.8914,-11.0857,-11.2781,-11.4731, -11.6683,-11.8654,-12.0609,-12.3513, -12.5446,-12.738,-12.9313,-13.1253, -13.3186,-13.5115,-13.8008,-13.9933, -14.2823,-14.4764,-14.6663,-14.8585, -15.1426,-15.3371,-15.6237,-15.8149, -16.1011,-16.2946,-16.5744,-16.7671, -16.9569,-17.2415,-17.5275,-17.7183, -18.0032,-18.1931,-18.4777,-18.6675, -18.9523,-19.3319,-19.4275,-19.4567)
FOOTPRINT_POINT_LONGITUDE = (327.108,326.719,326.328,325.859, 325.846,325.834,325.837,325.839,325.844 ,325.846,325.848,325.849,325.851, 325.853,325.855,325.858,325.86,325.862, 325.863,325.864,325.865,325.865,325.866 ,325.867,325.865,325.865,325.869, 325.869,325.869,325.869,325.868,325.868 ,325.868,325.868,325.868,325.868, 325.867,325.866,325.864,325.86,325.861, 325.856,325.853,325.852,325.852,325.85, 325.848,325.846,325.845,325.845,326.254 ,326.538,326.869,327.102,327.114, 327.118,327.118,327.117,327.115,327.115 ,327.115,327.115,327.115,327.114, 327.114,327.114,327.113,327.113,327.113 ,327.113,327.113,327.113,327.113, 327.113,327.113,327.112,327.112,327.112 ,327.112,327.112,327.113,327.112, 327.112,327.112,327.112,327.112,327.113 ,327.113,327.113,327.113,327.113, 327.113,327.113,327.112,327.112,327.112 ,327.112,327.112,327.112,327.108)
ORBIT_NUMBER = 18765
ORBITAL_ECCENTRICITY = 0.578
ORBITAL_INCLINATION = 86.96
ORBITAL_SEMIMAJOR_AXIS = 8838.49
PERIAPSIS_ALTITUDE = 338.96
PERIAPSIS_ARGUMENT_ANGLE = 345.63
PERIAPSIS_TIME = 2018-10-31T17:39:03.000Z
SPACECRAFT_ORIENTATION = (0.0,1.0,0.0)
^MEX_ORIENTATION_DESC = "MEX_ORIENTATION_DESC.TXT"
SPACECRAFT_POINTING_MODE = INERT
^MEX_POINTING_DESC = "MEX_POINTING_DESC.TXT"
RIGHT_ASCENSION = 74.096
DECLINATION = 35.699
OFFSET_ANGLE = -1e+32
SPACECRAFT_SOLAR_DISTANCE = 2.08819e+08
TARGET_NAME = MARS
/* CAMERA DATA ELEMENTS */
DETECTOR_TEMPERATURE = 19.5939
FOCAL_PLANE_TEMPERATURE = 12.0496
INST_CMPRS_NAME = "DISCRETE COSINE TRANSFORMATION (DCT)"
INST_CMPRS_RATIO = 12.4301
INST_CMPRS_QUALITY = 0
INST_CMPRS_QUANTZ_TBL_ID = 0
INSTRUMENT_TEMPERATURE = 12.6613
LENS_TEMPERATURE = 12.0496
MACROPIXEL_SIZE = 2
MISSING_FRAMES = 0
PIXEL_SUBSAMPLING_FLAG = N
SIGNAL_CHAIN_ID = 1
/* RADIOMETRIC DATA ELEMENTS */
BANDWIDTH = 178.0
CENTER_FILTER_WAVELENGTH = 679.0
RADIANCE_OFFSET = 2.80099
RADIANCE_SCALING_FACTOR = 0.00803727
REFLECTANCE_SCALING_FACTOR = 0.0001856
MEX:REFLECTANCE_OFFSET = 0.0646814
/* IMAGE OBJECT DEFINITIONS */
OBJECT = IMAGE
  INTERCHANGE_FORMAT = BINARY
  LINES = 22815
  LINE_SAMPLES = 2909
  SAMPLE_TYPE = UNSIGNED_INTEGER
  SAMPLE_BITS = 8
  BANDS = 1
  BAND_STORAGE_TYPE = BAND_SEQUENTIAL
  MAXIMUM = 255
  MEAN = 88.1849
  MINIMUM = 1
  STANDARD_DEVIATION = 25.0718
END_OBJECT = IMAGE
/* MAP OBJECT DEFINITIONS */
OBJECT = IMAGE_MAP_PROJECTION
  ^DATA_SET_MAP_PROJECTION_CATALOG= "DSMAP.CAT"
  A_AXIS_RADIUS = 3396.0
  B_AXIS_RADIUS = 3396.0
  C_AXIS_RADIUS = 3396.0
  CENTER_LATITUDE = 0.0
  CENTER_LONGITUDE = 327.0
  COORDINATE_SYSTEM_NAME = PLANETOGRAPHIC
  COORDINATE_SYSTEM_TYPE = "BODY-FIXED ROTATING"
  EASTERNMOST_LONGITUDE = 327.118
  FIRST_STANDARD_PARALLEL = "N/A"
  LINE_FIRST_PIXEL = 1
  LINE_LAST_PIXEL = 22815
  LINE_PROJECTION_OFFSET = -23283.25
  MAP_PROJECTION_ROTATION = 0.0
  MAP_PROJECTION_TYPE = SINUSOIDAL
  MAP_RESOLUTION = 2370.85521546667
  MAP_SCALE = 0.025
  MAXIMUM_LATITUDE = -9.78187
  MINIMUM_LATITUDE = -19.4567
  POSITIVE_LONGITUDE_DIRECTION = EAST
  REFERENCE_LATITUDE = "N/A"
  REFERENCE_LONGITUDE = "N/A"
  SAMPLE_FIRST_PIXEL = 1
  SAMPLE_LAST_PIXEL = 2909
  SAMPLE_PROJECTION_OFFSET = 2620.75
  SECOND_STANDARD_PARALLEL = "N/A"
  WESTERNMOST_LONGITUDE = 325.834
END_OBJECT = IMAGE_MAP_PROJECTION
END
