PDS_VERSION_ID = PDS3
/* FILE DATA ELEMENTS */
RECORD_TYPE = UNDEFINED
/* POINTERS TO DATA OBJECTS */
^IMAGE = ("HI770_0000_P24.TIF")
/* IDENTIFICATION DATA ELEMENTS */
DATA_SET_ID = "MEX-M-HRSC-4-REFDR-MAPPROJECT-EXT6-V4.0"
DATA_SET_NAME = "MARS EXPRESS HRSC MAP PROJECTED REFDR EXTENSION6 V4.0"
DETECTOR_ID = MEX_HRSC_P2
EVENT_TYPE = "MARS-REGIONAL-MAPPING-Vo-La"
INSTRUMENT_HOST_ID = MEX
INSTRUMENT_HOST_NAME = "MARS EXPRESS"
INSTRUMENT_ID = HRSC
INSTRUMENT_NAME = "HIGH RESOLUTION STEREO CAMERA"
MISSION_NAME = "MARS EXPRESS"
MISSION_PHASE_NAME = ME_Phase_39
PROCESSING_LEVEL_ID = 4
PRODUCT_CREATION_TIME = 2023-01-29T14:35:52.000Z
PRODUCT_ID = "HI770_0000_P24.TIF"
RELEASE_ID = 0005
REVISION_ID = 0000
/* QUALITY DATA ELEMENTS */
DATA_QUALITY_ID = 1
DATA_QUALITY_DESC = "Data calculated based on original SPICE kernels"
/* TIME DATA ELEMENTS */
SPACECRAFT_CLOCK_START_COUNT = "1/0489213239.25722"
SPACECRAFT_CLOCK_STOP_COUNT = "1/0489213436.58273"
START_TIME = 2018-11-02T04:34:39.464Z
STOP_TIME = 2018-11-02T04:36:55.806Z
/* ORBITAL DATA ELEMENTS */
ASCENDING_NODE_LONGITUDE = 222.02
MAXIMUM_RESOLUTION = 0.0274
FOOTPRINT_POINT_LATITUDE = (-12.4528,-12.4608,-12.4668,-12.4721, -12.4723,-12.4686,-12.0774,-11.5884, -11.2953,-10.9042,-10.5133,-10.1224, -9.82851,-9.53475,-9.33879,-9.14266, -8.84862,-8.65244,-8.35935,-8.16108, -7.96365,-7.76731,-7.5712,-7.27565, -7.07877,-6.78358,-6.58769,-6.39177, -6.19558,-5.99912,-5.80214,-5.60515, -5.40762,-5.2105,-5.01324,-4.81593, -4.51992,-4.32248,-4.12488,-3.92738, -3.72978,-3.5319,-3.33445,-3.03776, -2.74161,-2.64274,-2.63601,-2.63208, -2.62524,-2.62044,-2.61157,-2.61128, -2.61165,-2.90859,-3.10652,-3.30382, -3.50195,-3.70032,-3.89781,-4.09451, -4.29227,-4.58884,-4.78625,-4.98365, -5.27964,-5.47689,-5.6742,-5.87133, -6.06837,-6.36391,-6.56059,-6.75745, -6.95407,-7.15066,-7.34726,-7.54356, -7.74007,-7.93658,-8.1329,-8.32917, -8.52549,-8.72182,-8.91811,-9.11437, -9.3105,-9.50647,-9.70247,-9.89838, -10.0942,-10.29,-10.4859,-10.6818, -10.8776,-11.269,-11.4648,-11.7584, -11.9541,-12.3452,-12.443,-12.4528)
FOOTPRINT_POINT_LONGITUDE = (176.982,176.543,176.176,175.811, 175.799,175.792,175.792,175.791,175.791 ,175.791,175.79,175.79,175.789,175.788, 175.787,175.786,175.785,175.784,175.784 ,175.782,175.781,175.78,175.779,175.777 ,175.776,175.774,175.773,175.773, 175.772,175.771,175.769,175.768,175.767 ,175.766,175.764,175.763,175.761, 175.759,175.758,175.757,175.755,175.754 ,175.752,175.75,175.748,175.747,175.747 ,175.994,176.341,176.578,177.018,177.03 ,177.035,177.032,177.03,177.028,177.026 ,177.024,177.022,177.021,177.019, 177.017,177.015,177.013,177.011,177.01, 177.008,177.007,177.005,177.003,177.002 ,177.001,177.0,176.999,176.998,176.998, 176.997,176.996,176.995,176.995,176.994 ,176.993,176.992,176.992,176.991, 176.991,176.991,176.99,176.99,176.99, 176.99,176.99,176.99,176.99,176.99, 176.99,176.99,176.991,176.991,176.982)
ORBIT_NUMBER = 18770
ORBITAL_ECCENTRICITY = 0.578
ORBITAL_INCLINATION = 86.96
ORBITAL_SEMIMAJOR_AXIS = 8837.89
PERIAPSIS_ALTITUDE = 338.8
PERIAPSIS_ARGUMENT_ANGLE = 344.78
PERIAPSIS_TIME = 2018-11-02T04:34:02.000Z
SPACECRAFT_ORIENTATION = (0.0,1.0,0.0)
^MEX_ORIENTATION_DESC = "MEX_ORIENTATION_DESC.TXT"
SPACECRAFT_POINTING_MODE = INERT
^MEX_POINTING_DESC = "MEX_POINTING_DESC.TXT"
RIGHT_ASCENSION = 73.362
DECLINATION = 36.321
OFFSET_ANGLE = -1e+32
SPACECRAFT_SOLAR_DISTANCE = 2.08956e+08
TARGET_NAME = MARS
/* CAMERA DATA ELEMENTS */
DETECTOR_TEMPERATURE = 18.5744
FOCAL_PLANE_TEMPERATURE = 11.0301
INST_CMPRS_NAME = "DISCRETE COSINE TRANSFORMATION (DCT)"
INST_CMPRS_RATIO = 6.16268
INST_CMPRS_QUALITY = 0
INST_CMPRS_QUANTZ_TBL_ID = 0
INSTRUMENT_TEMPERATURE = 12.8652
LENS_TEMPERATURE = 11.0301
MACROPIXEL_SIZE = 2
MISSING_FRAMES = 0
PIXEL_SUBSAMPLING_FLAG = N
SIGNAL_CHAIN_ID = 3
/* RADIOMETRIC DATA ELEMENTS */
BANDWIDTH = 177.0
CENTER_FILTER_WAVELENGTH = 676.5
RADIANCE_OFFSET = 3.20722
RADIANCE_SCALING_FACTOR = 0.00904685
REFLECTANCE_SCALING_FACTOR = 0.000209443
MEX:REFLECTANCE_OFFSET = 0.07425
/* IMAGE OBJECT DEFINITIONS */
OBJECT = IMAGE
  INTERCHANGE_FORMAT = BINARY
  LINES = 23345
  LINE_SAMPLES = 3110
  SAMPLE_TYPE = UNSIGNED_INTEGER
  SAMPLE_BITS = 8
  BANDS = 1
  BAND_STORAGE_TYPE = BAND_SEQUENTIAL
  MAXIMUM = 255
  MEAN = 99.039
  MINIMUM = 1
  STANDARD_DEVIATION = 38.4019
END_OBJECT = IMAGE
/* MAP OBJECT DEFINITIONS */
OBJECT = IMAGE_MAP_PROJECTION
  ^DATA_SET_MAP_PROJECTION_CATALOG= "DSMAP.CAT"
  A_AXIS_RADIUS = 3396.0
  B_AXIS_RADIUS = 3396.0
  C_AXIS_RADIUS = 3396.0
  CENTER_LATITUDE = 0.0
  CENTER_LONGITUDE = 176.0
  COORDINATE_SYSTEM_NAME = PLANETOGRAPHIC
  COORDINATE_SYSTEM_TYPE = "BODY-FIXED ROTATING"
  EASTERNMOST_LONGITUDE = 177.035
  FIRST_STANDARD_PARALLEL = "N/A"
  LINE_FIRST_PIXEL = 1
  LINE_LAST_PIXEL = 23345
  LINE_PROJECTION_OFFSET = -6208.75
  MAP_PROJECTION_ROTATION = 0.0
  MAP_PROJECTION_TYPE = SINUSOIDAL
  MAP_RESOLUTION = 2370.85521546667
  MAP_SCALE = 0.025
  MAXIMUM_LATITUDE = -2.61128
  MINIMUM_LATITUDE = -12.4723
  POSITIVE_LONGITUDE_DIRECTION = EAST
  REFERENCE_LATITUDE = "N/A"
  REFERENCE_LONGITUDE = "N/A"
  SAMPLE_FIRST_PIXEL = 1
  SAMPLE_LAST_PIXEL = 3110
  SAMPLE_PROJECTION_OFFSET = 604.75
  SECOND_STANDARD_PARALLEL = "N/A"
  WESTERNMOST_LONGITUDE = 175.747
END_OBJECT = IMAGE_MAP_PROJECTION
END
