PDS_VERSION_ID = PDS3
/* FILE DATA ELEMENTS */
RECORD_TYPE = UNDEFINED
/* POINTERS TO DATA OBJECTS */
^IMAGE = ("HI771_0000_P24.TIF")
/* IDENTIFICATION DATA ELEMENTS */
DATA_SET_ID = "MEX-M-HRSC-4-REFDR-MAPPROJECT-EXT6-V4.0"
DATA_SET_NAME = "MARS EXPRESS HRSC MAP PROJECTED REFDR EXTENSION6 V4.0"
DETECTOR_ID = MEX_HRSC_P2
EVENT_TYPE = "MARS-REGIONAL-MAPPING-Im-Fl-Lc"
INSTRUMENT_HOST_ID = MEX
INSTRUMENT_HOST_NAME = "MARS EXPRESS"
INSTRUMENT_ID = HRSC
INSTRUMENT_NAME = "HIGH RESOLUTION STEREO CAMERA"
MISSION_NAME = "MARS EXPRESS"
MISSION_PHASE_NAME = ME_Phase_39
PROCESSING_LEVEL_ID = 4
PRODUCT_CREATION_TIME = 2023-01-29T14:35:52.000Z
PRODUCT_ID = "HI771_0000_P24.TIF"
RELEASE_ID = 0005
REVISION_ID = 0000
/* QUALITY DATA ELEMENTS */
DATA_QUALITY_ID = 1
DATA_QUALITY_DESC = "Data calculated based on original SPICE kernels"
/* TIME DATA ELEMENTS */
SPACECRAFT_CLOCK_START_COUNT = "1/0489238229.24924"
SPACECRAFT_CLOCK_STOP_COUNT = "1/0489238457.47084"
START_TIME = 2018-11-02T11:31:10.452Z
STOP_TIME = 2018-11-02T11:34:00.286Z
/* ORBITAL DATA ELEMENTS */
ASCENDING_NODE_LONGITUDE = 222.01
MAXIMUM_RESOLUTION = 0.0283
FOOTPRINT_POINT_LATITUDE = (-21.1314,-21.1331,-21.1333,-21.1318, -21.1317,-21.1206,-20.7643,-20.2843, -20.0382,-19.5614,-19.3188,-19.0771, -18.8358,-18.5944,-18.3513,-17.9863, -17.5033,-17.2604,-17.0165,-16.6508, -16.4072,-16.1642,-15.9213,-15.6715, -15.4275,-14.9487,-14.704,-14.3408, -14.0969,-13.8477,-13.6016,-13.3562, -12.9881,-12.6193,-12.3736,-12.0041, -11.7578,-11.5108,-11.2643,-11.0168, -10.7697,-10.5229,-10.1495,-9.90018, -9.6527,-9.28141,-9.03501,-8.91038, -8.87229,-8.87001,-8.86901,-8.86521, -8.85996,-8.85961,-8.86004,-9.2331, -9.48255,-9.73057,-9.97884,-10.2277, -10.4758,-10.7241,-11.0957,-11.3437, -11.5907,-11.8372,-12.0835,-12.3303, -12.5766,-12.8221,-13.1897,-13.5583, -13.8063,-14.1728,-14.4174,-14.6607, -15.0267,-15.2706,-15.5142,-15.758, -16.0016,-16.3669,-16.6109,-16.8538, -17.0971,-17.341,-17.5837,-17.827, -18.0695,-18.4343,-18.676,-19.0387, -19.2808,-19.5228,-19.8851,-20.2463, -20.4874,-20.9703,-21.0901,-21.1314)
FOOTPRINT_POINT_LONGITUDE = (74.6671,74.2912,73.7649,73.3883, 73.3758,73.3659,73.373,73.3795,73.3796, 73.3872,73.3889,73.391,73.3932,73.3954, 73.3967,73.3985,73.4023,73.4035,73.4043 ,73.4055,73.4063,73.4073,73.4084, 73.4068,73.4074,73.4117,73.4118,73.4133 ,73.4137,73.4123,73.4119,73.4117, 73.4113,73.4106,73.4102,73.4092,73.4086 ,73.4077,73.4069,73.4058,73.4048, 73.4039,73.4016,73.3999,73.3987,73.3969 ,73.3959,73.395,73.3947,73.715,73.9864, 74.3077,74.6545,74.6669,74.6714,74.6703 ,74.6693,74.6687,74.6681,74.6672, 74.6666,74.6658,74.6649,74.6642,74.6637 ,74.6634,74.6631,74.6626,74.6623, 74.6622,74.6622,74.6618,74.6608,74.661, 74.661,74.6615,74.6617,74.6619,74.6622, 74.6623,74.6625,74.6627,74.6627,74.663, 74.6632,74.6631,74.6634,74.6634,74.6638 ,74.6637,74.6643,74.665,74.6653,74.6656 ,74.6663,74.6675,74.668,74.6687,74.6693 ,74.6671)
ORBIT_NUMBER = 18771
ORBITAL_ECCENTRICITY = 0.578
ORBITAL_INCLINATION = 86.96
ORBITAL_SEMIMAJOR_AXIS = 8846.4
PERIAPSIS_ALTITUDE = 337.7
PERIAPSIS_ARGUMENT_ANGLE = 344.58
PERIAPSIS_TIME = 2018-11-02T11:32:57.000Z
SPACECRAFT_ORIENTATION = (0.0,1.0,0.0)
^MEX_ORIENTATION_DESC = "MEX_ORIENTATION_DESC.TXT"
SPACECRAFT_POINTING_MODE = INERT
^MEX_POINTING_DESC = "MEX_POINTING_DESC.TXT"
RIGHT_ASCENSION = 73.207
DECLINATION = 36.463
OFFSET_ANGLE = -1e+32
SPACECRAFT_SOLAR_DISTANCE = 2.08984e+08
TARGET_NAME = MARS
/* CAMERA DATA ELEMENTS */
DETECTOR_TEMPERATURE = 19.7978
FOCAL_PLANE_TEMPERATURE = 10.6223
INST_CMPRS_NAME = "DISCRETE COSINE TRANSFORMATION (DCT)"
INST_CMPRS_RATIO = 7.05131
INST_CMPRS_QUALITY = 0
INST_CMPRS_QUANTZ_TBL_ID = 0
INSTRUMENT_TEMPERATURE = 12.6613
LENS_TEMPERATURE = 11.0301
MACROPIXEL_SIZE = 2
MISSING_FRAMES = 0
PIXEL_SUBSAMPLING_FLAG = N
SIGNAL_CHAIN_ID = 3
/* RADIOMETRIC DATA ELEMENTS */
BANDWIDTH = 177.0
CENTER_FILTER_WAVELENGTH = 676.5
RADIANCE_OFFSET = 2.50388
RADIANCE_SCALING_FACTOR = 0.0116947
REFLECTANCE_SCALING_FACTOR = 0.000270816
MEX:REFLECTANCE_OFFSET = 0.0579826
/* IMAGE OBJECT DEFINITIONS */
OBJECT = IMAGE
  INTERCHANGE_FORMAT = BINARY
  LINES = 29118
  LINE_SAMPLES = 2904
  SAMPLE_TYPE = UNSIGNED_INTEGER
  SAMPLE_BITS = 8
  BANDS = 1
  BAND_STORAGE_TYPE = BAND_SEQUENTIAL
  MAXIMUM = 255
  MEAN = 91.9927
  MINIMUM = 1
  STANDARD_DEVIATION = 34.6537
END_OBJECT = IMAGE
/* MAP OBJECT DEFINITIONS */
OBJECT = IMAGE_MAP_PROJECTION
  ^DATA_SET_MAP_PROJECTION_CATALOG= "DSMAP.CAT"
  A_AXIS_RADIUS = 3396.0
  B_AXIS_RADIUS = 3396.0
  C_AXIS_RADIUS = 3396.0
  CENTER_LATITUDE = 0.0
  CENTER_LONGITUDE = 74.0
  COORDINATE_SYSTEM_NAME = PLANETOGRAPHIC
  COORDINATE_SYSTEM_TYPE = "BODY-FIXED ROTATING"
  EASTERNMOST_LONGITUDE = 74.67140000000001
  FIRST_STANDARD_PARALLEL = "N/A"
  LINE_FIRST_PIXEL = 1
  LINE_LAST_PIXEL = 29118
  LINE_PROJECTION_OFFSET = -20940.75
  MAP_PROJECTION_ROTATION = 0.0
  MAP_PROJECTION_TYPE = SINUSOIDAL
  MAP_RESOLUTION = 2370.85521546667
  MAP_SCALE = 0.025
  MAXIMUM_LATITUDE = -8.85961
  MINIMUM_LATITUDE = -21.1333
  POSITIVE_LONGITUDE_DIRECTION = EAST
  REFERENCE_LATITUDE = "N/A"
  REFERENCE_LONGITUDE = "N/A"
  SAMPLE_FIRST_PIXEL = 1
  SAMPLE_LAST_PIXEL = 2904
  SAMPLE_PROJECTION_OFFSET = 1372.25
  SECOND_STANDARD_PARALLEL = "N/A"
  WESTERNMOST_LONGITUDE = 73.3659
END_OBJECT = IMAGE_MAP_PROJECTION
END
