PDS_VERSION_ID = PDS3
/* FILE DATA ELEMENTS */
RECORD_TYPE = UNDEFINED
/* POINTERS TO DATA OBJECTS */
^IMAGE = ("HI773_0000_S14.TIF")
/* IDENTIFICATION DATA ELEMENTS */
DATA_SET_ID = "MEX-M-HRSC-4-REFDR-MAPPROJECT-EXT6-V4.0"
DATA_SET_NAME = "MARS EXPRESS HRSC MAP PROJECTED REFDR EXTENSION6 V4.0"
DETECTOR_ID = MEX_HRSC_S1
EVENT_TYPE = "MARS-LOCAL-STEREO-Vo"
INSTRUMENT_HOST_ID = MEX
INSTRUMENT_HOST_NAME = "MARS EXPRESS"
INSTRUMENT_ID = HRSC
INSTRUMENT_NAME = "HIGH RESOLUTION STEREO CAMERA"
MISSION_NAME = "MARS EXPRESS"
MISSION_PHASE_NAME = ME_Phase_39
PROCESSING_LEVEL_ID = 4
PRODUCT_CREATION_TIME = 2023-01-29T14:35:52.000Z
PRODUCT_ID = "HI773_0000_S14.TIF"
RELEASE_ID = 0005
REVISION_ID = 0000
/* QUALITY DATA ELEMENTS */
DATA_QUALITY_ID = 1
DATA_QUALITY_DESC = "Data calculated based on original SPICE kernels"
/* TIME DATA ELEMENTS */
SPACECRAFT_CLOCK_START_COUNT = "1/0489288450.24000"
SPACECRAFT_CLOCK_STOP_COUNT = "1/0489288617.08359"
START_TIME = 2018-11-03T01:28:59.783Z
STOP_TIME = 2018-11-03T01:30:46.525Z
/* ORBITAL DATA ELEMENTS */
ASCENDING_NODE_LONGITUDE = 221.98
MAXIMUM_RESOLUTION = 0.0138
FOOTPRINT_POINT_LATITUDE = (-25.0658,-25.0594,-25.0542,-25.049, -25.0438,-25.0386,-25.0333,-25.0329, -25.0358,-24.8782,-24.7208,-24.4848, -24.3276,-24.1705,-24.0134,-23.8565, -23.6999,-23.5432,-23.3082,-23.1517, -22.9955,-22.7612,-22.6049,-22.4488, -22.293,-22.1367,-21.9033,-21.6698, -21.5142,-21.3588,-21.2024,-21.047, -20.8918,-20.659,-20.4261,-20.271, -20.0384,-19.8833,-19.7285,-19.5737, -19.4189,-19.1872,-18.8781,-18.5694, -18.3381,-18.0297,-17.7219,-17.3371, -17.2601,-17.2415,-17.2459,-17.2504, -17.2553,-17.2613,-17.2687,-17.269, -17.2694,-17.5003,-17.8084,-18.0395, -18.2708,-18.502,-18.8108,-18.9656, -19.1201,-19.3521,-19.5068,-19.6615, -19.8164,-20.0489,-20.2039,-20.3589, -20.5141,-20.7471,-20.9802,-21.2134, -21.369,-21.5244,-21.6802,-21.8359, -21.9918,-22.1478,-22.3038,-22.4599, -22.6161,-22.7723,-23.007,-23.1634, -23.3199,-23.4766,-23.6336,-23.869, -24.1046,-24.3406,-24.4978,-24.6551, -24.8125,-24.9701,-25.049,-25.0658)
FOOTPRINT_POINT_LONGITUDE = (231.023,230.748,230.53,230.312,230.096 ,229.882,229.668,229.655,229.648,229.65 ,229.652,229.654,229.656,229.657, 229.659,229.66,229.661,229.663,229.665, 229.666,229.667,229.669,229.671,229.672 ,229.673,229.674,229.676,229.677, 229.678,229.679,229.68,229.681,229.682, 229.683,229.685,229.686,229.687,229.688 ,229.688,229.689,229.69,229.691,229.692 ,229.693,229.694,229.695,229.696, 229.697,229.697,229.697,229.884,230.072 ,230.285,230.559,230.884,230.896, 230.902,230.905,230.908,230.911,230.914 ,230.916,230.92,230.922,230.924,230.927 ,230.929,230.932,230.934,230.937, 230.939,230.941,230.944,230.947,230.951 ,230.954,230.957,230.959,230.962, 230.964,230.967,230.97,230.972,230.975, 230.977,230.98,230.984,230.987,230.99, 230.993,230.996,231.001,231.005,231.01, 231.013,231.016,231.019,231.023,231.024 ,231.023)
ORBIT_NUMBER = 18773
ORBITAL_ECCENTRICITY = 0.578
ORBITAL_INCLINATION = 86.95
ORBITAL_SEMIMAJOR_AXIS = 8848.17
PERIAPSIS_ALTITUDE = 337.82
PERIAPSIS_ARGUMENT_ANGLE = 344.22
PERIAPSIS_TIME = 2018-11-03T01:30:48.000Z
SPACECRAFT_ORIENTATION = (0.0,1.0,0.0)
^MEX_ORIENTATION_DESC = "MEX_ORIENTATION_DESC.TXT"
SPACECRAFT_POINTING_MODE = INERT
^MEX_POINTING_DESC = "MEX_POINTING_DESC.TXT"
RIGHT_ASCENSION = 72.882
DECLINATION = 36.746
OFFSET_ANGLE = -1e+32
SPACECRAFT_SOLAR_DISTANCE = 2.09041e+08
TARGET_NAME = MARS
/* CAMERA DATA ELEMENTS */
DETECTOR_TEMPERATURE = 18.3705
FOCAL_PLANE_TEMPERATURE = 11.8457
INST_CMPRS_NAME = "DISCRETE COSINE TRANSFORMATION (DCT)"
INST_CMPRS_RATIO = 5.64523
INST_CMPRS_QUALITY = 0
INST_CMPRS_QUANTZ_TBL_ID = 0
INSTRUMENT_TEMPERATURE = 12.2535
LENS_TEMPERATURE = 12.2535
MACROPIXEL_SIZE = 1
MISSING_FRAMES = 0
PIXEL_SUBSAMPLING_FLAG = N
SIGNAL_CHAIN_ID = 2
/* RADIOMETRIC DATA ELEMENTS */
BANDWIDTH = 180.0
CENTER_FILTER_WAVELENGTH = 677.0
RADIANCE_OFFSET = 3.45864
RADIANCE_SCALING_FACTOR = 0.0139299
REFLECTANCE_SCALING_FACTOR = 0.000317578
MEX:REFLECTANCE_OFFSET = 0.0788512
/* IMAGE OBJECT DEFINITIONS */
OBJECT = IMAGE
  INTERCHANGE_FORMAT = BINARY
  LINES = 37017
  LINE_SAMPLES = 5912
  SAMPLE_TYPE = UNSIGNED_INTEGER
  SAMPLE_BITS = 8
  BANDS = 1
  BAND_STORAGE_TYPE = BAND_SEQUENTIAL
  MAXIMUM = 255
  MEAN = 112.108
  MINIMUM = 1
  STANDARD_DEVIATION = 18.1473
END_OBJECT = IMAGE
/* MAP OBJECT DEFINITIONS */
OBJECT = IMAGE_MAP_PROJECTION
  ^DATA_SET_MAP_PROJECTION_CATALOG= "DSMAP.CAT"
  A_AXIS_RADIUS = 3396.0
  B_AXIS_RADIUS = 3396.0
  C_AXIS_RADIUS = 3396.0
  CENTER_LATITUDE = 0.0
  CENTER_LONGITUDE = 230.0
  COORDINATE_SYSTEM_NAME = PLANETOGRAPHIC
  COORDINATE_SYSTEM_TYPE = "BODY-FIXED ROTATING"
  EASTERNMOST_LONGITUDE = 231.024
  FIRST_STANDARD_PARALLEL = "N/A"
  LINE_FIRST_PIXEL = 1
  LINE_LAST_PIXEL = 37017
  LINE_PROJECTION_OFFSET = -81904.0
  MAP_PROJECTION_ROTATION = 0.0
  MAP_PROJECTION_TYPE = SINUSOIDAL
  MAP_RESOLUTION = 4741.71043093333
  MAP_SCALE = 0.0125
  MAXIMUM_LATITUDE = -17.2415
  MINIMUM_LATITUDE = -25.0658
  POSITIVE_LONGITUDE_DIRECTION = EAST
  REFERENCE_LATITUDE = "N/A"
  REFERENCE_LONGITUDE = "N/A"
  SAMPLE_FIRST_PIXEL = 1
  SAMPLE_LAST_PIXEL = 5912
  SAMPLE_PROJECTION_OFFSET = 1572.0
  SECOND_STANDARD_PARALLEL = "N/A"
  WESTERNMOST_LONGITUDE = 229.648
END_OBJECT = IMAGE_MAP_PROJECTION
END
