PDS_VERSION_ID = PDS3
/* FILE DATA ELEMENTS */
RECORD_TYPE = UNDEFINED
/* POINTERS TO DATA OBJECTS */
^IMAGE = ("HI778_0000_BL4.TIF")
/* IDENTIFICATION DATA ELEMENTS */
DATA_SET_ID = "MEX-M-HRSC-4-REFDR-MAPPROJECT-EXT6-V4.0"
DATA_SET_NAME = "MARS EXPRESS HRSC MAP PROJECTED REFDR EXTENSION6 V4.0"
DETECTOR_ID = MEX_HRSC_BLUE
EVENT_TYPE = "MARS-REGIONAL-MAPPING-Im-Fl-La"
INSTRUMENT_HOST_ID = MEX
INSTRUMENT_HOST_NAME = "MARS EXPRESS"
INSTRUMENT_ID = HRSC
INSTRUMENT_NAME = "HIGH RESOLUTION STEREO CAMERA"
MISSION_NAME = "MARS EXPRESS"
MISSION_PHASE_NAME = ME_Phase_39
PROCESSING_LEVEL_ID = 4
PRODUCT_CREATION_TIME = 2023-01-29T14:35:52.000Z
PRODUCT_ID = "HI778_0000_BL4.TIF"
RELEASE_ID = 0005
REVISION_ID = 0000
/* QUALITY DATA ELEMENTS */
DATA_QUALITY_ID = 1
DATA_QUALITY_DESC = "Data calculated based on original SPICE kernels"
/* TIME DATA ELEMENTS */
SPACECRAFT_CLOCK_START_COUNT = "1/0489414155.25682"
SPACECRAFT_CLOCK_STOP_COUNT = "1/0489414377.15277"
START_TIME = 2018-11-04T12:23:31.190Z
STOP_TIME = 2018-11-04T12:26:15.197Z
/* ORBITAL DATA ELEMENTS */
ASCENDING_NODE_LONGITUDE = 221.88
MAXIMUM_RESOLUTION = 0.0547
FOOTPRINT_POINT_LATITUDE = (-25.0769,-25.0776,-25.077,-25.0748, -25.0747,-25.0703,-24.8367,-24.3703, -23.9031,-23.5525,-23.2019,-22.968, -22.6173,-22.3832,-22.1494,-21.7984, -21.4482,-21.2139,-20.9799,-20.7461, -20.5109,-20.1604,-19.9256,-19.6914, -19.3396,-19.1049,-18.7532,-18.5184, -18.2832,-17.9309,-17.6959,-17.461, -17.1083,-16.7551,-16.5198,-16.2839, -16.0485,-15.8133,-15.5777,-15.3414, -15.1053,-14.8708,-14.6337,-14.2791, -14.0398,-13.8063,-13.5689,-13.4504, -13.3338,-13.334,-13.3334,-13.3312, -13.3311,-13.332,-13.5688,-13.8061, -14.0428,-14.2798,-14.631,-14.8699, -15.1059,-15.3426,-15.578,-15.8136, -16.0496,-16.2852,-16.6363,-16.8722, -17.1102,-17.3448,-17.5798,-17.815, -18.1654,-18.5194,-18.7552,-18.9899, -19.224,-19.459,-19.6938,-19.9283, -20.1623,-20.397,-20.7484,-20.9833, -21.2166,-21.5677,-21.8017,-22.0359, -22.387,-22.6209,-22.8548,-23.0888, -23.3227,-23.557,-24.0235,-24.2573, -24.4917,-24.8423,-24.9592,-25.0769)
FOOTPRINT_POINT_LONGITUDE = (79.8582,79.4562,79.0041,78.5265, 78.5139,78.5033,78.5078,78.5182,78.5268 ,78.5326,78.5383,78.5418,78.5472, 78.5503,78.5537,78.5584,78.5637,78.5663 ,78.5691,78.572,78.5738,78.5782,78.5801 ,78.5825,78.5855,78.5874,78.5903, 78.5919,78.5933,78.5956,78.597,78.5983, 78.6002,78.6016,78.6026,78.6032,78.6041 ,78.605,78.6057,78.606,78.6064,78.6074, 78.6073,78.6074,78.6063,78.6075,78.6072 ,78.607,78.6069,79.0424,79.4443,79.8236 ,79.8352,79.839,79.839,79.8386,79.8385, 79.8383,79.8401,79.8387,79.8389,79.8387 ,79.8391,79.8395,79.8395,79.8398, 79.8416,79.8417,79.8404,79.8412,79.8417 ,79.842,79.8443,79.8438,79.8437,79.8442 ,79.8452,79.8455,79.8459,79.8465, 79.8476,79.8479,79.849,79.8491,79.8507, 79.852,79.8529,79.8534,79.8546,79.8554, 79.8563,79.8571,79.8579,79.858,79.8615, 79.8623,79.8621,79.8633,79.8638, 79.8582)
ORBIT_NUMBER = 18778
ORBITAL_ECCENTRICITY = 0.578
ORBITAL_INCLINATION = 86.96
ORBITAL_SEMIMAJOR_AXIS = 8845.39
PERIAPSIS_ALTITUDE = 337.03
PERIAPSIS_ARGUMENT_ANGLE = 343.37
PERIAPSIS_TIME = 2018-11-04T12:25:46.000Z
SPACECRAFT_ORIENTATION = (0.0,1.0,0.0)
^MEX_ORIENTATION_DESC = "MEX_ORIENTATION_DESC.TXT"
SPACECRAFT_POINTING_MODE = INERT
^MEX_POINTING_DESC = "MEX_POINTING_DESC.TXT"
RIGHT_ASCENSION = 72.129
DECLINATION = 37.37
OFFSET_ANGLE = -1e+32
SPACECRAFT_SOLAR_DISTANCE = 2.09185e+08
TARGET_NAME = MARS
/* CAMERA DATA ELEMENTS */
DETECTOR_TEMPERATURE = 18.9822
FOCAL_PLANE_TEMPERATURE = 10.8262
INST_CMPRS_NAME = "DISCRETE COSINE TRANSFORMATION (DCT)"
INST_CMPRS_RATIO = 3.87887
INST_CMPRS_QUALITY = 0
INST_CMPRS_QUANTZ_TBL_ID = 0
INSTRUMENT_TEMPERATURE = 12.6613
LENS_TEMPERATURE = 10.8262
MACROPIXEL_SIZE = 4
MISSING_FRAMES = 0
PIXEL_SUBSAMPLING_FLAG = N
SIGNAL_CHAIN_ID = 2
/* RADIOMETRIC DATA ELEMENTS */
BANDWIDTH = 76.0
CENTER_FILTER_WAVELENGTH = 444.0
RADIANCE_OFFSET = 0.501558
RADIANCE_SCALING_FACTOR = 0.00145219
REFLECTANCE_SCALING_FACTOR = 6.52887e-05
MEX:REFLECTANCE_OFFSET = 0.0225494
/* IMAGE OBJECT DEFINITIONS */
OBJECT = IMAGE
  INTERCHANGE_FORMAT = BINARY
  LINES = 13930
  LINE_SAMPLES = 1501
  SAMPLE_TYPE = UNSIGNED_INTEGER
  SAMPLE_BITS = 8
  BANDS = 1
  BAND_STORAGE_TYPE = BAND_SEQUENTIAL
  MAXIMUM = 255
  MEAN = 129.534
  MINIMUM = 1
  STANDARD_DEVIATION = 28.01
END_OBJECT = IMAGE
/* MAP OBJECT DEFINITIONS */
OBJECT = IMAGE_MAP_PROJECTION
  ^DATA_SET_MAP_PROJECTION_CATALOG= "DSMAP.CAT"
  A_AXIS_RADIUS = 3396.0
  B_AXIS_RADIUS = 3396.0
  C_AXIS_RADIUS = 3396.0
  CENTER_LATITUDE = 0.0
  CENTER_LONGITUDE = 79.0
  COORDINATE_SYSTEM_NAME = PLANETOGRAPHIC
  COORDINATE_SYSTEM_TYPE = "BODY-FIXED ROTATING"
  EASTERNMOST_LONGITUDE = 79.8638
  FIRST_STANDARD_PARALLEL = "N/A"
  LINE_FIRST_PIXEL = 1
  LINE_LAST_PIXEL = 13930
  LINE_PROJECTION_OFFSET = -15797.375
  MAP_PROJECTION_ROTATION = 0.0
  MAP_PROJECTION_TYPE = SINUSOIDAL
  MAP_RESOLUTION = 1185.42760773333
  MAP_SCALE = 0.05
  MAXIMUM_LATITUDE = -13.3311
  MINIMUM_LATITUDE = -25.0776
  POSITIVE_LONGITUDE_DIRECTION = EAST
  REFERENCE_LATITUDE = "N/A"
  REFERENCE_LONGITUDE = "N/A"
  SAMPLE_FIRST_PIXEL = 1
  SAMPLE_LAST_PIXEL = 1501
  SAMPLE_PROJECTION_OFFSET = 537.875
  SECOND_STANDARD_PARALLEL = "N/A"
  WESTERNMOST_LONGITUDE = 78.5033
END_OBJECT = IMAGE_MAP_PROJECTION
END
