PDS_VERSION_ID = PDS3
/* FILE DATA ELEMENTS */
RECORD_TYPE = UNDEFINED
/* POINTERS TO DATA OBJECTS */
^IMAGE = ("HI778_0000_IR4.TIF")
/* IDENTIFICATION DATA ELEMENTS */
DATA_SET_ID = "MEX-M-HRSC-4-REFDR-MAPPROJECT-EXT6-V4.0"
DATA_SET_NAME = "MARS EXPRESS HRSC MAP PROJECTED REFDR EXTENSION6 V4.0"
DETECTOR_ID = MEX_HRSC_IR
EVENT_TYPE = "MARS-REGIONAL-MAPPING-Im-Fl-La"
INSTRUMENT_HOST_ID = MEX
INSTRUMENT_HOST_NAME = "MARS EXPRESS"
INSTRUMENT_ID = HRSC
INSTRUMENT_NAME = "HIGH RESOLUTION STEREO CAMERA"
MISSION_NAME = "MARS EXPRESS"
MISSION_PHASE_NAME = ME_Phase_39
PROCESSING_LEVEL_ID = 4
PRODUCT_CREATION_TIME = 2023-01-29T14:35:52.000Z
PRODUCT_ID = "HI778_0000_IR4.TIF"
RELEASE_ID = 0005
REVISION_ID = 0000
/* QUALITY DATA ELEMENTS */
DATA_QUALITY_ID = 1
DATA_QUALITY_DESC = "Data calculated based on original SPICE kernels"
/* TIME DATA ELEMENTS */
SPACECRAFT_CLOCK_START_COUNT = "1/0489414155.25682"
SPACECRAFT_CLOCK_STOP_COUNT = "1/0489414377.15277"
START_TIME = 2018-11-04T12:23:59.761Z
STOP_TIME = 2018-11-04T12:26:42.498Z
/* ORBITAL DATA ELEMENTS */
ASCENDING_NODE_LONGITUDE = 221.88
MAXIMUM_RESOLUTION = 0.0541
FOOTPRINT_POINT_LATITUDE = (-25.0417,-25.0419,-25.0412,-25.0403, -25.0402,-25.0566,-24.8186,-24.5796, -24.341,-23.9864,-23.7488,-23.5125, -23.276,-23.0401,-22.8035,-22.4499, -22.2137,-21.8602,-21.6242,-21.3875, -21.1524,-20.9169,-20.6814,-20.4476, -20.0938,-19.7417,-19.5069,-19.2727, -19.0376,-18.6862,-18.3351,-18.1008, -17.8668,-17.6327,-17.3989,-17.1648, -16.9311,-16.6974,-16.347,-16.1135, -15.8798,-15.5295,-15.1797,-14.9461, -14.5964,-14.3636,-14.0143,-13.7807, -13.4315,-13.3151,-13.3132,-13.3132, -13.313,-13.3118,-13.3117,-13.3127, -13.5457,-13.7785,-14.0115,-14.3609, -14.5952,-14.8275,-15.0609,-15.4109, -15.6443,-15.9945,-16.4623,-16.8127, -17.1629,-17.3971,-17.631,-17.8649, -18.2182,-18.6847,-18.919,-19.1541, -19.3888,-19.623,-19.8577,-20.0939, -20.4457,-20.681,-20.9151,-21.1519, -21.3878,-21.6235,-21.8595,-22.0946, -22.331,-22.5672,-22.8035,-23.158, -23.5115,-23.8698,-24.1072,-24.3439, -24.5781,-24.9348,-25.0537,-25.0417)
FOOTPRINT_POINT_LONGITUDE = (79.8578,79.475,78.9195,78.5488,78.5365 ,78.5258,78.531,78.5365,78.5418,78.5482 ,78.5529,78.5569,78.561,78.5647,78.5687 ,78.574,78.5777,78.5827,78.5862,78.59, 78.5929,78.5959,78.5989,78.6009,78.6056 ,78.6092,78.6116,78.6137,78.6161,78.619 ,78.6217,78.6235,78.6252,78.6268, 78.6282,78.6298,78.6311,78.6323,78.6339 ,78.635,78.6361,78.6376,78.6384,78.6395 ,78.6403,78.6404,78.6405,78.6415, 78.6415,78.6415,78.6416,79.0422,79.3244 ,79.7913,79.8022,79.8058,79.8065, 79.8068,79.8073,79.8079,79.8101,79.8096 ,79.8105,79.8116,79.8124,79.8136, 79.8159,79.817,79.8181,79.8192,79.8202, 79.8211,79.8243,79.8249,79.8259,79.8275 ,79.8287,79.8296,79.8308,79.8328, 79.8343,79.8357,79.8363,79.8386,79.8402 ,79.8416,79.8432,79.8442,79.8459, 79.8475,79.849,79.8512,79.8529,79.8569, 79.8587,79.8601,79.8603,79.8631,79.864, 79.8578)
ORBIT_NUMBER = 18778
ORBITAL_ECCENTRICITY = 0.578
ORBITAL_INCLINATION = 86.96
ORBITAL_SEMIMAJOR_AXIS = 8845.39
PERIAPSIS_ALTITUDE = 337.03
PERIAPSIS_ARGUMENT_ANGLE = 343.37
PERIAPSIS_TIME = 2018-11-04T12:25:46.000Z
SPACECRAFT_ORIENTATION = (0.0,1.0,0.0)
^MEX_ORIENTATION_DESC = "MEX_ORIENTATION_DESC.TXT"
SPACECRAFT_POINTING_MODE = INERT
^MEX_POINTING_DESC = "MEX_POINTING_DESC.TXT"
RIGHT_ASCENSION = 72.129
DECLINATION = 37.37
OFFSET_ANGLE = -1e+32
SPACECRAFT_SOLAR_DISTANCE = 2.09185e+08
TARGET_NAME = MARS
/* CAMERA DATA ELEMENTS */
DETECTOR_TEMPERATURE = 17.351
FOCAL_PLANE_TEMPERATURE = 10.8262
INST_CMPRS_NAME = "DISCRETE COSINE TRANSFORMATION (DCT)"
INST_CMPRS_RATIO = 6.49942
INST_CMPRS_QUALITY = 0
INST_CMPRS_QUANTZ_TBL_ID = 0
INSTRUMENT_TEMPERATURE = 12.6613
LENS_TEMPERATURE = 10.8262
MACROPIXEL_SIZE = 4
MISSING_FRAMES = 0
PIXEL_SUBSAMPLING_FLAG = N
SIGNAL_CHAIN_ID = 2
/* RADIOMETRIC DATA ELEMENTS */
BANDWIDTH = 81.0
CENTER_FILTER_WAVELENGTH = 955.5
RADIANCE_OFFSET = 0.615262
RADIANCE_SCALING_FACTOR = 0.0032745
REFLECTANCE_SCALING_FACTOR = 0.000309124
MEX:REFLECTANCE_OFFSET = 0.0580827
/* IMAGE OBJECT DEFINITIONS */
OBJECT = IMAGE
  INTERCHANGE_FORMAT = BINARY
  LINES = 13930
  LINE_SAMPLES = 1501
  SAMPLE_TYPE = UNSIGNED_INTEGER
  SAMPLE_BITS = 8
  BANDS = 1
  BAND_STORAGE_TYPE = BAND_SEQUENTIAL
  MAXIMUM = 255
  MEAN = 96.3906
  MINIMUM = 1
  STANDARD_DEVIATION = 36.5935
END_OBJECT = IMAGE
/* MAP OBJECT DEFINITIONS */
OBJECT = IMAGE_MAP_PROJECTION
  ^DATA_SET_MAP_PROJECTION_CATALOG= "DSMAP.CAT"
  A_AXIS_RADIUS = 3396.0
  B_AXIS_RADIUS = 3396.0
  C_AXIS_RADIUS = 3396.0
  CENTER_LATITUDE = 0.0
  CENTER_LONGITUDE = 79.0
  COORDINATE_SYSTEM_NAME = PLANETOGRAPHIC
  COORDINATE_SYSTEM_TYPE = "BODY-FIXED ROTATING"
  EASTERNMOST_LONGITUDE = 79.864
  FIRST_STANDARD_PARALLEL = "N/A"
  LINE_FIRST_PIXEL = 1
  LINE_LAST_PIXEL = 13930
  LINE_PROJECTION_OFFSET = -15797.375
  MAP_PROJECTION_ROTATION = 0.0
  MAP_PROJECTION_TYPE = SINUSOIDAL
  MAP_RESOLUTION = 1185.42760773333
  MAP_SCALE = 0.05
  MAXIMUM_LATITUDE = -13.3117
  MINIMUM_LATITUDE = -25.0566
  POSITIVE_LONGITUDE_DIRECTION = EAST
  REFERENCE_LATITUDE = "N/A"
  REFERENCE_LONGITUDE = "N/A"
  SAMPLE_FIRST_PIXEL = 1
  SAMPLE_LAST_PIXEL = 1501
  SAMPLE_PROJECTION_OFFSET = 537.875
  SECOND_STANDARD_PARALLEL = "N/A"
  WESTERNMOST_LONGITUDE = 78.5258
END_OBJECT = IMAGE_MAP_PROJECTION
END
