PDS_VERSION_ID = PDS3
/* FILE DATA ELEMENTS */
RECORD_TYPE = UNDEFINED
/* POINTERS TO DATA OBJECTS */
^IMAGE = ("HI778_0000_RE4.TIF")
/* IDENTIFICATION DATA ELEMENTS */
DATA_SET_ID = "MEX-M-HRSC-4-REFDR-MAPPROJECT-EXT6-V4.0"
DATA_SET_NAME = "MARS EXPRESS HRSC MAP PROJECTED REFDR EXTENSION6 V4.0"
DETECTOR_ID = MEX_HRSC_RED
EVENT_TYPE = "MARS-REGIONAL-MAPPING-Im-Fl-La"
INSTRUMENT_HOST_ID = MEX
INSTRUMENT_HOST_NAME = "MARS EXPRESS"
INSTRUMENT_ID = HRSC
INSTRUMENT_NAME = "HIGH RESOLUTION STEREO CAMERA"
MISSION_NAME = "MARS EXPRESS"
MISSION_PHASE_NAME = ME_Phase_39
PROCESSING_LEVEL_ID = 4
PRODUCT_CREATION_TIME = 2023-01-29T14:35:52.000Z
PRODUCT_ID = "HI778_0000_RE4.TIF"
RELEASE_ID = 0005
REVISION_ID = 0000
/* QUALITY DATA ELEMENTS */
DATA_QUALITY_ID = 1
DATA_QUALITY_DESC = "Data calculated based on original SPICE kernels"
/* TIME DATA ELEMENTS */
SPACECRAFT_CLOCK_START_COUNT = "1/0489414155.25682"
SPACECRAFT_CLOCK_STOP_COUNT = "1/0489414377.15277"
START_TIME = 2018-11-04T12:23:11.825Z
STOP_TIME = 2018-11-04T12:25:55.620Z
/* ORBITAL DATA ELEMENTS */
ASCENDING_NODE_LONGITUDE = 221.88
MAXIMUM_RESOLUTION = 0.0583
FOOTPRINT_POINT_LATITUDE = (-25.1004,-25.1011,-25.0969,-25.0967, -25.0787,-24.6209,-24.2771,-24.0455, -23.5878,-23.2421,-23.0107,-22.7805, -22.4332,-22.087,-21.8553,-21.6247, -21.278,-20.9312,-20.5827,-20.3489, -20.1192,-19.8853,-19.6534,-19.4203, -19.1868,-18.9547,-18.7208,-18.4866, -18.1361,-17.9017,-17.5507,-17.3155, -17.0815,-16.8462,-16.6115,-16.2577, -15.9051,-15.6698,-15.3146,-15.0784, -14.7266,-14.4861,-14.2506,-14.0063, -13.7747,-13.5353,-13.416,-13.3365, -13.3372,-13.3363,-13.34,-13.3337, -13.3336,-13.3345,-13.5724,-13.8119, -14.0498,-14.2882,-14.6373,-14.8798, -15.1162,-15.354,-15.5893,-15.9432, -16.1791,-16.4157,-16.7648,-17.0043, -17.2372,-17.4719,-17.7069,-17.9414, -18.1703,-18.4046,-18.6437,-18.8777, -19.1094,-19.46,-19.6936,-19.9265, -20.1571,-20.391,-20.739,-20.9724, -21.2027,-21.4339,-21.6652,-21.8964, -22.1291,-22.3598,-22.7061,-23.0525, -23.2833,-23.5155,-23.9723,-24.2024, -24.4344,-24.8953,-25.0103,-25.1004)
FOOTPRINT_POINT_LONGITUDE = (79.8535,79.1795,78.5052,78.4924, 78.4816,78.491,78.4977,78.501,78.5098, 78.5152,78.5184,78.5219,78.5265,78.5312 ,78.534,78.5371,78.5414,78.5456,78.549, 78.5508,78.5538,78.5555,78.5577,78.5595 ,78.5611,78.5631,78.5646,78.5659,78.568 ,78.5691,78.571,78.5718,78.5729,78.5736 ,78.5745,78.5752,78.5762,78.5768,78.577 ,78.5772,78.5781,78.5772,78.5775, 78.5758,78.5769,78.5762,78.5759,78.5757 ,78.8261,79.2562,79.5664,79.8421, 79.8541,79.8581,79.8576,79.8567,79.8561 ,79.8554,79.8566,79.8547,79.8544, 79.8538,79.8537,79.8534,79.8531,79.8526 ,79.8535,79.8521,79.8526,79.8525, 79.8523,79.8521,79.8537,79.8537,79.852, 79.852,79.8526,79.8524,79.8524,79.8525, 79.8533,79.853,79.8535,79.8532,79.854, 79.8545,79.8548,79.8552,79.855,79.8555, 79.8561,79.8565,79.8568,79.8565,79.8588 ,79.8592,79.8588,79.859,79.8592, 79.8535)
ORBIT_NUMBER = 18778
ORBITAL_ECCENTRICITY = 0.578
ORBITAL_INCLINATION = 86.96
ORBITAL_SEMIMAJOR_AXIS = 8845.39
PERIAPSIS_ALTITUDE = 337.03
PERIAPSIS_ARGUMENT_ANGLE = 343.37
PERIAPSIS_TIME = 2018-11-04T12:25:46.000Z
SPACECRAFT_ORIENTATION = (0.0,1.0,0.0)
^MEX_ORIENTATION_DESC = "MEX_ORIENTATION_DESC.TXT"
SPACECRAFT_POINTING_MODE = INERT
^MEX_POINTING_DESC = "MEX_POINTING_DESC.TXT"
RIGHT_ASCENSION = 72.129
DECLINATION = 37.37
OFFSET_ANGLE = -1e+32
SPACECRAFT_SOLAR_DISTANCE = 2.09185e+08
TARGET_NAME = MARS
/* CAMERA DATA ELEMENTS */
DETECTOR_TEMPERATURE = 19.7978
FOCAL_PLANE_TEMPERATURE = 10.8262
INST_CMPRS_NAME = "DISCRETE COSINE TRANSFORMATION (DCT)"
INST_CMPRS_RATIO = 11.5455
INST_CMPRS_QUALITY = 0
INST_CMPRS_QUANTZ_TBL_ID = 0
INSTRUMENT_TEMPERATURE = 12.6613
LENS_TEMPERATURE = 10.8262
MACROPIXEL_SIZE = 4
MISSING_FRAMES = 0
PIXEL_SUBSAMPLING_FLAG = N
SIGNAL_CHAIN_ID = 2
/* RADIOMETRIC DATA ELEMENTS */
BANDWIDTH = 48.0
CENTER_FILTER_WAVELENGTH = 748.0
RADIANCE_OFFSET = 0.800556
RADIANCE_SCALING_FACTOR = 0.00317681
REFLECTANCE_SCALING_FACTOR = 0.000317231
MEX:REFLECTANCE_OFFSET = 0.0799423
/* IMAGE OBJECT DEFINITIONS */
OBJECT = IMAGE
  INTERCHANGE_FORMAT = BINARY
  LINES = 13930
  LINE_SAMPLES = 1501
  SAMPLE_TYPE = UNSIGNED_INTEGER
  SAMPLE_BITS = 8
  BANDS = 1
  BAND_STORAGE_TYPE = BAND_SEQUENTIAL
  MAXIMUM = 255
  MEAN = 101.594
  MINIMUM = 1
  STANDARD_DEVIATION = 34.7621
END_OBJECT = IMAGE
/* MAP OBJECT DEFINITIONS */
OBJECT = IMAGE_MAP_PROJECTION
  ^DATA_SET_MAP_PROJECTION_CATALOG= "DSMAP.CAT"
  A_AXIS_RADIUS = 3396.0
  B_AXIS_RADIUS = 3396.0
  C_AXIS_RADIUS = 3396.0
  CENTER_LATITUDE = 0.0
  CENTER_LONGITUDE = 79.0
  COORDINATE_SYSTEM_NAME = PLANETOGRAPHIC
  COORDINATE_SYSTEM_TYPE = "BODY-FIXED ROTATING"
  EASTERNMOST_LONGITUDE = 79.8592
  FIRST_STANDARD_PARALLEL = "N/A"
  LINE_FIRST_PIXEL = 1
  LINE_LAST_PIXEL = 13930
  LINE_PROJECTION_OFFSET = -15797.375
  MAP_PROJECTION_ROTATION = 0.0
  MAP_PROJECTION_TYPE = SINUSOIDAL
  MAP_RESOLUTION = 1185.42760773333
  MAP_SCALE = 0.05
  MAXIMUM_LATITUDE = -13.3336
  MINIMUM_LATITUDE = -25.1011
  POSITIVE_LONGITUDE_DIRECTION = EAST
  REFERENCE_LATITUDE = "N/A"
  REFERENCE_LONGITUDE = "N/A"
  SAMPLE_FIRST_PIXEL = 1
  SAMPLE_LAST_PIXEL = 1501
  SAMPLE_PROJECTION_OFFSET = 537.875
  SECOND_STANDARD_PARALLEL = "N/A"
  WESTERNMOST_LONGITUDE = 78.4816
END_OBJECT = IMAGE_MAP_PROJECTION
END
