PDS_VERSION_ID = PDS3
/* FILE DATA ELEMENTS */
RECORD_TYPE = UNDEFINED
/* POINTERS TO DATA OBJECTS */
^IMAGE = ("HI785_0000_ND4.TIF")
/* IDENTIFICATION DATA ELEMENTS */
DATA_SET_ID = "MEX-M-HRSC-4-REFDR-MAPPROJECT-EXT6-V4.0"
DATA_SET_NAME = "MARS EXPRESS HRSC MAP PROJECTED REFDR EXTENSION6 V4.0"
DETECTOR_ID = MEX_HRSC_NADIR
EVENT_TYPE = "MARS-REGIONAL-MAPPING-Vo-Im-Fl"
INSTRUMENT_HOST_ID = MEX
INSTRUMENT_HOST_NAME = "MARS EXPRESS"
INSTRUMENT_ID = HRSC
INSTRUMENT_NAME = "HIGH RESOLUTION STEREO CAMERA"
MISSION_NAME = "MARS EXPRESS"
MISSION_PHASE_NAME = ME_Phase_39
PROCESSING_LEVEL_ID = 4
PRODUCT_CREATION_TIME = 2023-01-29T14:35:52.000Z
PRODUCT_ID = "HI785_0000_ND4.TIF"
RELEASE_ID = 0005
REVISION_ID = 0000
/* QUALITY DATA ELEMENTS */
DATA_QUALITY_ID = 1
DATA_QUALITY_DESC = "Data calculated based on original SPICE kernels"
/* TIME DATA ELEMENTS */
SPACECRAFT_CLOCK_START_COUNT = "1/0489590105.24886"
SPACECRAFT_CLOCK_STOP_COUNT = "1/0489590354.49884"
START_TIME = 2018-11-06T13:16:06.461Z
STOP_TIME = 2018-11-06T13:19:17.435Z
/* ORBITAL DATA ELEMENTS */
ASCENDING_NODE_LONGITUDE = 221.75
MAXIMUM_RESOLUTION = 0.0134
FOOTPRINT_POINT_LATITUDE = (-28.2239,-28.2042,-28.1857,-28.1662, -28.1656,-28.1702,-27.8965,-27.4864, -27.0765,-26.8029,-26.3926,-25.9826, -25.7092,-25.436,-25.0262,-24.7531, -24.48,-24.2069,-23.9338,-23.6607, -23.3876,-23.1147,-22.8416,-22.5684, -22.2956,-22.0228,-21.7488,-21.4755, -21.0659,-20.5211,-20.1107,-19.8357, -19.5623,-19.2899,-19.0181,-18.7442, -18.4712,-18.1975,-17.7874,-17.5138, -17.1036,-16.8303,-16.5565,-16.2838, -16.0063,-15.7316,-15.324,-15.0491, -14.6374,-14.4991,-14.4871,-14.5024, -14.5243,-14.5374,-14.5378,-14.5383, -14.8127,-15.0871,-15.3617,-15.6363, -15.9106,-16.3187,-16.5958,-17.0061, -17.2797,-17.5531,-17.9634,-18.237, -18.6474,-19.1941,-19.6042,-19.8776, -20.2878,-20.5614,-20.8334,-21.1067, -21.3801,-21.6535,-21.9271,-22.3373, -22.6104,-22.8836,-23.1569,-23.5669, -23.8401,-24.1135,-24.5236,-24.9337, -25.2071,-25.4807,-25.7543,-26.0275, -26.3014,-26.8492,-27.2599,-27.5338, -27.8079,-28.082,-28.219,-28.2239)
FOOTPRINT_POINT_LONGITUDE = (85.8264,85.3073,84.8553,84.4111, 84.3974,84.3923,84.3947,84.3983,84.4018 ,84.4039,84.4068,84.4097,84.4115, 84.4132,84.4158,84.4174,84.4189,84.4204 ,84.4218,84.4232,84.4245,84.4256, 84.4269,84.4281,84.4291,84.43,84.4314, 84.4325,84.4338,84.4348,84.4361,84.4373 ,84.438,84.4383,84.4384,84.4391,84.4394 ,84.44,84.4405,84.4409,84.4413,84.4415, 84.4417,84.4417,84.4427,84.4429,84.4425 ,84.4427,84.4429,84.4431,84.4431, 84.7907,85.316,85.6654,85.678,85.6842, 85.6844,85.6846,85.6843,85.684,85.6842, 85.6913,85.6857,85.6884,85.6901,85.6922 ,85.6949,85.6967,85.6991,85.7041, 85.7077,85.7103,85.7136,85.715,85.724, 85.7275,85.7306,85.7333,85.7344,85.7373 ,85.742,85.7468,85.7506,85.7558,85.7652 ,85.7663,85.7736,85.7816,85.7858,85.792 ,85.7971,85.8,85.8077,85.8209,85.8297, 85.8359,85.8427,85.8491,85.8525, 85.8264)
ORBIT_NUMBER = 18785
ORBITAL_ECCENTRICITY = 0.578
ORBITAL_INCLINATION = 86.96
ORBITAL_SEMIMAJOR_AXIS = 8844.55
PERIAPSIS_ALTITUDE = 336.44
PERIAPSIS_ARGUMENT_ANGLE = 342.15
PERIAPSIS_TIME = 2018-11-06T13:18:40.000Z
SPACECRAFT_ORIENTATION = (0.0,1.0,0.0)
^MEX_ORIENTATION_DESC = "MEX_ORIENTATION_DESC.TXT"
SPACECRAFT_POINTING_MODE = INERT
^MEX_POINTING_DESC = "MEX_POINTING_DESC.TXT"
RIGHT_ASCENSION = 71.068
DECLINATION = 38.226
OFFSET_ANGLE = -1e+32
SPACECRAFT_SOLAR_DISTANCE = 2.09392e+08
TARGET_NAME = MARS
/* CAMERA DATA ELEMENTS */
DETECTOR_TEMPERATURE = 19.39
FOCAL_PLANE_TEMPERATURE = 11.8457
INST_CMPRS_NAME = "DISCRETE COSINE TRANSFORMATION (DCT)"
INST_CMPRS_RATIO = 6.25248
INST_CMPRS_QUALITY = 0
INST_CMPRS_QUANTZ_TBL_ID = 0
INSTRUMENT_TEMPERATURE = 13.0691
LENS_TEMPERATURE = 12.0496
MACROPIXEL_SIZE = 1
MISSING_FRAMES = 0
PIXEL_SUBSAMPLING_FLAG = N
SIGNAL_CHAIN_ID = 0
/* RADIOMETRIC DATA ELEMENTS */
BANDWIDTH = 177.0
CENTER_FILTER_WAVELENGTH = 677.5
RADIANCE_OFFSET = 2.51426
RADIANCE_SCALING_FACTOR = 0.0128937
REFLECTANCE_SCALING_FACTOR = 0.000300317
MEX:REFLECTANCE_OFFSET = 0.0585619
/* IMAGE OBJECT DEFINITIONS */
OBJECT = IMAGE
  INTERCHANGE_FORMAT = BINARY
  LINES = 65166
  LINE_SAMPLES = 6119
  SAMPLE_TYPE = UNSIGNED_INTEGER
  SAMPLE_BITS = 8
  BANDS = 1
  BAND_STORAGE_TYPE = BAND_SEQUENTIAL
  MAXIMUM = 255
  MEAN = 117.26
  MINIMUM = 1
  STANDARD_DEVIATION = 28.7732
END_OBJECT = IMAGE
/* MAP OBJECT DEFINITIONS */
OBJECT = IMAGE_MAP_PROJECTION
  ^DATA_SET_MAP_PROJECTION_CATALOG= "DSMAP.CAT"
  A_AXIS_RADIUS = 3396.0
  B_AXIS_RADIUS = 3396.0
  C_AXIS_RADIUS = 3396.0
  CENTER_LATITUDE = 0.0
  CENTER_LONGITUDE = 85.0
  COORDINATE_SYSTEM_NAME = PLANETOGRAPHIC
  COORDINATE_SYSTEM_TYPE = "BODY-FIXED ROTATING"
  EASTERNMOST_LONGITUDE = 85.85250000000001
  FIRST_STANDARD_PARALLEL = "N/A"
  LINE_FIRST_PIXEL = 1
  LINE_LAST_PIXEL = 65166
  LINE_PROJECTION_OFFSET = -68698.0
  MAP_PROJECTION_ROTATION = 0.0
  MAP_PROJECTION_TYPE = SINUSOIDAL
  MAP_RESOLUTION = 4741.71043093333
  MAP_SCALE = 0.0125
  MAXIMUM_LATITUDE = -14.4871
  MINIMUM_LATITUDE = -28.2239
  POSITIVE_LONGITUDE_DIRECTION = EAST
  REFERENCE_LATITUDE = "N/A"
  REFERENCE_LONGITUDE = "N/A"
  SAMPLE_FIRST_PIXEL = 1
  SAMPLE_LAST_PIXEL = 6119
  SAMPLE_PROJECTION_OFFSET = 2556.0
  SECOND_STANDARD_PARALLEL = "N/A"
  WESTERNMOST_LONGITUDE = 84.39230000000001
END_OBJECT = IMAGE_MAP_PROJECTION
END
